Workbook

Sheet  TARIFA 26.4
A1: Texto en azul para artículos que estarán disponibles hasta final de existencias | D1: #VALUE!
A2: CÓDIGO FAMILIA | B2: DESCRIPCIÓN FAMILIA | C2: REFERENCIA ARTÍCULO | D2: CÓDIGO ARTÍCULO | E2: DESCRIPCIÓN ARTÍCULO | F2: UNIDAD MEDIDA INVENTARIO (U.M.I.) | G2: CANTIDAD U.M.I. | H2: EAN (CANTIDAD U.M.I.) | I2: PVP 26.4 (€/U.M.I.) | J2: UNIDAD VENTA 1 | K2: CANTIDAD U.V.1 | L2: EAN (U.V.1) | M2: UNIDAD VENTA 2 | N2: CANTIDAD U.V.2 | O2: EAN (U.V.2) | P2: UNIDAD VENTA 3 | Q2: CANTIDAD U.V.3 | R2: EAN (U.V.3)
A3: 01 | B3: SISTEMAS SUELO RADIANTE | C3: CVT1618 | D3: 14000001 | E3: CURVATUBO 16-18 | F3: UNIDAD | G3: 1 | I3: 2.24 | M3: CAJA | N3: 25 | O3: 8436031826418 | P3: CARTÓN | Q3: 200 | R3: 28436031826412
A4: 01 | B4: SISTEMAS SUELO RADIANTE | C4: CVT20 | D4: 14000002 | E4: CURVATUBO 20 | F4: UNIDAD | G4: 1 | I4: 2.9 | M4: CAJA | N4: 25 | O4: 8436031826425 | P4: CARTÓN | Q4: 100 | R4: 28436031826429
A5: 01 | B5: SISTEMAS SUELO RADIANTE | C5: CVT2526 | D5: 14000003 | E5: CURVATUBO 25-26 | F5: UNIDAD | G5: 1 | I5: 7.15 | M5: CAJA | N5: 25 | O5: 8436031826432 | P5: CARTÓN | Q5: 100 | R5: 28436031826436
A6: 01 | B6: SISTEMAS SUELO RADIANTE | C6: RGACTEL | D6: 14000004 | E6: CABEZAL ELECTROTERMICO 230 V 2 HILOS | F6: UNIDAD | G6: 1 | H6: 8436031825398 | I6: 50.22 | M6: CAJA | N6: 1 | O6: 8436031825398 | P6: CARTÓN | Q6: 8 | R6: 28436031825392
A7: 01 | B7: SISTEMAS SUELO RADIANTE | C7: RGACTEL24 | D7: 14000005 | E7: CABEZAL ELECTROTERMICO 24 V 2 HILOS | F7: UNIDAD | G7: 1 | H7: 8436031822809 | I7: 50.22 | M7: CAJA | N7: 1 | O7: 8436031822809 | P7: CARTÓN | Q7: 10 | R7: 28436031822803
A8: 01 | B8: SISTEMAS SUELO RADIANTE | C8: RGACTEL4H | D8: 14000006 | E8: CABEZAL ELECTROTERMICO 230 V 4 HILOS | F8: UNIDAD | G8: 1 | H8: 8436031825695 | I8: 70.34 | M8: CAJA | N8: 1 | O8: 8436031825695 | P8: CARTÓN | Q8: 10 | R8: 28436031825699
A9: 01 | B9: SISTEMAS SUELO RADIANTE | C9: RGACTEL4H24 | D9: 14000007 | E9: CABEZAL ELECTROTERMICO 24 V 4 HILOS | F9: UNIDAD | G9: 1 | H9: 8436031828122 | I9: 70.34 | M9: CAJA | N9: 1 | O9: 8436031828122 | P9: CARTÓN | Q9: 10 | R9: 28436031828126
A10: 01 | B10: SISTEMAS SUELO RADIANTE | C10: SRADITIVO | D10: 14000020 | E10: BIDON 25 LT. ADITIVO MORTERO | F10: UNIDAD | G10: 1 | H10: 8436031828443 | I10: 161.91 | M10: BIDON | N10: 1 | O10: 8436031828443 | P10: PALET | Q10: 32 | R10: 38436031828444
A11: 01 | B11: SISTEMAS SUELO RADIANTE | C11: SRADMC16 | D11: 14000021 | E11: EUROCONO 3/4" PARA TUBO MULTICAPA 16 MM. | F11: UNIDAD | G11: 1 | H11: 8436031828290 | I11: 6.64 | M11: CAJA | N11: 5 | O11: 8435447427806 | P11: CARTÓN | Q11: 240 | R11: 28436031828294
A12: 01 | B12: SISTEMAS SUELO RADIANTE | C12: SRADMC20 | D12: 14000022 | E12: EUROCONO 3/4" PARA TUBO MULTICAPA 20 MM. | F12: UNIDAD | G12: 1 | H12: 8436031822823 | I12: 6.82 | M12: CAJA | N12: 5 | O12: 8435447427813 | P12: CARTÓN | Q12: 240 | R12: 28436031822827
A13: 01 | B13: SISTEMAS SUELO RADIANTE | C13: SRADPEX16 | D13: 14000023 | E13: EUROCONO 3/4" PARA TUBO PEX 16 MM. | F13: UNIDAD | G13: 1 | H13: 8436031828283 | I13: 5.65 | M13: CAJA | N13: 5 | O13: 8435447427783 | P13: CARTÓN | Q13: 240 | R13: 28436031828287
A14: 01 | B14: SISTEMAS SUELO RADIANTE | C14: SRADPEX20 | D14: 14000024 | E14: EUROCONO 3/4" PARA TUBO PEX 20 MM. | F14: UNIDAD | G14: 1 | H14: 8436031822830 | I14: 6.82 | M14: CAJA | N14: 5 | O14: 8435447427790 | P14: CARTÓN | Q14: 240 | R14: 28436031822834
A15: 01 | B15: SISTEMAS SUELO RADIANTE | C15: SRBP | D15: 14000025 | E15: ROLLO 50 M.L. BANDA PERIMETRAL CON FALDON Y ADHESIVO | F15: UNIDAD | G15: 1 | H15: 8436031828450 | I15: 122.18 | M15: BOLSA | N15: 5 | O15: 28436031828454 | P15: PALET | Q15: 30 | R15: 38436031828451
A16: 01 | B16: SISTEMAS SUELO RADIANTE | C16: SRBYPASS | D16: 14000026 | E16: BYPASS COLECTOR COMPACT PLUS | F16: UNIDAD | G16: 1 | H16: 8435447406016 | I16: 199.42 | M16: CAJA | N16: 1 | O16: 8435447406016
A17: 01 | B17: SISTEMAS SUELO RADIANTE | C17: SRCC1030 | D17: 14000027 | E17: CAJA COMPACTBOX PARA COLECTORES DE 13 A 16 SALIDAS 1030 / 705-805 / 80-100 | F17: UNIDAD | G17: 1 | H17: 8435447409406 | I17: 403.59 | M17: CAJA | N17: 1 | O17: 8435447409406
A18: 01 | B18: SISTEMAS SUELO RADIANTE | C18: SRCC450 | D18: 14000028 | E18: C.COMPACTBOX COLECTORES DE 2 A 4 SALIDAS 450 / 705-805 / 80-100 | F18: UNIDAD | G18: 1 | H18: 8435447409369 | I18: 232.76 | M18: CAJA | N18: 1 | O18: 8435447409369
A19: 01 | B19: SISTEMAS SUELO RADIANTE | C19: SRCC530 | D19: 14000029 | E19: C.COMPACTBOX COLECT. DE 5 A 6 SALIDAS 530 / 705-805 / 80-100 | F19: UNIDAD | G19: 1 | H19: 8435447409376 | I19: 253.74 | M19: CAJA | N19: 1 | O19: 8435447409376
A20: 01 | B20: SISTEMAS SUELO RADIANTE | C20: SRCC680 | D20: 14000030 | E20: C.COMPACTBOX COLECT. DE 7 A 10 SALIDAS 680 / 705-805 / 80-100 | F20: UNIDAD | G20: 1 | H20: 8435447409383 | I20: 298.61 | M20: CAJA | N20: 1 | O20: 8435447409383
A21: 01 | B21: SISTEMAS SUELO RADIANTE | C21: SRCC830 | D21: 14000031 | E21: C.COMPACTBOX COLECT. DE 11 A 12 SALIDAS 830 / 705-805 / 80-100 | F21: UNIDAD | G21: 1 | H21: 8435447409390 | I21: 330.66 | M21: CAJA | N21: 1 | O21: 8435447409390
A22: 01 | B22: SISTEMAS SUELO RADIANTE | C22: SRCCMP530 | D22: 14000107 | E22: MARCO CON TAPA COMPACTBOX DE 5 A 6 SALIDAS 530 / 755-855 | F22: UNIDAD | G22: 1 | H22: 8435447429497 | I22: 89.87 | M22: CAJA | N22: 1 | O22: 8435447429497
A23: 01 | B23: SISTEMAS SUELO RADIANTE | C23: SRCCMP680 | D23: 14000108 | E23: MARCO CON TAPA COMPACTBOX DE 7 A 10 SALIDAS 680 / 755-855 | F23: UNIDAD | G23: 1 | H23: 8435447429503 | I23: 112.37 | M23: CAJA | N23: 1 | O23: 8435447429503
A24: 01 | B24: SISTEMAS SUELO RADIANTE | C24: SRCCMP830 | D24: 14000109 | E24: MARCO CON TAPA COMPACTBOX DE 11 A 12 SALIDAS 830 / 755-855 | F24: UNIDAD | G24: 1 | H24: 8435447429510 | I24: 146.75 | M24: CAJA | N24: 1 | O24: 8435447429510
A25: 01 | B25: SISTEMAS SUELO RADIANTE | C25: SRCCMP1030 | D25: 14000110 | E25: MARCO CON TAPA COMPACTBOX DE 13 A 16 SALIDAS 1030 / 755-855 | F25: UNIDAD | G25: 1 | H25: 8435447429527 | I25: 158.68 | M25: CAJA | N25: 1 | O25: 8435447429527
A26: 01 | B26: SISTEMAS SUELO RADIANTE | C26: SRCCONX | D26: 14000032 | E26: CONJUNTO CODOS CONEXION COLECTOR COMPACT PLUS | F26: UNIDAD | G26: 1 | H26: 8435447406023 | I26: 86.42 | M26: CAJA | N26: 1 | O26: 8435447406023
A27: 01 | B27: SISTEMAS SUELO RADIANTE | C27: SRCI1030 | D27: 14000033 | E27: CAJA INDUSTRIALBOX PARA COLECTORES DE 12 A 13 SALIDAS 1030 / 705-805 / 110-160 | F27: UNIDAD | G27: 1 | H27: 8435447409451 | I27: 470.55 | M27: CAJA | N27: 1 | O27: 8435447409451
... A35: 01 | B35: SISTEMAS SUELO RADIANTE | C35: SRGRP | D35: 14000041 | E35: GRAPADORA UNIVERSAL DE ALUMINIO PARA SUELO RADIANTE | F35: UNIDAD | G35: 1 | H35: 8436031824728 | I35: 550.29 | M35: CAJA | N35: 1 | O35: 8436031824728
A36: 01 | B36: SISTEMAS SUELO RADIANTE | C36: SRGRP40 | D36: 14000042 | E36: GRAPA 40MM. PARA SUELO (LOTE 300 UDS.) | F36: UNIDAD | G36: 1 | H36: 8436031824735 | I36: 30.61 | M36: CAJA | N36: 1 | O36: 8436031824735 | P36: CARTÓN | Q36: 28 | R36: 28436031824739
A37: 01 | B37: SISTEMAS SUELO RADIANTE | C37: SRGRPML | D37: 14000043 | E37: GRAPA FIJACION PARA MALLAZO | F37: UNIDAD | G37: 1 | I37: 1.21 | M37: CARRIL | N37: 8 | O37: 8436031824742 | P37: CARTÓN | Q37: 400 | R37: 28436031824746
A38: 01 | B38: SISTEMAS SUELO RADIANTE | C38: SRJD | D38: 14000044 | E38: JUNTA DILATACION LONGITUD 2 METROS | F38: UNIDAD | G38: 1 | H38: 8436031828092 | I38: 25.95 | M38: CAJA | N38: 1 | O38: 8436031828092
A39: 01 | B39: SISTEMAS SUELO RADIANTE | C39: SRKC3 | D39: 14000045 | E39: KIT COMPACT PLUS COMPLETO 1" 3+3 | F39: UNIDAD | G39: 1 | H39: 8436031825459 | I39: 488.16 | M39: CAJA | N39: 1 | O39: 8436031825459
A40: 01 | B40: SISTEMAS SUELO RADIANTE | C40: SRKC4 | D40: 14000046 | E40: KIT COMPACT PLUS COMPLETO 1" 4+4 | F40: UNIDAD | G40: 1 | H40: 8436031825633 | I40: 564.74 | M40: CAJA | N40: 1 | O40: 8436031825633
A41: 01 | B41: SISTEMAS SUELO RADIANTE | C41: SRKC5 | D41: 14000047 | E41: KIT COMPACT PLUS COMPLETO 1" 5+5 | F41: UNIDAD | G41: 1 | H41: 8436031825640 | I41: 622.17 | M41: CAJA | N41: 1 | O41: 8436031825640
A42: 01 | B42: SISTEMAS SUELO RADIANTE | C42: SRKC6 | D42: 14000048 | E42: KIT COMPACT PLUS COMPLETO 1" 6+6 | F42: UNIDAD | G42: 1 | H42: 8436031825657 | I42: 670.03 | M42: CAJA | N42: 1 | O42: 8436031825657
A43: 01 | B43: SISTEMAS SUELO RADIANTE | C43: SRKC7 | D43: 14000049 | E43: KIT COMPACT PLUS COMPLETO 1" 7+7 | F43: UNIDAD | G43: 1 | H43: 8436031825664 | I43: 775.32 | M43: CAJA | N43: 1 | O43: 8436031825664
A44: 01 | B44: SISTEMAS SUELO RADIANTE | C44: SRKC8 | D44: 14000050 | E44: KIT COMPACT PLUS COMPLETO 1" 8+8 | F44: UNIDAD | G44: 1 | H44: 8436031825671 | I44: 832.76 | M44: CAJA | N44: 1 | O44: 8436031825671
A45: 01 | B45: SISTEMAS SUELO RADIANTE | C45: SRKC9 | D45: 14000051 | E45: KIT COMPACT PLUS COMPLETO 1" 9+9 | F45: UNIDAD | G45: 1 | H45: 8436031825688 | I45: 890.19 | M45: CAJA | N45: 1 | O45: 8436031825688
A46: 01 | B46: SISTEMAS SUELO RADIANTE | C46: SRKC10 | D46: 14000052 | E46: KIT COMPACT PLUS COMPLETO 1" 10+10 | F46: UNIDAD | G46: 1 | H46: 8436031828160 | I46: 947.62 | M46: CAJA | N46: 1 | O46: 8436031828160
A47: 01 | B47: SISTEMAS SUELO RADIANTE | C47: SRKC11 | D47: 14000053 | E47: KIT COMPACT PLUS COMPLETO 1" 11+11 | F47: UNIDAD | G47: 1 | H47: 8436031828177 | I47: 1052.91 | M47: CAJA | N47: 1 | O47: 8436031828177
...

Sheet 01.Suelo Radiante
A1: Texto en azul para artículos que estarán disponibles hasta final de existencias | E1: #VALUE!
A2: CÓDIGO FAMILIA | B2: DESCRIPCIÓN FAMILIA | C2: IMAGEN | D2: REFERENCIA ARTÍCULO | E2: CÓDIGO ARTÍCULO | F2: DESCRIPCIÓN ARTÍCULO | G2: UNIDAD MEDIDA INVENTARIO (U.M.I.) | H2: CANTIDAD U.M.I. | I2: EAN (CANTIDAD U.M.I.) | J2: PVP 26.4 (€/U.M.I.) | K2: UNIDAD VENTA 1 | L2: CANTIDAD U.V.1 | M2: EAN (U.V.1) | N2: UNIDAD VENTA 2 | O2: CANTIDAD U.V.2 | P2: EAN (U.V.2) | Q2: UNIDAD VENTA 3 | R2: CANTIDAD U.V.3 | S2: EAN (U.V.3)
A3: 01 | B3: SISTEMAS SUELO RADIANTE | C3: #VALUE! | D3: SRPG23K | E3: 14000078 | F3: PANEL 10 m2. GRAFIKLETT AUTOFICACION EPS-150 23 mm (10 m2/ROLLO) | G3: ROLLO | H3: 1 | I3: 8435447410143 | J3: =VLOOKUP(E3,' TARIFA 26.4'!$D$3:$I$20004,6,FALSE) -> 359.61 | N3: BOLSA | O3: 1 | P3: 8435447410143 | Q3: PALET | R3: 8 | S3: 38435447410144
A4: 01 | B4: SISTEMAS SUELO RADIANTE | C4: #VALUE! | D4: SRPG38K | E4: 14000080 | F4: PANEL 8 m2. GRAFIKLETT AUTOFICACION EPS-100 38 mm (8 m2/ROLLO) | G4: ROLLO | H4: 1 | I4: 8435447410150 | J4: =VLOOKUP(E4,' TARIFA 26.4'!$D$3:$I$20004,6,FALSE) -> 400.21 | N4: BOLSA | O4: 1 | P4: 8435447410150 | Q4: PALET | R4: 7 | S4: 38435447410151
A5: 01 | B5: SISTEMAS SUELO RADIANTE | C5: #VALUE! | D5: SRSLT23 | E5: 14000093 | F5: PANEL SLIMTAC23 TERMOCONFORMADO 1450x850x23 mm (16 PLACAS) | G5: UNIDAD | H5: 1 | J5: =VLOOKUP(E5,' TARIFA 26.4'!$D$3:$I$20004,6,FALSE) -> 46.1 | N5: CAJA | O5: 16 | P5: 8435447416961 | Q5: PALET | R5: 80 | S5: 38435447416962
A6: 01 | B6: SISTEMAS SUELO RADIANTE | C6: #VALUE! | D6: SRSLT38 | E6: 14000094 | F6: PANEL SLIMTAC38 TERMOCONFORMADO 1450x850x38 mm (11 PLACAS) | G6: UNIDAD | H6: 1 | J6: =VLOOKUP(E6,' TARIFA 26.4'!$D$3:$I$20004,6,FALSE) -> 60 | N6: CAJA | O6: 11 | P6: 8435447416978 | Q6: PALET | R6: 55 | S6: 38435447416979
A7: 01 | B7: SISTEMAS SUELO RADIANTE | C7: #VALUE! | D7: SRPG23T | E7: 14000077 | F7: PANEL AISL.GRAFIPLAC TERMOCONF 23 kg./m3 1450x850x23 mm (1,233 m2/PLACA) | G7: UNIDAD | H7: 1 | J7: =VLOOKUP(E7,' TARIFA 26.4'!$D$3:$I$20004,6,FALSE) -> 48.53 | N7: CAJA | O7: 14 | P7: 8435447411355 | Q7: PALET | R7: 70 | S7: 38435447411356
A8: 01 | B8: SISTEMAS SUELO RADIANTE | C8: #VALUE! | D8: SRPG38T | E8: 14000079 | F8: PANEL AISL.GRAFIPLAC TERMOCONF 23 kg./m3 1450x850x38 mm (1,233 m2/PLACA) | G8: UNIDAD | H8: 1 | J8: =VLOOKUP(E8,' TARIFA 26.4'!$D$3:$I$20004,6,FALSE) -> 63.12 | N8: CAJA | O8: 10 | P8: 8435447411362 | Q8: PALET | R8: 50 | S8: 38435447411363
A9: 01 | B9: SISTEMAS SUELO RADIANTE | C9: #VALUE! | D9: SRPB5T | E9: 14000090 | F9: PANEL AISLANTE TERMOCONFORMADO MINI BASE 5 mm (1,233m2/PLACA) | G9: UNIDAD | H9: 1 | J9: =VLOOKUP(E9,' TARIFA 26.4'!$D$3:$I$20004,6,FALSE) -> 37.27 | N9: CAJA | O9: 12 | P9: 8435447414578 | Q9: PALET | R9: 120 | S9: 38435447414579
A10: 01 | B10: SISTEMAS SUELO RADIANTE | C10: #VALUE! | D10: SRPB10T | E10: 14000073 | F10: PLACA PANEL AISLANTE TERMOCONFORMADO MINI 30 kg./m3 1450x850x10 mm (1,233m2/PLACA) | G10: UNIDAD | H10: 1 | J10: =VLOOKUP(E10,' TARIFA 26.4'!$D$3:$I$20004,6,FALSE) -> 39.72 | N10: CAJA | O10: 24 | P10: 8436031825404 | Q10: PALET | R10: 120 | S10: 38436031825405
A11: 01 | B11: SISTEMAS SUELO RADIANTE | C11: #VALUE! | D11: SRPB30G | E11: 14000075 | F11: PANEL 10 m2. LISO TERMICO CON GEOTEXTIL EPS-100 30 mm (10 m2 ROLLO) | G11: ROLLO | H11: 1 | I11: 8435447407624 | J11: =VLOOKUP(E11,' TARIFA 26.4'!$D$3:$I$20004,6,FALSE) -> 348 | N11: BOLSA | O11: 1 | P11: 8435447407624 | Q11: PALET | R11: 7 | S11: 38435447407625
A12: 01 | B12: SISTEMAS SUELO RADIANTE | C12: #VALUE! | D12: SRBP | E12: 14000025 | F12: ROLLO 50 M.L. BANDA PERIMETRAL CON FALDON Y ADHESIVO | G12: UNIDAD | H12: 1 | I12: 8436031828450 | J12: =VLOOKUP(E12,' TARIFA 26.4'!$D$3:$I$20004,6,FALSE) -> 122.18 | N12: BOLSA | O12: 5 | P12: 28436031828454 | Q12: PALET | R12: 30 | S12: 38436031828451
A13: 01 | B13: SISTEMAS SUELO RADIANTE | C13: #VALUE! | D13: SRKC3 | E13: 14000045 | F13: KIT COMPACT PLUS COMPLETO 1" 3+3 | G13: UNIDAD | H13: 1 | I13: 8436031825459 | J13: =VLOOKUP(E13,' TARIFA 26.4'!$D$3:$I$20004,6,FALSE) -> 488.16 | N13: CAJA | O13: 1 | P13: 8436031825459
A14: 01 | B14: SISTEMAS SUELO RADIANTE | D14: SRKC4 | E14: 14000046 | F14: KIT COMPACT PLUS COMPLETO 1" 4+4 | G14: UNIDAD | H14: 1 | I14: 8436031825633 | J14: =VLOOKUP(E14,' TARIFA 26.4'!$D$3:$I$20004,6,FALSE) -> 564.74 | N14: CAJA | O14: 1 | P14: 8436031825633
A15: 01 | B15: SISTEMAS SUELO RADIANTE | D15: SRKC5 | E15: 14000047 | F15: KIT COMPACT PLUS COMPLETO 1" 5+5 | G15: UNIDAD | H15: 1 | I15: 8436031825640 | J15: =VLOOKUP(E15,' TARIFA 26.4'!$D$3:$I$20004,6,FALSE) -> 622.17 | N15: CAJA | O15: 1 | P15: 8436031825640
A16: 01 | B16: SISTEMAS SUELO RADIANTE | D16: SRKC6 | E16: 14000048 | F16: KIT COMPACT PLUS COMPLETO 1" 6+6 | G16: UNIDAD | H16: 1 | I16: 8436031825657 | J16: =VLOOKUP(E16,' TARIFA 26.4'!$D$3:$I$20004,6,FALSE) -> 670.03 | N16: CAJA | O16: 1 | P16: 8436031825657
A17: 01 | B17: SISTEMAS SUELO RADIANTE | D17: SRKC7 | E17: 14000049 | F17: KIT COMPACT PLUS COMPLETO 1" 7+7 | G17: UNIDAD | H17: 1 | I17: 8436031825664 | J17: =VLOOKUP(E17,' TARIFA 26.4'!$D$3:$I$20004,6,FALSE) -> 775.32 | N17: CAJA | O17: 1 | P17: 8436031825664
A18: 01 | B18: SISTEMAS SUELO RADIANTE | D18: SRKC8 | E18: 14000050 | F18: KIT COMPACT PLUS COMPLETO 1" 8+8 | G18: UNIDAD | H18: 1 | I18: 8436031825671 | J18: =VLOOKUP(E18,' TARIFA 26.4'!$D$3:$I$20004,6,FALSE) -> 832.76 | N18: CAJA | O18: 1 | P18: 8436031825671
A19: 01 | B19: SISTEMAS SUELO RADIANTE | D19: SRKC9 | E19: 14000051 | F19: KIT COMPACT PLUS COMPLETO 1" 9+9 | G19: UNIDAD | H19: 1 | I19: 8436031825688 | J19: =VLOOKUP(E19,' TARIFA 26.4'!$D$3:$I$20004,6,FALSE) -> 890.19 | N19: CAJA | O19: 1 | P19: 8436031825688
A20: 01 | B20: SISTEMAS SUELO RADIANTE | D20: SRKC10 | E20: 14000052 | F20: KIT COMPACT PLUS COMPLETO 1" 10+10 | G20: UNIDAD | H20: 1 | I20: 8436031828160 | J20: =VLOOKUP(E20,' TARIFA 26.4'!$D$3:$I$20004,6,FALSE) -> 947.62 | N20: CAJA | O20: 1 | P20: 8436031828160
A21: 01 | B21: SISTEMAS SUELO RADIANTE | D21: SRKC11 | E21: 14000053 | F21: KIT COMPACT PLUS COMPLETO 1" 11+11 | G21: UNIDAD | H21: 1 | I21: 8436031828177 | J21: =VLOOKUP(E21,' TARIFA 26.4'!$D$3:$I$20004,6,FALSE) -> 1052.91 | N21: CAJA | O21: 1 | P21: 8436031828177
A22: 01 | B22: SISTEMAS SUELO RADIANTE | D22: SRKC12 | E22: 14000054 | F22: KIT COMPACT PLUS COMPLETO 1" 12+12 | G22: UNIDAD | H22: 1 | I22: 8436031828184 | J22: =VLOOKUP(E22,' TARIFA 26.4'!$D$3:$I$20004,6,FALSE) -> 1100.76 | N22: CAJA | O22: 1 | P22: 8436031828184
A23: 01 | B23: SISTEMAS SUELO RADIANTE | C23: #VALUE! | D23: SRADPEX16 | E23: 14000023 | F23: EUROCONO 3/4" PARA TUBO PEX 16 MM. | G23: UNIDAD | H23: 1 | I23: 8436031828283 | J23: =VLOOKUP(E23,' TARIFA 26.4'!$D$3:$I$20004,6,FALSE) -> 5.65 | N23: CAJA | O23: 5 | P23: 8435447427783 | Q23: CARTÓN | R23: 240 | S23: 28436031828287
A24: 01 | B24: SISTEMAS SUELO RADIANTE | D24: SRADPEX20 | E24: 14000024 | F24: EUROCONO 3/4" PARA TUBO PEX 20 MM. | G24: UNIDAD | H24: 1 | I24: 8436031822830 | J24: =VLOOKUP(E24,' TARIFA 26.4'!$D$3:$I$20004,6,FALSE) -> 6.82 | N24: CAJA | O24: 5 | P24: 8435447427790 | Q24: CARTÓN | R24: 240 | S24: 28436031822834
A25: 01 | B25: SISTEMAS SUELO RADIANTE | D25: SRADMC16 | E25: 14000021 | F25: EUROCONO 3/4" PARA TUBO MULTICAPA 16 MM. | G25: UNIDAD | H25: 1 | I25: 8436031828290 | J25: =VLOOKUP(E25,' TARIFA 26.4'!$D$3:$I$20004,6,FALSE) -> 6.64 | N25: CAJA | O25: 5 | P25: 8435447427806 | Q25: CARTÓN | R25: 240 | S25: 28436031828294
A26: 01 | B26: SISTEMAS SUELO RADIANTE | D26: SRADMC20 | E26: 14000022 | F26: EUROCONO 3/4" PARA TUBO MULTICAPA 20 MM. | G26: UNIDAD | H26: 1 | I26: 8436031822823 | J26: =VLOOKUP(E26,' TARIFA 26.4'!$D$3:$I$20004,6,FALSE) -> 6.82 | N26: CAJA | O26: 5 | P26: 8435447427813 | Q26: CARTÓN | R26: 240 | S26: 28436031822827
A27: 01 | B27: SISTEMAS SUELO RADIANTE | C27: #VALUE! | D27: SRKITCP1 | E27: 14000065 | F27: KIT COLECTOR COMPLETO 1" COMPACT PLUS | G27: UNIDAD | H27: 1 | I27: 8436031826715 | J27: =VLOOKUP(E27,' TARIFA 26.4'!$D$3:$I$20004,6,FALSE) -> 246.95 | N27: CAJA | O27: 1 | P27: 8436031826715
A28: 01 | B28: SISTEMAS SUELO RADIANTE | C28: #VALUE! | D28: SRMBCP1 | E28: 14000070 | F28: CONJ.COL. 1 SALIDA COMPACT PLUS 1" IMPULSION+RETORNO | G28: UNIDAD | H28: 1 | I28: 8436031825107 | J28: =VLOOKUP(E28,' TARIFA 26.4'!$D$3:$I$20004,6,FALSE) -> 91.94 | N28: CAJA | O28: 1 | P28: 8436031825107
A29: 01 | B29: SISTEMAS SUELO RADIANTE | D29: SRMBCP3 | E29: 14000071 | F29: CONJ.COL. 3 SALIDAS COMPACT PLUS 1" IMPULSION+RETORNO | G29: UNIDAD | H29: 1 | I29: 8436031825114 | J29: =VLOOKUP(E29,' TARIFA 26.4'!$D$3:$I$20004,6,FALSE) -> 256.39 | N29: CAJA | O29: 1 | P29: 8436031825114
A30: 01 | B30: SISTEMAS SUELO RADIANTE | D30: SRMBCP6 | E30: 14000072 | F30: CONJ.COL. 6 SALIDAS COMPACT PLUS 1" IMPULSION+RETORNO | G30: UNIDAD | H30: 1 | I30: 8436031825121 | J30: =VLOOKUP(E30,' TARIFA 26.4'!$D$3:$I$20004,6,FALSE) -> 485.24 | N30: CAJA | O30: 1 | P30: 8436031825121
A31: 01 | B31: SISTEMAS SUELO RADIANTE | C31: #VALUE! | D31: SRBYPASS | E31: 14000026 | F31: BYPASS COLECTOR COMPACT PLUS | G31: UNIDAD | H31: 1 | I31: 8435447406016 | J31: =VLOOKUP(E31,' TARIFA 26.4'!$D$3:$I$20004,6,FALSE) -> 199.42 | N31: CAJA | O31: 1 | P31: 8435447406016
A32: 01 | B32: SISTEMAS SUELO RADIANTE | C32: #VALUE! | D32: SRCCONX | E32: 14000032 | F32: CONJUNTO CODOS CONEXION COLECTOR COMPACT PLUS | G32: UNIDAD | H32: 1 | I32: 8435447406023 | J32: =VLOOKUP(E32,' TARIFA 26.4'!$D$3:$I$20004,6,FALSE) -> 86.42 | N32: CAJA | O32: 1 | P32: 8435447406023
A33: 01 | B33: SISTEMAS SUELO RADIANTE | C33: #VALUE! | D33: SRKITTMTR | E33: 14000067 | F33: KIT TERMOMETROS COMPACT PLUS | G33: UNIDAD | H33: 1 | I33: 8436031825305 | J33: =VLOOKUP(E33,' TARIFA 26.4'!$D$3:$I$20004,6,FALSE) -> 30.57 | K33: UNIDAD | L33: 1 | M33: 8436031825305 | N33: CAJA | O33: 15 | P33: 28436031825309
A34: 01 | B34: SISTEMAS SUELO RADIANTE | C34: #VALUE! | D34: SRKITPGDCP | E34: 14000066 | F34: KIT PURGADORES 3/8" COMPACT PLUS | G34: UNIDAD | H34: 1 | I34: 8436031825725 | J34: =VLOOKUP(E34,' TARIFA 26.4'!$D$3:$I$20004,6,FALSE) -> 46.53 | K34: UNIDAD | L34: 1 | M34: 8436031825725 | N34: CAJA | O34: 50 | P34: 28436031825729
A35: 01 | B35: SISTEMAS SUELO RADIANTE | C35: #VALUE! | D35: SRKITVESFC1 | E35: 14000068 | F35: KIT VALVULAS DE ESFERA MH 1" PARA COLECTOR SUELO RADIANTE | G35: UNIDAD | H35: 1 | I35: 8436031828047 | J35: =VLOOKUP(E35,' TARIFA 26.4'!$D$3:$I$20004,6,FALSE) -> 54.45 | N35: CAJA | O35: 1 | P35: 8436031828047
A36: 01 | B36: SISTEMAS SUELO RADIANTE | C36: #VALUE! | D36: SRKCIN3 | E36: 14000058 | F36: KIT COLECTOR 3+3 ACERO INOXIDABLE AISI 304L COMPLETO | G36: UNIDAD | H36: 1 | I36: 8436031823295 | J36: =VLOOKUP(E36,' TARIFA 26.4'!$D$3:$I$20004,6,FALSE) -> 286 | N36: CAJA | O36: 1 | P36: 8436031823295 | Q36: CARTÓN | R36: 4 | S36: 28436031823299
A37: 01 | B37: SISTEMAS SUELO RADIANTE | D37: SRKCIN4 | E37: 14000059 | F37: KIT COLECTOR 4+4 ACERO INOXIDABLE AISI 304L COMPLETO | G37: UNIDAD | H37: 1 | I37: 8436031823301 | J37: =VLOOKUP(E37,' TARIFA 26.4'!$D$3:$I$20004,6,FALSE) -> 332.2 | N37: CAJA | O37: 1 | P37: 8436031823301 | Q37: CARTÓN | R37: 3 | S37: 28436031823305
A38: 01 | B38: SISTEMAS SUELO RADIANTE | D38: SRKCIN5 | E38: 14000060 | F38: KIT COLECTOR 5+5 ACERO INOXIDABLE AISI 304L COMPLETO | G38: UNIDAD | H38: 1 | I38: 8436031823356 | J38: =VLOOKUP(E38,' TARIFA 26.4'!$D$3:$I$20004,6,FALSE) -> 380.6 | N38: CAJA | O38: 1 | P38: 8436031823356 | Q38: CARTÓN | R38: 3 | S38: 28436031823350
A39: 01 | B39: SISTEMAS SUELO RADIANTE | D39: SRKCIN6 | E39: 14000061 | F39: KIT COLECTOR 6+6 ACERO INOXIDABLE AISI 304L COMPLETO | G39: UNIDAD | H39: 1 | I39: 8436031823387 | J39: =VLOOKUP(E39,' TARIFA 26.4'!$D$3:$I$20004,6,FALSE) -> 436.7 | N39: CAJA | O39: 1 | P39: 8436031823387 | Q39: CARTÓN | R39: 3 | S39: 28436031823381
A40: 01 | B40: SISTEMAS SUELO RADIANTE | D40: SRKCIN7 | E40: 14000062 | F40: KIT COLECTOR 7+7 ACERO INOXIDABLE AISI 304L COMPLETO | G40: UNIDAD | H40: 1 | I40: 8436031823394 | J40: =VLOOKUP(E40,' TARIFA 26.4'!$D$3:$I$20004,6,FALSE) -> 478.5 | N40: CAJA | O40: 1 | P40: 8436031823394 | Q40: CARTÓN | R40: 2 | S40: 28436031823398
...

Sheet 02.Tuberías Plásticas
A1: Texto en azul para artículos que estarán disponibles hasta final de existencias | E1: #VALUE!
A2: CÓDIGO FAMILIA | B2: DESCRIPCIÓN FAMILIA | C2: IMAGEN | D2: REFERENCIA ARTÍCULO | E2: CÓDIGO ARTÍCULO | F2: DESCRIPCIÓN ARTÍCULO | G2: UNIDAD MEDIDA INVENTARIO (U.M.I.) | H2: CANTIDAD U.M.I. | I2: EAN (CANTIDAD U.M.I.) | J2: PVP 26.4 (€/U.M.I.) | K2: UNIDAD VENTA 1 | L2: CANTIDAD U.V.1 | M2: EAN (U.V.1) | N2: UNIDAD VENTA 2 | O2: CANTIDAD U.V.2 | P2: EAN (U.V.2) | Q2: UNIDAD VENTA 3 | R2: CANTIDAD U.V.3 | S2: EAN (U.V.3)
A3: 02 | B3: TUBERÍAS PLÁSTICAS | C3: #VALUE! | D3: PRETSR1650 | E3: 1000002 | F3: PEXa 16 x 1,8 ROLLO 50 MTS | G3: METRO | H3: 1 | J3: =VLOOKUP(E3,' TARIFA 26.4'!$D$3:$I$20004,6,FALSE) -> 2.43 | N3: ROLLO | O3: 50 | P3: 8436031826661 | Q3: PALET | R3: 2600 | S3: 18436031826668
A4: 02 | B4: TUBERÍAS PLÁSTICAS | D4: PRETSR16 | E4: 1000004 | F4: PEXa 16 x 1,8 ROLLO 120 MTS | G4: METRO | H4: 1 | J4: =VLOOKUP(E4,' TARIFA 26.4'!$D$3:$I$20004,6,FALSE) -> 2.12 | N4: ROLLO | O4: 120 | P4: 8436031829518 | Q4: PALET | R4: 4560 | S4: 18436031829515
A5: 02 | B5: TUBERÍAS PLÁSTICAS | D5: PRETSR16200 | E5: 1000025 | F5: PEXa 16 x 1,8 ROLLO 200 MTS | G5: METRO | H5: 1 | J5: =VLOOKUP(E5,' TARIFA 26.4'!$D$3:$I$20004,6,FALSE) -> 2.01 | N5: ROLLO | O5: 200 | P5: 8435447414592 | Q5: PALET | R5: 5200 | S5: 18435447414599
A6: 02 | B6: TUBERÍAS PLÁSTICAS | D6: PRETSR2050 | E6: 1000006 | F6: PEXa 20 x 1,9 ROLLO 50 MTS | G6: METRO | H6: 1 | J6: =VLOOKUP(E6,' TARIFA 26.4'!$D$3:$I$20004,6,FALSE) -> 3.06 | N6: ROLLO | O6: 50 | P6: 8436031826531 | Q6: PALET | R6: 1900 | S6: 18436031826538
A7: 02 | B7: TUBERÍAS PLÁSTICAS | D7: PRETSR20 | E7: 1000008 | F7: PEXa 20 x 1,9 ROLLO 120 MTS | G7: METRO | H7: 1 | J7: =VLOOKUP(E7,' TARIFA 26.4'!$D$3:$I$20004,6,FALSE) -> 2.69 | N7: ROLLO | O7: 120 | P7: 8436031829556 | Q7: PALET | R7: 3120 | S7: 18436031829553
A8: 02 | B8: TUBERÍAS PLÁSTICAS | D8: PRETSR25 | E8: 1000011 | F8: PEXa 25 x 2,3 ROLLO 50 MTS | G8: METRO | H8: 1 | J8: =VLOOKUP(E8,' TARIFA 26.4'!$D$3:$I$20004,6,FALSE) -> 4.4 | N8: ROLLO | O8: 50 | P8: 8436031829594 | Q8: PALET | R8: 1800 | S8: 18436031829591
A9: 02 | B9: TUBERÍAS PLÁSTICAS | D9: PRETSR25100 | E9: 1000012 | F9: PEXa 25 x 2,3 ROLLO 100 MTS | G9: METRO | H9: 1 | J9: =VLOOKUP(E9,' TARIFA 26.4'!$D$3:$I$20004,6,FALSE) -> 4.26 | N9: ROLLO | O9: 100 | P9: 8435447417548 | Q9: PALET | R9: 1800 | S9: 18435447417545
A10: 02 | B10: TUBERÍAS PLÁSTICAS | D10: PRETSR32 | E10: 1000014 | F10: PEXa 32 x 2,9 ROLLO 50 MTS | G10: METRO | H10: 1 | J10: =VLOOKUP(E10,' TARIFA 26.4'!$D$3:$I$20004,6,FALSE) -> 7.51 | N10: ROLLO | O10: 50 | P10: 8436031829617 | Q10: PALET | R10: 1100 | S10: 18436031829614
A11: 02 | B11: TUBERÍAS PLÁSTICAS | C11: #VALUE! | D11: PRETSB416 | E11: 1000026 | F11: PEXa 16 x 1,8 BARRA 4 METROS (160 MTS FARDO) | G11: METRO | H11: 4 | I11: 8435447411287 | J11: =VLOOKUP(E11,' TARIFA 26.4'!$D$3:$I$20004,6,FALSE) -> 2.1 | N11: FARDO | O11: 160 | P11: 8435447417609 | Q11: JAULA | R11: 4800 | S11: 38435447411288
A12: 02 | B12: TUBERÍAS PLÁSTICAS | D12: PRETSB420 | E12: 1000027 | F12: PEXa 20 x 1,9 BARRA 4 MTS (120 MTS FARDO) | G12: METRO | H12: 4 | I12: 8435447411294 | J12: =VLOOKUP(E12,' TARIFA 26.4'!$D$3:$I$20004,6,FALSE) -> 2.73 | N12: FARDO | O12: 120 | P12: 8435447417463 | Q12: JAULA | R12: 3600 | S12: 38435447411295
A13: 02 | B13: TUBERÍAS PLÁSTICAS | D13: PRETSB425 | E13: 1000028 | F13: PEXa 25 x 2,3 BARRA 4 MTS (80 MTS FARDO) | G13: METRO | H13: 4 | I13: 8435447411300 | J13: =VLOOKUP(E13,' TARIFA 26.4'!$D$3:$I$20004,6,FALSE) -> 4.43 | N13: FARDO | O13: 80 | P13: 8435447417470 | Q13: JAULA | R13: 2400 | S13: 38435447411301
A14: 02 | B14: TUBERÍAS PLÁSTICAS | D14: PRETSB432 | E14: 1000029 | F14: PEXa 32 x 2,9 BARRA 4 MTS (60 MTS FARDO) | G14: METRO | H14: 4 | I14: 8435447411317 | J14: =VLOOKUP(E14,' TARIFA 26.4'!$D$3:$I$20004,6,FALSE) -> 7.66 | N14: FARDO | O14: 60 | P14: 8435447417647 | Q14: JAULA | R14: 1500 | S14: 38435447411318
A15: 02 | B15: TUBERÍAS PLÁSTICAS | D15: PRETSB40 | E15: 1000015 | F15: PEXa 40 x 3,7 PEX-A BARRA 4 MTS (32 MTS FARDO) | G15: METRO | H15: 4 | I15: 8436031829457 | J15: =VLOOKUP(E15,' TARIFA 26.4'!$D$3:$I$20004,6,FALSE) -> 21.59 | N15: FARDO | O15: 32 | P15: 8435447421095 | Q15: JAULA | R15: 640 | S15: 38436031829458
A16: 02 | B16: TUBERÍAS PLÁSTICAS | D16: PRETSB50 | E16: 1000016 | F16: PEXa 50 x 4,6 PEX-A BARRA 4 MTS (32 MTS FARDO) | G16: METRO | H16: 4 | I16: 8436031829464 | J16: =VLOOKUP(E16,' TARIFA 26.4'!$D$3:$I$20004,6,FALSE) -> 30.88 | N16: FARDO | O16: 32 | P16: 8435447421101 | Q16: JAULA | R16: 320 | S16: 38436031829465
A17: 02 | B17: TUBERÍAS PLÁSTICAS | D17: PRETSB63 | E17: 1000017 | F17: PEXa 63 x 5,8 PEX-A BARRA 4 MTS (12 MTS FARDO) | G17: METRO | H17: 4 | I17: 8436031829471 | J17: =VLOOKUP(E17,' TARIFA 26.4'!$D$3:$I$20004,6,FALSE) -> 52.49 | N17: FARDO | O17: 12 | P17: 8435447421118 | Q17: JAULA | R17: 240 | S17: 38436031829472
A18: 02 | B18: TUBERÍAS PLÁSTICAS | C18: #VALUE! | D18: PRETSR1650VA | E18: 1000038 | F18: PEXa 16 x 1,8 ROLLO CON VAINA AZUL (50 MTS) | G18: METRO | H18: 1 | J18: =VLOOKUP(E18,' TARIFA 26.4'!$D$3:$I$20004,6,FALSE) -> 4.59 | N18: ROLLO | O18: 50 | P18: 8435447422788 | Q18: PALET | R18: 2200 | S18: 18435447422785
A19: 02 | B19: TUBERÍAS PLÁSTICAS | D19: PRETSR1650VR | E19: 1000039 | F19: PEXa 16 x 1,8 ROLLO CON VAINA ROJO (50 MTS) | G19: METRO | H19: 1 | J19: =VLOOKUP(E19,' TARIFA 26.4'!$D$3:$I$20004,6,FALSE) -> 4.59 | N19: ROLLO | O19: 50 | P19: 8435447423327 | Q19: PALET | R19: 2200 | S19: 18435447423324
A20: 02 | B20: TUBERÍAS PLÁSTICAS | D20: PRETSR2050VA | E20: 1000040 | F20: PEXa 20 x 1,9 ROLLO CON VAINA AZUL (50 MTS) | G20: METRO | H20: 1 | J20: =VLOOKUP(E20,' TARIFA 26.4'!$D$3:$I$20004,6,FALSE) -> 6.46 | N20: ROLLO | O20: 50 | P20: 8435447423334 | Q20: PALET | R20: 1500 | S20: 18435447423331
A21: 02 | B21: TUBERÍAS PLÁSTICAS | D21: PRETSR2050VR | E21: 1000041 | F21: PEXa 20 x 1,9 ROLLO CON VAINA ROJO (50 MTS) | G21: METRO | H21: 1 | J21: =VLOOKUP(E21,' TARIFA 26.4'!$D$3:$I$20004,6,FALSE) -> 6.46 | N21: ROLLO | O21: 50 | P21: 8435447423341 | Q21: PALET | R21: 1500 | S21: 18435447423348
A22: 02 | B22: TUBERÍAS PLÁSTICAS | C22: #VALUE! | D22: PRETSR16AISL | E22: 1000034 | F22: PEXa 16 x 1,8 ROLLO AISLADO 100 MTS | G22: METRO | H22: 1 | J22: =VLOOKUP(E22,' TARIFA 26.4'!$D$3:$I$20004,6,FALSE) -> 4.47 | N22: ROLLO | O22: 100 | P22: 8435447407785 | Q22: PALET | R22: 1800 | S22: 18435447407782
A23: 02 | B23: TUBERÍAS PLÁSTICAS | D23: PRETSR20AISL | E23: 1000035 | F23: PEXa 20 x 1,9 ROLLO AISLADO 100 MTS | G23: METRO | H23: 1 | J23: =VLOOKUP(E23,' TARIFA 26.4'!$D$3:$I$20004,6,FALSE) -> 5.61 | N23: ROLLO | O23: 100 | P23: 8435447407792 | Q23: PALET | R23: 1000 | S23: 18435447407799
A24: 02 | B24: TUBERÍAS PLÁSTICAS | D24: PRETSR25AISL | E24: 1000036 | F24: PEXa 25 x 2,3 ROLLO AISLADO 50 MTS | G24: METRO | H24: 1 | J24: =VLOOKUP(E24,' TARIFA 26.4'!$D$3:$I$20004,6,FALSE) -> 9.48 | N24: ROLLO | O24: 50 | P24: 8435447407808 | Q24: PALET | R24: 500 | S24: 18435447407805
A25: 02 | B25: TUBERÍAS PLÁSTICAS | D25: PRETSR32AISL | E25: 1000037 | F25: PEXa 32 x 2,9 ROLLO AISLADO 50 MTS | G25: METRO | H25: 1 | J25: =VLOOKUP(E25,' TARIFA 26.4'!$D$3:$I$20004,6,FALSE) -> 14.55 | N25: ROLLO | O25: 50 | P25: 8435447409901 | Q25: PALET | R25: 450 | S25: 18435447409908
A26: 02 | B26: TUBERÍAS PLÁSTICAS | C26: #VALUE! | D26: PRETEVR16 | E26: 2000049 | F26: PEXa 16 x 1,8 EVOH ROLLO 240 M.L. | G26: METRO | H26: 1 | J26: =VLOOKUP(E26,' TARIFA 26.4'!$D$3:$I$20004,6,FALSE) -> 2.06 | N26: ROLLO | O26: 240 | P26: 8436031829280 | Q26: PALET | R26: 3600 | S26: 18436031829287
A27: 02 | B27: TUBERÍAS PLÁSTICAS | D27: PRETEVR16500 | E27: 2000051 | F27: PEXa 16 x 1,8 EVOH ROLLO 500 M.L. | G27: METRO | H27: 1 | J27: =VLOOKUP(E27,' TARIFA 26.4'!$D$3:$I$20004,6,FALSE) -> 2.06 | N27: ROLLO | O27: 500 | P27: 8435447406634 | Q27: PALET | R27: 4000 | S27: 18435447406631
A28: 02 | B28: TUBERÍAS PLÁSTICAS | D28: PRETEVR16640 | E28: 2000052 | F28: PEXa 16 x 1,8 EVOH ROLLO 640 M.L. | G28: METRO | H28: 1 | J28: =VLOOKUP(E28,' TARIFA 26.4'!$D$3:$I$20004,6,FALSE) -> 2.06 | N28: ROLLO | O28: 640 | P28: 8435447410044 | Q28: PALET | R28: 4480 | S28: 18435447410041
A29: 02 | B29: TUBERÍAS PLÁSTICAS | D29: PRETEVR20 | E29: 2000053 | F29: PEXa 20 x 1,9 EVOH ROLLO 240 M.L. | G29: METRO | H29: 1 | J29: =VLOOKUP(E29,' TARIFA 26.4'!$D$3:$I$20004,6,FALSE) -> 3.22 | N29: ROLLO | O29: 240 | P29: 8436031829303 | Q29: PALET | R29: 2160 | S29: 18436031829300
A30: 02 | B30: TUBERÍAS PLÁSTICAS | D30: PRETEVR20500 | E30: 2000054 | F30: PEXa 20 x 1,9 EVOH ROLLO 500 M.L. | G30: METRO | H30: 1 | J30: =VLOOKUP(E30,' TARIFA 26.4'!$D$3:$I$20004,6,FALSE) -> 3.22 | N30: ROLLO | O30: 500 | P30: 8435447407631 | Q30: PALET | R30: 3000 | S30: 18435447407638
A31: 02 | B31: TUBERÍAS PLÁSTICAS | D31: PRETEVR25 | E31: 2000055 | F31: PEXa 25 x 2,3 EVOH ROLLO 50 M.L. | G31: METRO | H31: 1 | J31: =VLOOKUP(E31,' TARIFA 26.4'!$D$3:$I$20004,6,FALSE) -> 5.68 | N31: ROLLO | O31: 50 | P31: 8436031829310 | Q31: PALET | R31: 1150 | S31: 18436031829317
A32: 02 | B32: TUBERÍAS PLÁSTICAS | D32: PRETEVR32 | E32: 2000056 | F32: PEXa 32 x 2,9 EVOH ROLLO 50 M.L. | G32: METRO | H32: 1 | J32: =VLOOKUP(E32,' TARIFA 26.4'!$D$3:$I$20004,6,FALSE) -> 9.4 | N32: ROLLO | O32: 50 | P32: 8436031829327 | Q32: PALET | R32: 750 | S32: 18436031829324
A33: 02 | B33: TUBERÍAS PLÁSTICAS | C33: #VALUE! | D33: PRETSBEV416 | E33: 2000061 | F33: PEXa 16 x 1,8 EVOH BARRA 4 MTS | G33: METRO | H33: 4 | I33: 8435447411447 | J33: =VLOOKUP(E33,' TARIFA 26.4'!$D$3:$I$20004,6,FALSE) -> 2.37 | N33: FARDO | O33: 160 | P33: 8435447421125 | Q33: JAULA | R33: 4800 | S33: 38435447411448
A34: 02 | B34: TUBERÍAS PLÁSTICAS | D34: PRETSBEV420 | E34: 2000062 | F34: PEXa 20 x 1,9 EVOH BARRA 4 MTS | G34: METRO | H34: 4 | I34: 8435447411454 | J34: =VLOOKUP(E34,' TARIFA 26.4'!$D$3:$I$20004,6,FALSE) -> 3.75 | N34: FARDO | O34: 120 | P34: 8435447421132 | Q34: JAULA | R34: 3600 | S34: 38435447411455
A35: 02 | B35: TUBERÍAS PLÁSTICAS | D35: PRETSBEV425 | E35: 2000063 | F35: PEXa 25 x 2,3 EVOH BARRA 4 MTS | G35: METRO | H35: 4 | I35: 8435447411461 | J35: =VLOOKUP(E35,' TARIFA 26.4'!$D$3:$I$20004,6,FALSE) -> 6.53 | N35: FARDO | O35: 80 | P35: 8435447421149 | Q35: JAULA | R35: 2400 | S35: 38435447411462
A36: 02 | B36: TUBERÍAS PLÁSTICAS | D36: PRETSBEV432 | E36: 2000064 | F36: PEXa 32 x 2,9 EVOH BARRA 4 MTS | G36: METRO | H36: 4 | I36: 8435447411478 | J36: =VLOOKUP(E36,' TARIFA 26.4'!$D$3:$I$20004,6,FALSE) -> 10.81 | N36: FARDO | O36: 60 | P36: 8435447421156 | Q36: JAULA | R36: 1500 | S36: 38435447411479
A37: 02 | B37: TUBERÍAS PLÁSTICAS | C37: #VALUE! | D37: PRETEV5C16240B | E37: 18000074 | F37: PEXa EVOH 5 capas 16 x 2.0 - 240 m - blanco | G37: METRO | H37: 1 | J37: =VLOOKUP(E37,' TARIFA 26.4'!$D$3:$I$20004,6,FALSE) -> 2.19 | N37: ROLLO | O37: 240 | P37: 8435447423099 | Q37: PALET | R37: 3600 | S37: 18435447423096
A38: 02 | B38: TUBERÍAS PLÁSTICAS | D38: PRETEV5C16500B | E38: 18000075 | F38: PEXa EVOH 5 capas 16 x 2.0 - 500 m - blanco | G38: METRO | H38: 1 | J38: =VLOOKUP(E38,' TARIFA 26.4'!$D$3:$I$20004,6,FALSE) -> 2.19 | N38: ROLLO | O38: 500 | P38: =VLOOKUP(E38,' TARIFA 26.4'!$D$3:$R$30000,12,FALSE) -> 8435447423082 | Q38: PALET | R38: 4000 | S38: =VLOOKUP(E38,' TARIFA 26.4'!$D$3:$R$30000,15,FALSE) -> 18435447423089
A39: 02 | B39: TUBERÍAS PLÁSTICAS | D39: PRETEV5C16640B | E39: 18000076 | F39: PEXa EVOH 5 capas 16 x 2.0 - 640 m - blanco | G39: METRO | H39: 1 | J39: =VLOOKUP(E39,' TARIFA 26.4'!$D$3:$I$20004,6,FALSE) -> 2.19 | N39: ROLLO | O39: 640 | P39: 8435447423075 | Q39: PALET | R39: 4480 | S39: 18435447423072
A40: 02 | B40: TUBERÍAS PLÁSTICAS | D40: PRETEV5C20240B | E40: 18000080 | F40: PEXa EVOH 5 capas 20 x 2.0 - 240 m - blanco | G40: METRO | H40: 1 | J40: =VLOOKUP(E40,' TARIFA 26.4'!$D$3:$I$20004,6,FALSE) -> 3.39 | N40: ROLLO | O40: 240 | P40: 8435447424737 | Q40: PALET | R40: 2160 | S40: 18435447424734
...

Sheet 03.Press Multicapa
A1: Texto en azul para artículos que estarán disponibles hasta final de existencias | E1: #VALUE!
A2: CÓDIGO FAMILIA | B2: DESCRIPCIÓN FAMILIA | C2: IMAGEN | D2: REFERENCIA ARTÍCULO | E2: CÓDIGO ARTÍCULO | F2: DESCRIPCIÓN ARTÍCULO | G2: UNIDAD MEDIDA INVENTARIO (U.M.I.) | H2: CANTIDAD U.M.I. | I2: EAN (CANTIDAD U.M.I.) | J2: PVP 26.4 (€/U.M.I.) | K2: UNIDAD VENTA 1 | L2: CANTIDAD U.V.1 | M2: EAN (U.V.1) | N2: UNIDAD VENTA 2 | O2: CANTIDAD U.V.2 | P2: EAN (U.V.2) | Q2: UNIDAD VENTA 3 | R2: CANTIDAD U.V.3 | S2: EAN (U.V.3)
A3: 03 | B3: ACCESORIOS MULTICAPA | C3: #VALUE! | D3: MCRMV1612L | E3: 12000001 | F3: RACOR MOVIL 16-1/2" LARGO MULTICAPA | G3: UNIDAD | H3: 1 | I3: 8436031824865 | J3: =VLOOKUP(E3,' TARIFA 26.4'!$D$3:$I$20004,6,FALSE) -> 5.86 | N3: CAJA | O3: 25 | P3: 8435447418880 | Q3: CARTÓN | R3: 300 | S3: 28436031824869
A4: 03 | B4: ACCESORIOS MULTICAPA | D4: MCRMV1812L | E4: 12000205 | F4: RACOR MOVIL 18-1/2" LARGO MULTICAPA | G4: UNIDAD | H4: 1 | I4: 8436031825916 | J4: =VLOOKUP(E4,' TARIFA 26.4'!$D$3:$I$20004,6,FALSE) -> 7.27 | N4: CAJA | O4: 25 | P4: 8435447418897 | Q4: CARTÓN | R4: 300 | S4: 28436031825910
A5: 03 | B5: ACCESORIOS MULTICAPA | D5: MCRMV2012L | E5: 12000002 | F5: RACOR MOVIL 20-1/2" LARGO MULTICAPA | G5: UNIDAD | H5: 1 | I5: 8436031824872 | J5: =VLOOKUP(E5,' TARIFA 26.4'!$D$3:$I$20004,6,FALSE) -> 7.06 | N5: CAJA | O5: 25 | P5: 8435447418903 | Q5: CARTÓN | R5: 300 | S5: 28436031824876
A6: 03 | B6: ACCESORIOS MULTICAPA | D6: MCRMV2034L | E6: 12000003 | F6: RACOR MOVIL 20-3/4" LARGO MULTICAPA | G6: UNIDAD | H6: 1 | I6: 8436031824889 | J6: =VLOOKUP(E6,' TARIFA 26.4'!$D$3:$I$20004,6,FALSE) -> 9.07 | N6: CAJA | O6: 25 | P6: 8435447418910 | Q6: CARTÓN | R6: 225 | S6: 28436031824883
A7: 03 | B7: ACCESORIOS MULTICAPA | D7: MCRMV2534L | E7: 12000004 | F7: RACOR MOVIL 25-3/4" LARGO MULTICAPA | G7: UNIDAD | H7: 1 | I7: 8436031824896 | J7: =VLOOKUP(E7,' TARIFA 26.4'!$D$3:$I$20004,6,FALSE) -> 11.49 | N7: CAJA | O7: 25 | P7: 8435447418927 | Q7: CARTÓN | R7: 225 | S7: 28436031824890
A8: 03 | B8: ACCESORIOS MULTICAPA | D8: MCRMV251L | E8: 12000005 | F8: RACOR MOVIL 25-1" LARGO MULTICAPA | G8: UNIDAD | H8: 1 | I8: 8436031825800 | J8: =VLOOKUP(E8,' TARIFA 26.4'!$D$3:$I$20004,6,FALSE) -> 16 | N8: CAJA | O8: 25 | P8: 8435447418934 | Q8: CARTÓN | R8: 225 | S8: 28436031825804
A9: 03 | B9: ACCESORIOS MULTICAPA | D9: MCRMV321L | E9: 12000006 | F9: RACOR MOVIL 32-1" LARGO MULTICAPA | G9: UNIDAD | H9: 1 | I9: 8436031824902 | J9: =VLOOKUP(E9,' TARIFA 26.4'!$D$3:$I$20004,6,FALSE) -> 17.66 | N9: CAJA | O9: 25 | P9: 8435447418941 | Q9: CARTÓN | R9: 150 | S9: 28436031824906
A10: 03 | B10: ACCESORIOS MULTICAPA | C10: #VALUE! | D10: MCRFH1612 | E10: 12000007 | F10: RACOR FIJO HEMBRA 16-1/2" MULTICAPA | G10: UNIDAD | H10: 1 | I10: 8436031824360 | J10: =VLOOKUP(E10,' TARIFA 26.4'!$D$3:$I$20004,6,FALSE) -> 5.49 | N10: CAJA | O10: 25 | P10: 8435447418958 | Q10: CARTÓN | R10: 300 | S10: 28436031824364
A11: 03 | B11: ACCESORIOS MULTICAPA | D11: MCRFH1634 | E11: 12000008 | F11: RACOR FIJO HEMBRA 16-3/4" MULTICAPA | G11: UNIDAD | H11: 1 | I11: 8436031826500 | J11: =VLOOKUP(E11,' TARIFA 26.4'!$D$3:$I$20004,6,FALSE) -> 6.78 | N11: CAJA | O11: 25 | P11: 8435447418965 | Q11: CARTÓN | R11: 300 | S11: 28436031826504
A12: 03 | B12: ACCESORIOS MULTICAPA | D12: MCRFH1812 | E12: 12000206 | F12: RACOR FIJO HEMBRA 18-1/2" MULTICAPA | G12: UNIDAD | H12: 1 | I12: 8436031825237 | J12: =VLOOKUP(E12,' TARIFA 26.4'!$D$3:$I$20004,6,FALSE) -> 6.09 | N12: CAJA | O12: 25 | P12: 8435447418972 | Q12: CARTÓN | R12: 300 | S12: 28436031825231
A13: 03 | B13: ACCESORIOS MULTICAPA | D13: MCRFH2012 | E13: 12000009 | F13: RACOR FIJO HEMBRA 20-1/2" MULTICAPA | G13: UNIDAD | H13: 1 | I13: 8436031824377 | J13: =VLOOKUP(E13,' TARIFA 26.4'!$D$3:$I$20004,6,FALSE) -> 6.02 | N13: CAJA | O13: 25 | P13: 8435447418989 | Q13: CARTÓN | R13: 300 | S13: 28436031824371
A14: 03 | B14: ACCESORIOS MULTICAPA | D14: MCRFH2034 | E14: 12000010 | F14: RACOR FIJO HEMBRA 20-3/4" MULTICAPA | G14: UNIDAD | H14: 1 | I14: 8436031824384 | J14: =VLOOKUP(E14,' TARIFA 26.4'!$D$3:$I$20004,6,FALSE) -> 6.78 | N14: CAJA | O14: 25 | P14: 8435447418996 | Q14: CARTÓN | R14: 225 | S14: 28436031824388
A15: 03 | B15: ACCESORIOS MULTICAPA | D15: MCRFH2512 | E15: 12000011 | F15: RACOR FIJO HEMBRA 25-1/2" MULTICAPA | G15: UNIDAD | H15: 1 | I15: 8436031822762 | J15: =VLOOKUP(E15,' TARIFA 26.4'!$D$3:$I$20004,6,FALSE) -> 8.75 | N15: CAJA | O15: 25 | P15: 8435447419009 | Q15: CARTÓN | R15: 225 | S15: 28436031822766
A16: 03 | B16: ACCESORIOS MULTICAPA | D16: MCRFH2534 | E16: 12000012 | F16: RACOR FIJO HEMBRA 25-3/4" MULTICAPA | G16: UNIDAD | H16: 1 | I16: 8436031824391 | J16: =VLOOKUP(E16,' TARIFA 26.4'!$D$3:$I$20004,6,FALSE) -> 8.92 | N16: CAJA | O16: 25 | P16: 8435447419016 | Q16: CARTÓN | R16: 225 | S16: 28436031824395
A17: 03 | B17: ACCESORIOS MULTICAPA | D17: MCRFH251 | E17: 12000013 | F17: RACOR FIJO HEMBRA 25-1" MULTICAPA | G17: UNIDAD | H17: 1 | I17: 8436031824407 | J17: =VLOOKUP(E17,' TARIFA 26.4'!$D$3:$I$20004,6,FALSE) -> 13.63 | N17: CAJA | O17: 25 | P17: 8435447419023 | Q17: CARTÓN | R17: 225 | S17: 28436031824401
A18: 03 | B18: ACCESORIOS MULTICAPA | D18: MCRFH321 | E18: 12000014 | F18: RACOR FIJO HEMBRA 32-1" MULTICAPA | G18: UNIDAD | H18: 1 | I18: 8436031824414 | J18: =VLOOKUP(E18,' TARIFA 26.4'!$D$3:$I$20004,6,FALSE) -> 14.16 | N18: CAJA | O18: 25 | P18: 8435447419030 | Q18: CARTÓN | R18: 150 | S18: 28436031824418
A19: 03 | B19: ACCESORIOS MULTICAPA | C19: #VALUE! | D19: MCRFM1638 | E19: 12000015 | F19: RACOR FIJO MACHO 16-3/8" MULTICAPA | G19: UNIDAD | H19: 1 | I19: 8436031825015 | J19: =VLOOKUP(E19,' TARIFA 26.4'!$D$3:$I$20004,6,FALSE) -> 4.54 | N19: CAJA | O19: 25 | P19: 8435447419047 | Q19: CARTÓN | R19: 300 | S19: 28436031825019
A20: 03 | B20: ACCESORIOS MULTICAPA | D20: MCRFM1612 | E20: 12000016 | F20: RACOR FIJO MACHO 16-1/2" MULTICAPA | G20: UNIDAD | H20: 1 | I20: 8436031824421 | J20: =VLOOKUP(E20,' TARIFA 26.4'!$D$3:$I$20004,6,FALSE) -> 4.78 | N20: CAJA | O20: 25 | P20: 8435447419054 | Q20: CARTÓN | R20: 300 | S20: 28436031824425
A21: 03 | B21: ACCESORIOS MULTICAPA | D21: MCRFM1634 | E21: 12000017 | F21: RACOR FIJO MACHO 16-3/4" MULTICAPA | G21: UNIDAD | H21: 1 | I21: 8436031824438 | J21: =VLOOKUP(E21,' TARIFA 26.4'!$D$3:$I$20004,6,FALSE) -> 6.47 | N21: CAJA | O21: 25 | P21: 8435447419061 | Q21: CARTÓN | R21: 225 | S21: 28436031824432
A22: 03 | B22: ACCESORIOS MULTICAPA | D22: MCRFM1812 | E22: 12000207 | F22: RACOR FIJO MACHO 18-1/2" MULTICAPA | G22: UNIDAD | H22: 1 | I22: 8436031824834 | J22: =VLOOKUP(E22,' TARIFA 26.4'!$D$3:$I$20004,6,FALSE) -> 5.26 | N22: CAJA | O22: 25 | P22: 8435447419078 | Q22: CARTÓN | R22: 300 | S22: 28436031824838
A23: 03 | B23: ACCESORIOS MULTICAPA | D23: MCRFM2012 | E23: 12000018 | F23: RACOR FIJO MACHO 20-1/2" MULTICAPA | G23: UNIDAD | H23: 1 | I23: 8436031824445 | J23: =VLOOKUP(E23,' TARIFA 26.4'!$D$3:$I$20004,6,FALSE) -> 5.33 | N23: CAJA | O23: 25 | P23: 8435447419085 | Q23: CARTÓN | R23: 300 | S23: 28436031824449
A24: 03 | B24: ACCESORIOS MULTICAPA | D24: MCRFM2034 | E24: 12000019 | F24: RACOR FIJO MACHO 20-3/4" MULTICAPA | G24: UNIDAD | H24: 1 | I24: 8436031824452 | J24: =VLOOKUP(E24,' TARIFA 26.4'!$D$3:$I$20004,6,FALSE) -> 7.04 | N24: CAJA | O24: 25 | P24: 8435447419092 | Q24: CARTÓN | R24: 225 | S24: 28436031824456
A25: 03 | B25: ACCESORIOS MULTICAPA | D25: MCRFM2512 | E25: 12000020 | F25: RACOR FIJO MACHO 25-1/2" MULTICAPA | G25: UNIDAD | H25: 1 | I25: 8436031824469 | J25: =VLOOKUP(E25,' TARIFA 26.4'!$D$3:$I$20004,6,FALSE) -> 8.61 | N25: CAJA | O25: 25 | P25: 8435447419108 | Q25: CARTÓN | R25: 225 | S25: 28436031824463
A26: 03 | B26: ACCESORIOS MULTICAPA | D26: MCRFM2534 | E26: 12000021 | F26: RACOR FIJO MACHO 25-3/4" MULTICAPA | G26: UNIDAD | H26: 1 | I26: 8436031824476 | J26: =VLOOKUP(E26,' TARIFA 26.4'!$D$3:$I$20004,6,FALSE) -> 8.84 | N26: CAJA | O26: 25 | P26: 8435447419115 | Q26: CARTÓN | R26: 225 | S26: 28436031824470
A27: 03 | B27: ACCESORIOS MULTICAPA | D27: MCRFM251 | E27: 12000022 | F27: RACOR FIJO MACHO 25-1" MULTICAPA | G27: UNIDAD | H27: 1 | I27: 8436031824483 | J27: =VLOOKUP(E27,' TARIFA 26.4'!$D$3:$I$20004,6,FALSE) -> 12.34 | N27: CAJA | O27: 25 | P27: 8435447419122 | Q27: CARTÓN | R27: 225 | S27: 28436031824487
A28: 03 | B28: ACCESORIOS MULTICAPA | D28: MCRFM321 | E28: 12000023 | F28: RACOR FIJO MACHO 32-1" MULTICAPA | G28: UNIDAD | H28: 1 | I28: 8436031824490 | J28: =VLOOKUP(E28,' TARIFA 26.4'!$D$3:$I$20004,6,FALSE) -> 14.78 | N28: CAJA | O28: 25 | P28: 8435447419139 | Q28: CARTÓN | R28: 150 | S28: 28436031824494
A29: 03 | B29: ACCESORIOS MULTICAPA | C29: #VALUE! | D29: MCCOT1612 | E29: 12000037 | F29: CODO TERMINAL 16-1/2" MULTICAPA | G29: UNIDAD | H29: 1 | I29: 8436031824162 | J29: =VLOOKUP(E29,' TARIFA 26.4'!$D$3:$I$20004,6,FALSE) -> 6.55 | N29: CAJA | O29: 25 | P29: 8435447419146 | Q29: CARTÓN | R29: 300 | S29: 28436031824166
A30: 03 | B30: ACCESORIOS MULTICAPA | D30: MCCOT1612R | E30: 12000038 | F30: CODO TERMINAL 16-1/2" REFORZADO MULTICAPA | G30: UNIDAD | H30: 1 | I30: 8436031824933 | J30: =VLOOKUP(E30,' TARIFA 26.4'!$D$3:$I$20004,6,FALSE) -> 7.54 | N30: CAJA | O30: 25 | P30: 8435447419153 | Q30: CARTÓN | R30: 300 | S30: 28436031824937
A31: 03 | B31: ACCESORIOS MULTICAPA | D31: MCCOT1812R | E31: 12000212 | F31: CODO TERMINAL 18-1/2" REFORZADO MULTICAPA | G31: UNIDAD | H31: 1 | I31: 8436031824797 | J31: =VLOOKUP(E31,' TARIFA 26.4'!$D$3:$I$20004,6,FALSE) -> 8.51 | N31: CAJA | O31: 25 | P31: 8435447419160 | Q31: CARTÓN | R31: 225 | S31: 28436031824791
A32: 03 | B32: ACCESORIOS MULTICAPA | D32: MCCOT2012 | E32: 12000039 | F32: CODO TERMINAL 20-1/2" MULTICAPA | G32: UNIDAD | H32: 1 | I32: 8436031824179 | J32: =VLOOKUP(E32,' TARIFA 26.4'!$D$3:$I$20004,6,FALSE) -> 7.46 | N32: CAJA | O32: 25 | P32: 8435447419177 | Q32: CARTÓN | R32: 225 | S32: 28436031824173
A33: 03 | B33: ACCESORIOS MULTICAPA | D33: MCCOT2012R | E33: 12000040 | F33: CODO TERMINAL 20-1/2" REFORZADO MULTICAPA | G33: UNIDAD | H33: 1 | I33: 8436031824940 | J33: =VLOOKUP(E33,' TARIFA 26.4'!$D$3:$I$20004,6,FALSE) -> 8.45 | N33: CAJA | O33: 25 | P33: 8435447419184 | Q33: CARTÓN | R33: 225 | S33: 28436031824944
A34: 03 | B34: ACCESORIOS MULTICAPA | D34: MCCOT2034 | E34: 12000041 | F34: CODO TERMINAL 20-3/4" MULTICAPA | G34: UNIDAD | H34: 1 | I34: 8436031824186 | J34: =VLOOKUP(E34,' TARIFA 26.4'!$D$3:$I$20004,6,FALSE) -> 9.5 | N34: CAJA | O34: 25 | P34: 8435447419191 | Q34: CARTÓN | R34: 225 | S34: 28436031824180
A35: 03 | B35: ACCESORIOS MULTICAPA | D35: MCCOT2512 | E35: 12000042 | F35: CODO TERMINAL 25-1/2" MULTICAPA | G35: UNIDAD | H35: 1 | I35: 8436031825886 | J35: =VLOOKUP(E35,' TARIFA 26.4'!$D$3:$I$20004,6,FALSE) -> 11.42 | N35: CAJA | O35: 25 | P35: 8435447419207 | Q35: CARTÓN | R35: 150 | S35: 28436031825880
A36: 03 | B36: ACCESORIOS MULTICAPA | D36: MCCOT251 | E36: 12000044 | F36: CODO TERMINAL 25-1" MULTICAPA | G36: UNIDAD | H36: 1 | I36: 8436031824209 | J36: =VLOOKUP(E36,' TARIFA 26.4'!$D$3:$I$20004,6,FALSE) -> 17.44 | N36: CAJA | O36: 25 | P36: 8435447419214 | Q36: CARTÓN | R36: 150 | S36: 28436031824203
A37: 03 | B37: ACCESORIOS MULTICAPA | D37: MCCOT2534 | E37: 12000043 | F37: CODO TERMINAL 25-3/4" MULTICAPA | G37: UNIDAD | H37: 1 | I37: 8436031824193 | J37: =VLOOKUP(E37,' TARIFA 26.4'!$D$3:$I$20004,6,FALSE) -> 12.25 | N37: CAJA | O37: 25 | P37: 8435447419221 | Q37: CARTÓN | R37: 150 | S37: 28436031824197
A38: 03 | B38: ACCESORIOS MULTICAPA | D38: MCCOT321 | E38: 12000045 | F38: CODO TERMINAL 32-1" MULTICAPA | G38: UNIDAD | H38: 1 | I38: 8436031824216 | J38: =VLOOKUP(E38,' TARIFA 26.4'!$D$3:$I$20004,6,FALSE) -> 19.48 | N38: CAJA | O38: 25 | P38: 8435447419238 | Q38: CARTÓN | R38: 100 | S38: 28436031824210
A39: 03 | B39: ACCESORIOS MULTICAPA | C39: #VALUE! | D39: MCMAU16 | E39: 12000024 | F39: MANGUITO UNION 16 MULTICAPA | G39: UNIDAD | H39: 1 | I39: 8436031824278 | J39: =VLOOKUP(E39,' TARIFA 26.4'!$D$3:$I$20004,6,FALSE) -> 4.08 | N39: CAJA | O39: 25 | P39: 8435447419245 | Q39: CARTÓN | R39: 300 | S39: 28436031824272
A40: 03 | B40: ACCESORIOS MULTICAPA | D40: MCMAU18 | E40: 12000208 | F40: MANGUITO UNION 18 MULTICAPA | G40: UNIDAD | H40: 1 | I40: 8436031824810 | J40: =VLOOKUP(E40,' TARIFA 26.4'!$D$3:$I$20004,6,FALSE) -> 5.87 | N40: CAJA | O40: 25 | P40: 8435447419252 | Q40: CARTÓN | R40: 300 | S40: 28436031824814
...

Sheet 04.Rápido y Fácil
A1: Texto en azul para artículos que estarán disponibles hasta final de existencias | E1: #VALUE!
A2: CÓDIGO FAMILIA | B2: DESCRIPCIÓN FAMILIA | C2: IMAGEN | D2: REFERENCIA ARTÍCULO | E2: CÓDIGO ARTÍCULO | F2: DESCRIPCIÓN ARTÍCULO | G2: UNIDAD MEDIDA INVENTARIO (U.M.I.) | H2: CANTIDAD U.M.I. | I2: EAN (CANTIDAD U.M.I.) | J2: PVP 26.4 (€/U.M.I.) | K2: UNIDAD VENTA 1 | L2: CANTIDAD U.V.1 | M2: EAN (U.V.1) | N2: UNIDAD VENTA 2 | O2: CANTIDAD U.V.2 | P2: EAN (U.V.2) | Q2: UNIDAD VENTA 3 | R2: CANTIDAD U.V.3 | S2: EAN (U.V.3)
A3: 04 | B3: RÁPIDO Y FÁCIL | C3: #VALUE! | D3: RFCSAI16A | E3: 7000001 | F3: CASQUILLO PLASTICO INYECTADO RF Ø16 COLOR AZUL | G3: UNIDAD | H3: 1 | J3: =VLOOKUP(E3,' TARIFA 26.4'!$D$3:$I$20004,6,FALSE) -> 0.61 | N3: BOLSA | O3: 50 | P3: 8435447407693 | Q3: CARTÓN | R3: 2000 | S3: 28435447407697
A4: 04 | B4: RÁPIDO Y FÁCIL | D4: RFCSAI16B | E4: 7000003 | F4: CASQUILLO PLASTICO INYECTADO RF Ø16 COLOR BLANCO | G4: UNIDAD | H4: 1 | J4: =VLOOKUP(E4,' TARIFA 26.4'!$D$3:$I$20004,6,FALSE) -> 0.61 | N4: BOLSA | O4: 50 | P4: 8435447409994 | Q4: CARTÓN | R4: 2000 | S4: 28435447409998
A5: 04 | B5: RÁPIDO Y FÁCIL | D5: RFCSAI16R | E5: 7000002 | F5: CASQUILLO PLASTICO INYECTADO RF Ø16 COLOR ROJO | G5: UNIDAD | H5: 1 | J5: =VLOOKUP(E5,' TARIFA 26.4'!$D$3:$I$20004,6,FALSE) -> 0.61 | N5: BOLSA | O5: 50 | P5: 8435447407709 | Q5: CARTÓN | R5: 2000 | S5: 28435447407703
A6: 04 | B6: RÁPIDO Y FÁCIL | D6: RFCSAI20A | E6: 7000004 | F6: CASQUILLO PLASTICO INYECTADO RF Ø20 COLOR AZUL | G6: UNIDAD | H6: 1 | J6: =VLOOKUP(E6,' TARIFA 26.4'!$D$3:$I$20004,6,FALSE) -> 0.68 | N6: BOLSA | O6: 50 | P6: 8435447407716 | Q6: CARTÓN | R6: 1250 | S6: 28435447407710
A7: 04 | B7: RÁPIDO Y FÁCIL | D7: RFCSAI20B | E7: 7000006 | F7: CASQUILLO PLASTICO INYECTADO RF Ø20 COLOR BLANCO | G7: UNIDAD | H7: 1 | J7: =VLOOKUP(E7,' TARIFA 26.4'!$D$3:$I$20004,6,FALSE) -> 0.68 | N7: BOLSA | O7: 50 | P7: 8435447410006 | Q7: CARTÓN | R7: 1250 | S7: 28435447410000
A8: 04 | B8: RÁPIDO Y FÁCIL | D8: RFCSAI20R | E8: 7000005 | F8: CASQUILLO PLASTICO INYECTADO RF Ø20 COLOR ROJO | G8: UNIDAD | H8: 1 | J8: =VLOOKUP(E8,' TARIFA 26.4'!$D$3:$I$20004,6,FALSE) -> 0.68 | N8: BOLSA | O8: 50 | P8: 8435447407723 | Q8: CARTÓN | R8: 1250 | S8: 28435447407727
A9: 04 | B9: RÁPIDO Y FÁCIL | D9: RFCSAI25A | E9: 7000007 | F9: CASQUILLO PLASTICO INYECTADO RF Ø25 COLOR AZUL | G9: UNIDAD | H9: 1 | J9: =VLOOKUP(E9,' TARIFA 26.4'!$D$3:$I$20004,6,FALSE) -> 0.75 | N9: BOLSA | O9: 25 | P9: 8435447407730 | Q9: CARTÓN | R9: 500 | S9: 28435447407734
A10: 04 | B10: RÁPIDO Y FÁCIL | D10: RFCSAI25B | E10: 7000009 | F10: CASQUILLO PLASTICO INYECTADO RF Ø25 COLOR BLANCO | G10: UNIDAD | H10: 1 | J10: =VLOOKUP(E10,' TARIFA 26.4'!$D$3:$I$20004,6,FALSE) -> 0.75 | N10: BOLSA | O10: 25 | P10: 8435447410013 | Q10: CARTÓN | R10: 500 | S10: 28435447410017
A11: 04 | B11: RÁPIDO Y FÁCIL | D11: RFCSAI25R | E11: 7000008 | F11: CASQUILLO PLASTICO INYECTADO RF Ø25 COLOR ROJO | G11: UNIDAD | H11: 1 | J11: =VLOOKUP(E11,' TARIFA 26.4'!$D$3:$I$20004,6,FALSE) -> 0.75 | N11: BOLSA | O11: 25 | P11: 8435447407747 | Q11: CARTÓN | R11: 500 | S11: 28435447407741
A12: 04 | B12: RÁPIDO Y FÁCIL | D12: RFCSAI32A | E12: 7000010 | F12: CASQUILLO PLASTICO INYECTADO RF Ø32 COLOR AZUL | G12: UNIDAD | H12: 1 | J12: =VLOOKUP(E12,' TARIFA 26.4'!$D$3:$I$20004,6,FALSE) -> 1.2 | N12: BOLSA | O12: 25 | P12: 8435447407754 | Q12: CARTÓN | R12: 300 | S12: 28435447407758
A13: 04 | B13: RÁPIDO Y FÁCIL | D13: RFCSAI32B | E13: 7000012 | F13: CASQUILLO PLASTICO INYECTADO RF Ø32 COLOR BLANCO | G13: UNIDAD | H13: 1 | J13: =VLOOKUP(E13,' TARIFA 26.4'!$D$3:$I$20004,6,FALSE) -> 1.2 | N13: BOLSA | O13: 25 | P13: 8435447410020 | Q13: CARTÓN | R13: 300 | S13: 28435447410024
A14: 04 | B14: RÁPIDO Y FÁCIL | D14: RFCSAI32R | E14: 7000011 | F14: CASQUILLO PLASTICO INYECTADO RF Ø32 COLOR ROJO | G14: UNIDAD | H14: 1 | J14: =VLOOKUP(E14,' TARIFA 26.4'!$D$3:$I$20004,6,FALSE) -> 1.2 | N14: BOLSA | O14: 25 | P14: 8435447407761 | Q14: CARTÓN | R14: 300 | S14: 28435447407765
A15: 04 | B15: RÁPIDO Y FÁCIL | C15: #VALUE! | D15: RFCSA16A | E15: 7000129 | F15: CASQUILLO PLASTICO RF Ø16 COLOR NATURAL LETRA AZUL | G15: UNIDAD | H15: 1 | J15: =VLOOKUP(E15,' TARIFA 26.4'!$D$3:$I$20004,6,FALSE) -> 0.55 | N15: BOLSA | O15: 50 | P15: 8435447400014 | Q15: CARTÓN | R15: 3600 | S15: 28435447400018
A16: 04 | B16: RÁPIDO Y FÁCIL | D16: RFCSA16R | E16: 7000205 | F16: CASQUILLO PLASTICO RF Ø16 COLOR NATURAL LETRA ROJA | G16: UNIDAD | H16: 1 | J16: =VLOOKUP(E16,' TARIFA 26.4'!$D$3:$I$20004,6,FALSE) -> 0.55 | N16: BOLSA | O16: 50 | P16: 8435447400021 | Q16: CARTÓN | R16: 3600 | S16: 28435447400025
A17: 04 | B17: RÁPIDO Y FÁCIL | D17: RFCSA20A | E17: 7000130 | F17: CASQUILLO PLASTICO RF Ø20 COLOR NATURA LETRA AZUL | G17: UNIDAD | H17: 1 | J17: =VLOOKUP(E17,' TARIFA 26.4'!$D$3:$I$20004,6,FALSE) -> 0.64 | N17: BOLSA | O17: 50 | P17: 8435447400045 | Q17: CARTÓN | R17: 1600 | S17: 28435447400049
A18: 04 | B18: RÁPIDO Y FÁCIL | D18: RFCSA20R | E18: 7000206 | F18: CASQUILLO PLASTICO RF Ø20 COLOR NATURAL LETRA ROJA | G18: UNIDAD | H18: 1 | J18: =VLOOKUP(E18,' TARIFA 26.4'!$D$3:$I$20004,6,FALSE) -> 0.64 | N18: BOLSA | O18: 50 | P18: 8435447400052 | Q18: CARTÓN | R18: 1600 | S18: 28435447400056
A19: 04 | B19: RÁPIDO Y FÁCIL | D19: RFCSA25A | E19: 7000131 | F19: CASQUILLO PLASTICO RF Ø25 COLOR NATURAL LETRA AZUL | G19: UNIDAD | H19: 1 | J19: =VLOOKUP(E19,' TARIFA 26.4'!$D$3:$I$20004,6,FALSE) -> 0.7 | N19: BOLSA | O19: 50 | P19: 8435447400069 | Q19: CARTÓN | R19: 800 | S19: 28435447400063
A20: 04 | B20: RÁPIDO Y FÁCIL | D20: RFCSA25R | E20: 7000207 | F20: CASQUILLO PLASTICO RF Ø25 COLOR NATURAL LETRA ROJA | G20: UNIDAD | H20: 1 | J20: =VLOOKUP(E20,' TARIFA 26.4'!$D$3:$I$20004,6,FALSE) -> 0.7 | N20: BOLSA | O20: 50 | P20: 8435447400083 | Q20: CARTÓN | R20: 800 | S20: 28435447400087
A21: 04 | B21: RÁPIDO Y FÁCIL | D21: RFCSA32 | E21: 7000132 | F21: CASQUILLO PLASTICO RF Ø32 COLOR NATURAL | G21: UNIDAD | H21: 1 | J21: =VLOOKUP(E21,' TARIFA 26.4'!$D$3:$I$20004,6,FALSE) -> 1.11 | N21: BOLSA | O21: 20 | P21: 8435447406603 | Q21: CARTÓN | R21: 160 | S21: 28435447406607
A22: 04 | B22: RÁPIDO Y FÁCIL | D22: RFCSA40 | E22: 7000168 | F22: CASQUILLO PLASTICO RF Ø40 COLOR NATURAL | G22: UNIDAD | H22: 1 | J22: =VLOOKUP(E22,' TARIFA 26.4'!$D$3:$I$20004,6,FALSE) -> 1.82 | N22: BOLSA | O22: 20 | P22: 8435447416862 | Q22: CARTÓN | R22: 80 | S22: 28435447416866
A23: 04 | B23: RÁPIDO Y FÁCIL | C23: #VALUE! | D23: RFPMAU16 | E23: 7000013 | F23: MANGUITO UNION RF 16 PPSU | G23: UNIDAD | H23: 1 | J23: =VLOOKUP(E23,' TARIFA 26.4'!$D$3:$I$20004,6,FALSE) -> 1.65 | N23: CAJA | O23: 200 | P23: 8435447407549 | Q23: CARTÓN | R23: 800 | S23: 28435447407543
A24: 04 | B24: RÁPIDO Y FÁCIL | D24: RFPMAU20 | E24: 7000014 | F24: MANGUITO UNION RF 20 PPSU | G24: UNIDAD | H24: 1 | J24: =VLOOKUP(E24,' TARIFA 26.4'!$D$3:$I$20004,6,FALSE) -> 2.21 | N24: CAJA | O24: 150 | P24: 8435447407556 | Q24: CARTÓN | R24: 600 | S24: 28435447407550
A25: 04 | B25: RÁPIDO Y FÁCIL | D25: RFPMAU25 | E25: 7000015 | F25: MANGUITO UNION RF 25 PPSU | G25: UNIDAD | H25: 1 | J25: =VLOOKUP(E25,' TARIFA 26.4'!$D$3:$I$20004,6,FALSE) -> 4.57 | N25: CAJA | O25: 75 | P25: 8435447407563 | Q25: CARTÓN | R25: 300 | S25: 28435447407567
A26: 04 | B26: RÁPIDO Y FÁCIL | D26: RFPMAU32 | E26: 7000016 | F26: MANGUITO UNION RF 32 PPSU | G26: UNIDAD | H26: 1 | J26: =VLOOKUP(E26,' TARIFA 26.4'!$D$3:$I$20004,6,FALSE) -> 8.68 | N26: CAJA | O26: 40 | P26: 8435447408171 | Q26: CARTÓN | R26: 160 | S26: 28435447408175
A27: 04 | B27: RÁPIDO Y FÁCIL | D27: RFPMAU40 | E27: 7000169 | F27: MANGUITO UNION RF 40 PPSU | G27: UNIDAD | H27: 1 | I27: 8435447414608 | J27: =VLOOKUP(E27,' TARIFA 26.4'!$D$3:$I$20004,6,FALSE) -> 17.68 | N27: CAJA | O27: 10 | P27: 8435447422818 | Q27: CARTÓN | R27: 40 | S27: 28435447414602
A28: 04 | B28: RÁPIDO Y FÁCIL | C28: #VALUE! | D28: RFPMGR2016 | E28: 7000017 | F28: MANGUITO REDUCIDO RF 20-16 PPSU | G28: UNIDAD | H28: 1 | J28: =VLOOKUP(E28,' TARIFA 26.4'!$D$3:$I$20004,6,FALSE) -> 2.85 | N28: CAJA | O28: 150 | P28: 8435447407570 | Q28: CARTÓN | R28: 600 | S28: 28435447407574
A29: 04 | B29: RÁPIDO Y FÁCIL | D29: RFPMGR2516 | E29: 7000018 | F29: MANGUITO REDUCIDO RF 25-16 PPSU | G29: UNIDAD | H29: 1 | J29: =VLOOKUP(E29,' TARIFA 26.4'!$D$3:$I$20004,6,FALSE) -> 4.34 | N29: CAJA | O29: 20 | P29: 8435447408157 | Q29: CARTÓN | R29: 160 | S29: 28435447408151
A30: 04 | B30: RÁPIDO Y FÁCIL | D30: RFPMGR2520 | E30: 7000019 | F30: MANGUITO REDUCIDO RF 25-20 PPSU | G30: UNIDAD | H30: 1 | J30: =VLOOKUP(E30,' TARIFA 26.4'!$D$3:$I$20004,6,FALSE) -> 4.34 | N30: CAJA | O30: 100 | P30: 8435447407587 | Q30: CARTÓN | R30: 400 | S30: 28435447407581
A31: 04 | B31: RÁPIDO Y FÁCIL | D31: RFPMGR3220 | E31: 7000170 | F31: MANGUITO REDUCIDO RF 32-20 PPSU | G31: UNIDAD | H31: 1 | I31: 8435447414615 | J31: =VLOOKUP(E31,' TARIFA 26.4'!$D$3:$I$20004,6,FALSE) -> 6.71 | N31: CAJA | O31: 20 | P31: 8435447422825 | Q31: CARTÓN | R31: 100 | S31: 28435447414619
A32: 04 | B32: RÁPIDO Y FÁCIL | D32: RFPMGR3225 | E32: 7000020 | F32: MANGUITO REDUCIDO RF 32-25 PPSU | G32: UNIDAD | H32: 1 | J32: =VLOOKUP(E32,' TARIFA 26.4'!$D$3:$I$20004,6,FALSE) -> 6.71 | N32: CAJA | O32: 30 | P32: 8435447408164 | Q32: CARTÓN | R32: 120 | S32: 28435447408168
A33: 04 | B33: RÁPIDO Y FÁCIL | D33: RFPMGR4025 | E33: 7000171 | F33: MANGUITO REDUCIDO RF 40-25 PPSU | G33: UNIDAD | H33: 1 | I33: 8435447414639 | J33: =VLOOKUP(E33,' TARIFA 26.4'!$D$3:$I$20004,6,FALSE) -> 13.46 | N33: CAJA | O33: 10 | P33: 8435447422832 | Q33: CARTÓN | R33: 60 | S33: 28435447414633
A34: 04 | B34: RÁPIDO Y FÁCIL | D34: RFPMGR4032 | E34: 7000172 | F34: MANGUITO REDUCIDO RF 40-32 PPSU | G34: UNIDAD | H34: 1 | I34: 8435447414622 | J34: =VLOOKUP(E34,' TARIFA 26.4'!$D$3:$I$20004,6,FALSE) -> 13.63 | N34: CAJA | O34: 10 | P34: 8435447422849 | Q34: CARTÓN | R34: 50 | S34: 28435447414626
A35: 04 | B35: RÁPIDO Y FÁCIL | C35: #VALUE! | D35: RFPCDO16 | E35: 7000162 | F35: CODO IGUAL RF 16 PPSU | G35: UNIDAD | H35: 1 | J35: =VLOOKUP(E35,' TARIFA 26.4'!$D$3:$I$20004,6,FALSE) -> 3.23 | N35: CAJA | O35: 150 | P35: 8435447407419 | Q35: CARTÓN | R35: 600 | S35: 28435447407413
A36: 04 | B36: RÁPIDO Y FÁCIL | D36: RFPCDO20 | E36: 7000163 | F36: CODO IGUAL RF 20 PPSU | G36: UNIDAD | H36: 1 | J36: =VLOOKUP(E36,' TARIFA 26.4'!$D$3:$I$20004,6,FALSE) -> 3.72 | N36: CAJA | O36: 100 | P36: 8435447407426 | Q36: CARTÓN | R36: 400 | S36: 28435447407420
A37: 04 | B37: RÁPIDO Y FÁCIL | D37: RFPCDO25 | E37: 7000164 | F37: CODO IGUAL RF 25 PPSU | G37: UNIDAD | H37: 1 | J37: =VLOOKUP(E37,' TARIFA 26.4'!$D$3:$I$20004,6,FALSE) -> 7.02 | N37: CAJA | O37: 50 | P37: 8435447407433 | Q37: CARTÓN | R37: 200 | S37: 28435447407437
A38: 04 | B38: RÁPIDO Y FÁCIL | D38: RFPCDO32 | E38: 7000165 | F38: CODO IGUAL RF 32 PPSU | G38: UNIDAD | H38: 1 | J38: =VLOOKUP(E38,' TARIFA 26.4'!$D$3:$I$20004,6,FALSE) -> 11.45 | N38: CAJA | O38: 30 | P38: 8435447408140 | Q38: CARTÓN | R38: 120 | S38: 28435447408144
A39: 04 | B39: RÁPIDO Y FÁCIL | D39: RFPCDO40 | E39: 7000173 | F39: CODO IGUAL RF 40 PPSU | G39: UNIDAD | H39: 1 | I39: 8435447414646 | J39: =VLOOKUP(E39,' TARIFA 26.4'!$D$3:$I$20004,6,FALSE) -> 22.23 | N39: CAJA | O39: 5 | P39: 8435447422856 | Q39: CARTÓN | R39: 30 | S39: 28435447414640
A40: 04 | B40: RÁPIDO Y FÁCIL | C40: #VALUE! | D40: RFPDIS2520163 | E40: 7000200 | F40: DISTRIBUIDOR RF 25-20-16-16-16 PPSU | G40: UNIDAD | H40: 1 | I40: 8435447417289 | J40: =VLOOKUP(E40,' TARIFA 26.4'!$D$3:$I$20004,6,FALSE) -> 9.72 | N40: CAJA | O40: 12 | P40: 8435447427950 | Q40: CARTÓN | R40: 48 | S40: 28435447417283
...

Sheet 05.Eco-Press
A1: Texto en azul para artículos que estarán disponibles hasta final de existencias | E1: #VALUE!
A2: CÓDIGO FAMILIA | B2: DESCRIPCIÓN FAMILIA | C2: IMAGEN | D2: REFERENCIA ARTÍCULO | E2: CÓDIGO ARTÍCULO | F2: DESCRIPCIÓN ARTÍCULO | G2: UNIDAD MEDIDA INVENTARIO (U.M.I.) | H2: CANTIDAD U.M.I. | I2: EAN (CANTIDAD U.M.I.) | J2: PVP 26.4 (€/U.M.I.) | K2: UNIDAD VENTA 1 | L2: CANTIDAD U.V.1 | M2: EAN (U.V.1) | N2: UNIDAD VENTA 2 | O2: CANTIDAD U.V.2 | P2: EAN (U.V.2) | Q2: UNIDAD VENTA 3 | R2: CANTIDAD U.V.3 | S2: EAN (U.V.3)
A3: 05 | B3: ACCESORIOS ECO-PRESS | C3: #VALUE! | D3: ECPFRMV1612 | E3: 11000001 | F3: RACOR MOVIL 16-1/2" ECO-PRESS | G3: UNIDAD | H3: 1 | I3: 8436031827507 | J3: =VLOOKUP(E3,' TARIFA 26.4'!$D$3:$I$20004,6,FALSE) -> 6.02 | N3: CAJA | O3: 25 | P3: 8435447424744 | Q3: CARTÓN | R3: 300 | S3: 28436031827501
A4: 05 | B4: ACCESORIOS ECO-PRESS | D4: ECPFRMV1634 | E4: 11000002 | F4: RACOR MOVIL 16-3/4" ECO-PRESS | G4: UNIDAD | H4: 1 | I4: 8436031822526 | J4: =VLOOKUP(E4,' TARIFA 26.4'!$D$3:$I$20004,6,FALSE) -> 7.69 | N4: CAJA | O4: 25 | P4: 8435447424751 | Q4: CARTÓN | R4: 300 | S4: 28436031822520
A5: 05 | B5: ACCESORIOS ECO-PRESS | D5: ECPFRMV2012 | E5: 11000003 | F5: RACOR MOVIL 20-1/2" ECO-PRESS | G5: UNIDAD | H5: 1 | I5: 8436031827514 | J5: =VLOOKUP(E5,' TARIFA 26.4'!$D$3:$I$20004,6,FALSE) -> 6.23 | N5: CAJA | O5: 25 | P5: 8435447424768 | Q5: CARTÓN | R5: 300 | S5: 28436031827518
A6: 05 | B6: ACCESORIOS ECO-PRESS | D6: ECPFRMV2034 | E6: 11000004 | F6: RACOR MOVIL 20-3/4" ECO-PRESS | G6: UNIDAD | H6: 1 | I6: 8436031827521 | J6: =VLOOKUP(E6,' TARIFA 26.4'!$D$3:$I$20004,6,FALSE) -> 9.07 | N6: CAJA | O6: 25 | P6: 8435447424775 | Q6: CARTÓN | R6: 225 | S6: 28436031827525
A7: 05 | B7: ACCESORIOS ECO-PRESS | D7: ECPFRMV2534 | E7: 11000005 | F7: RACOR MOVIL 25-3/4" ECO-PRESS | G7: UNIDAD | H7: 1 | I7: 8436031827538 | J7: =VLOOKUP(E7,' TARIFA 26.4'!$D$3:$I$20004,6,FALSE) -> 10.27 | N7: CAJA | O7: 25 | P7: 8435447424782 | Q7: CARTÓN | R7: 225 | S7: 28436031827532
A8: 05 | B8: ACCESORIOS ECO-PRESS | D8: ECPFRMV321 | E8: 11000006 | F8: RACOR MOVIL 32-1" ECO-PRESS | G8: UNIDAD | H8: 1 | I8: 8436031827545 | J8: =VLOOKUP(E8,' TARIFA 26.4'!$D$3:$I$20004,6,FALSE) -> 18.44 | N8: CAJA | O8: 25 | P8: 8435447424799 | Q8: CARTÓN | R8: 150 | S8: 28436031827549
A9: 05 | B9: ACCESORIOS ECO-PRESS | C9: #VALUE! | D9: ECPFRFH1612 | E9: 11000007 | F9: RACOR FIJO HEMBRA 16-1/2" ECO-PRESS | G9: UNIDAD | H9: 1 | I9: 8436031827408 | J9: =VLOOKUP(E9,' TARIFA 26.4'!$D$3:$I$20004,6,FALSE) -> 5.39 | N9: CAJA | O9: 25 | P9: 8435447424805 | Q9: CARTÓN | R9: 300 | S9: 28436031827402
