Workbook

Sheet  TARIFA 26.4
A1: Texto en azul para artículos que estarán disponibles hasta final de existencias | D1: #VALUE!
A2: CÓDIGO FAMILIA | B2: DESCRIPCIÓN FAMILIA | C2: REFERENCIA ARTÍCULO | D2: CÓDIGO ARTÍCULO | E2: DESCRIPCIÓN ARTÍCULO | F2: UNIDAD MEDIDA INVENTARIO (U.M.I.) | G2: CANTIDAD U.M.I. | H2: EAN (CANTIDAD U.M.I.) | I2: PVP 26.4 (€/U.M.I.) | J2: UNIDAD VENTA 1 | K2: CANTIDAD U.V.1 | L2: EAN (U.V.1) | M2: UNIDAD VENTA 2 | N2: CANTIDAD U.V.2 | O2: EAN (U.V.2) | P2: UNIDAD VENTA 3 | Q2: CANTIDAD U.V.3 | R2: EAN (U.V.3)
A3: 01 | B3: SISTEMAS SUELO RADIANTE | C3: CVT1618 | D3: 14000001 | E3: CURVATUBO 16-18 | F3: UNIDAD | G3: 1 | I3: 2.24 | M3: CAJA | N3: 25 | O3: 8436031826418 | P3: CARTÓN | Q3: 200 | R3: 28436031826412
A4: 01 | B4: SISTEMAS SUELO RADIANTE | C4: CVT20 | D4: 14000002 | E4: CURVATUBO 20 | F4: UNIDAD | G4: 1 | I4: 2.9 | M4: CAJA | N4: 25 | O4: 8436031826425 | P4: CARTÓN | Q4: 100 | R4: 28436031826429
A5: 01 | B5: SISTEMAS SUELO RADIANTE | C5: CVT2526 | D5: 14000003 | E5: CURVATUBO 25-26 | F5: UNIDAD | G5: 1 | I5: 7.15 | M5: CAJA | N5: 25 | O5: 8436031826432 | P5: CARTÓN | Q5: 100 | R5: 28436031826436
A6: 01 | B6: SISTEMAS SUELO RADIANTE | C6: RGACTEL | D6: 14000004 | E6: CABEZAL ELECTROTERMICO 230 V 2 HILOS | F6: UNIDAD | G6: 1 | H6: 8436031825398 | I6: 50.22 | M6: CAJA | N6: 1 | O6: 8436031825398 | P6: CARTÓN | Q6: 8 | R6: 28436031825392
A7: 01 | B7: SISTEMAS SUELO RADIANTE | C7: RGACTEL24 | D7: 14000005 | E7: CABEZAL ELECTROTERMICO 24 V 2 HILOS | F7: UNIDAD | G7: 1 | H7: 8436031822809 | I7: 50.22 | M7: CAJA | N7: 1 | O7: 8436031822809 | P7: CARTÓN | Q7: 10 | R7: 28436031822803
A8: 01 | B8: SISTEMAS SUELO RADIANTE | C8: RGACTEL4H | D8: 14000006 | E8: CABEZAL ELECTROTERMICO 230 V 4 HILOS | F8: UNIDAD | G8: 1 | H8: 8436031825695 | I8: 70.34 | M8: CAJA | N8: 1 | O8: 8436031825695 | P8: CARTÓN | Q8: 10 | R8: 28436031825699
A9: 01 | B9: SISTEMAS SUELO RADIANTE | C9: RGACTEL4H24 | D9: 14000007 | E9: CABEZAL ELECTROTERMICO 24 V 4 HILOS | F9: UNIDAD | G9: 1 | H9: 8436031828122 | I9: 70.34 | M9: CAJA | N9: 1 | O9: 8436031828122 | P9: CARTÓN | Q9: 10 | R9: 28436031828126
A10: 01 | B10: SISTEMAS SUELO RADIANTE | C10: SRADITIVO | D10: 14000020 | E10: BIDON 25 LT. ADITIVO MORTERO | F10: UNIDAD | G10: 1 | H10: 8436031828443 | I10: 161.91 | M10: BIDON | N10: 1 | O10: 8436031828443 | P10: PALET | Q10: 32 | R10: 38436031828444
A11: 01 | B11: SISTEMAS SUELO RADIANTE | C11: SRADMC16 | D11: 14000021 | E11: EUROCONO 3/4" PARA TUBO MULTICAPA 16 MM. | F11: UNIDAD | G11: 1 | H11: 8436031828290 | I11: 6.64 | M11: CAJA | N11: 5 | O11: 8435447427806 | P11: CARTÓN | Q11: 240 | R11: 28436031828294
A12: 01 | B12: SISTEMAS SUELO RADIANTE | C12: SRADMC20 | D12: 14000022 | E12: EUROCONO 3/4" PARA TUBO MULTICAPA 20 MM. | F12: UNIDAD | G12: 1 | H12: 8436031822823 | I12: 6.82 | M12: CAJA | N12: 5 | O12: 8435447427813 | P12: CARTÓN | Q12: 240 | R12: 28436031822827
A13: 01 | B13: SISTEMAS SUELO RADIANTE | C13: SRADPEX16 | D13: 14000023 | E13: EUROCONO 3/4" PARA TUBO PEX 16 MM. | F13: UNIDAD | G13: 1 | H13: 8436031828283 | I13: 5.65 | M13: CAJA | N13: 5 | O13: 8435447427783 | P13: CARTÓN | Q13: 240 | R13: 28436031828287
A14: 01 | B14: SISTEMAS SUELO RADIANTE | C14: SRADPEX20 | D14: 14000024 | E14: EUROCONO 3/4" PARA TUBO PEX 20 MM. | F14: UNIDAD | G14: 1 | H14: 8436031822830 | I14: 6.82 | M14: CAJA | N14: 5 | O14: 8435447427790 | P14: CARTÓN | Q14: 240 | R14: 28436031822834
A15: 01 | B15: SISTEMAS SUELO RADIANTE | C15: SRBP | D15: 14000025 | E15: ROLLO 50 M.L. BANDA PERIMETRAL CON FALDON Y ADHESIVO | F15: UNIDAD | G15: 1 | H15: 8436031828450 | I15: 122.18 | M15: BOLSA | N15: 5 | O15: 28436031828454 | P15: PALET | Q15: 30 | R15: 38436031828451
A16: 01 | B16: SISTEMAS SUELO RADIANTE | C16: SRBYPASS | D16: 14000026 | E16: BYPASS COLECTOR COMPACT PLUS | F16: UNIDAD | G16: 1 | H16: 8435447406016 | I16: 199.42 | M16: CAJA | N16: 1 | O16: 8435447406016
A17: 01 | B17: SISTEMAS SUELO RADIANTE | C17: SRCC1030 | D17: 14000027 | E17: CAJA COMPACTBOX PARA COLECTORES DE 13 A 16 SALIDAS 1030 / 705-805 / 80-100 | F17: UNIDAD | G17: 1 | H17: 8435447409406 | I17: 403.59 | M17: CAJA | N17: 1 | O17: 8435447409406
A18: 01 | B18: SISTEMAS SUELO RADIANTE | C18: SRCC450 | D18: 14000028 | E18: C.COMPACTBOX COLECTORES DE 2 A 4 SALIDAS 450 / 705-805 / 80-100 | F18: UNIDAD | G18: 1 | H18: 8435447409369 | I18: 232.76 | M18: CAJA | N18: 1 | O18: 8435447409369
A19: 01 | B19: SISTEMAS SUELO RADIANTE | C19: SRCC530 | D19: 14000029 | E19: C.COMPACTBOX COLECT. DE 5 A 6 SALIDAS 530 / 705-805 / 80-100 | F19: UNIDAD | G19: 1 | H19: 8435447409376 | I19: 253.74 | M19: CAJA | N19: 1 | O19: 8435447409376
A20: 01 | B20: SISTEMAS SUELO RADIANTE | C20: SRCC680 | D20: 14000030 | E20: C.COMPACTBOX COLECT. DE 7 A 10 SALIDAS 680 / 705-805 / 80-100 | F20: UNIDAD | G20: 1 | H20: 8435447409383 | I20: 298.61 | M20: CAJA | N20: 1 | O20: 8435447409383
A21: 01 | B21: SISTEMAS SUELO RADIANTE | C21: SRCC830 | D21: 14000031 | E21: C.COMPACTBOX COLECT. DE 11 A 12 SALIDAS 830 / 705-805 / 80-100 | F21: UNIDAD | G21: 1 | H21: 8435447409390 | I21: 330.66 | M21: CAJA | N21: 1 | O21: 8435447409390
A22: 01 | B22: SISTEMAS SUELO RADIANTE | C22: SRCCMP530 | D22: 14000107 | E22: MARCO CON TAPA COMPACTBOX DE 5 A 6 SALIDAS 530 / 755-855 | F22: UNIDAD | G22: 1 | H22: 8435447429497 | I22: 89.87 | M22: CAJA | N22: 1 | O22: 8435447429497
A23: 01 | B23: SISTEMAS SUELO RADIANTE | C23: SRCCMP680 | D23: 14000108 | E23: MARCO CON TAPA COMPACTBOX DE 7 A 10 SALIDAS 680 / 755-855 | F23: UNIDAD | G23: 1 | H23: 8435447429503 | I23: 112.37 | M23: CAJA | N23: 1 | O23: 8435447429503
A24: 01 | B24: SISTEMAS SUELO RADIANTE | C24: SRCCMP830 | D24: 14000109 | E24: MARCO CON TAPA COMPACTBOX DE 11 A 12 SALIDAS 830 / 755-855 | F24: UNIDAD | G24: 1 | H24: 8435447429510 | I24: 146.75 | M24: CAJA | N24: 1 | O24: 8435447429510
A25: 01 | B25: SISTEMAS SUELO RADIANTE | C25: SRCCMP1030 | D25: 14000110 | E25: MARCO CON TAPA COMPACTBOX DE 13 A 16 SALIDAS 1030 / 755-855 | F25: UNIDAD | G25: 1 | H25: 8435447429527 | I25: 158.68 | M25: CAJA | N25: 1 | O25: 8435447429527
A26: 01 | B26: SISTEMAS SUELO RADIANTE | C26: SRCCONX | D26: 14000032 | E26: CONJUNTO CODOS CONEXION COLECTOR COMPACT PLUS | F26: UNIDAD | G26: 1 | H26: 8435447406023 | I26: 86.42 | M26: CAJA | N26: 1 | O26: 8435447406023
A27: 01 | B27: SISTEMAS SUELO RADIANTE | C27: SRCI1030 | D27: 14000033 | E27: CAJA INDUSTRIALBOX PARA COLECTORES DE 12 A 13 SALIDAS 1030 / 705-805 / 110-160 | F27: UNIDAD | G27: 1 | H27: 8435447409451 | I27: 470.55 | M27: CAJA | N27: 1 | O27: 8435447409451
... A35: 01 | B35: SISTEMAS SUELO RADIANTE | C35: SRGRP | D35: 14000041 | E35: GRAPADORA UNIVERSAL DE ALUMINIO PARA SUELO RADIANTE | F35: UNIDAD | G35: 1 | H35: 8436031824728 | I35: 550.29 | M35: CAJA | N35: 1 | O35: 8436031824728
A36: 01 | B36: SISTEMAS SUELO RADIANTE | C36: SRGRP40 | D36: 14000042 | E36: GRAPA 40MM. PARA SUELO (LOTE 300 UDS.) | F36: UNIDAD | G36: 1 | H36: 8436031824735 | I36: 30.61 | M36: CAJA | N36: 1 | O36: 8436031824735 | P36: CARTÓN | Q36: 28 | R36: 28436031824739
A37: 01 | B37: SISTEMAS SUELO RADIANTE | C37: SRGRPML | D37: 14000043 | E37: GRAPA FIJACION PARA MALLAZO | F37: UNIDAD | G37: 1 | I37: 1.21 | M37: CARRIL | N37: 8 | O37: 8436031824742 | P37: CARTÓN | Q37: 400 | R37: 28436031824746
A38: 01 | B38: SISTEMAS SUELO RADIANTE | C38: SRJD | D38: 14000044 | E38: JUNTA DILATACION LONGITUD 2 METROS | F38: UNIDAD | G38: 1 | H38: 8436031828092 | I38: 25.95 | M38: CAJA | N38: 1 | O38: 8436031828092
A39: 01 | B39: SISTEMAS SUELO RADIANTE | C39: SRKC3 | D39: 14000045 | E39: KIT COMPACT PLUS COMPLETO 1" 3+3 | F39: UNIDAD | G39: 1 | H39: 8436031825459 | I39: 488.16 | M39: CAJA | N39: 1 | O39: 8436031825459
A40: 01 | B40: SISTEMAS SUELO RADIANTE | C40: SRKC4 | D40: 14000046 | E40: KIT COMPACT PLUS COMPLETO 1" 4+4 | F40: UNIDAD | G40: 1 | H40: 8436031825633 | I40: 564.74 | M40: CAJA | N40: 1 | O40: 8436031825633
A41: 01 | B41: SISTEMAS SUELO RADIANTE | C41: SRKC5 | D41: 14000047 | E41: KIT COMPACT PLUS COMPLETO 1" 5+5 | F41: UNIDAD | G41: 1 | H41: 8436031825640 | I41: 622.17 | M41: CAJA | N41: 1 | O41: 8436031825640
A42: 01 | B42: SISTEMAS SUELO RADIANTE | C42: SRKC6 | D42: 14000048 | E42: KIT COMPACT PLUS COMPLETO 1" 6+6 | F42: UNIDAD | G42: 1 | H42: 8436031825657 | I42: 670.03 | M42: CAJA | N42: 1 | O42: 8436031825657
A43: 01 | B43: SISTEMAS SUELO RADIANTE | C43: SRKC7 | D43: 14000049 | E43: KIT COMPACT PLUS COMPLETO 1" 7+7 | F43: UNIDAD | G43: 1 | H43: 8436031825664 | I43: 775.32 | M43: CAJA | N43: 1 | O43: 8436031825664
A44: 01 | B44: SISTEMAS SUELO RADIANTE | C44: SRKC8 | D44: 14000050 | E44: KIT COMPACT PLUS COMPLETO 1" 8+8 | F44: UNIDAD | G44: 1 | H44: 8436031825671 | I44: 832.76 | M44: CAJA | N44: 1 | O44: 8436031825671
A45: 01 | B45: SISTEMAS SUELO RADIANTE | C45: SRKC9 | D45: 14000051 | E45: KIT COMPACT PLUS COMPLETO 1" 9+9 | F45: UNIDAD | G45: 1 | H45: 8436031825688 | I45: 890.19 | M45: CAJA | N45: 1 | O45: 8436031825688
A46: 01 | B46: SISTEMAS SUELO RADIANTE | C46: SRKC10 | D46: 14000052 | E46: KIT COMPACT PLUS COMPLETO 1" 10+10 | F46: UNIDAD | G46: 1 | H46: 8436031828160 | I46: 947.62 | M46: CAJA | N46: 1 | O46: 8436031828160
A47: 01 | B47: SISTEMAS SUELO RADIANTE | C47: SRKC11 | D47: 14000053 | E47: KIT COMPACT PLUS COMPLETO 1" 11+11 | F47: UNIDAD | G47: 1 | H47: 8436031828177 | I47: 1052.91 | M47: CAJA | N47: 1 | O47: 8436031828177
A48: 01 | B48: SISTEMAS SUELO RADIANTE | C48: SRKC12 | D48: 14000054 | E48: KIT COMPACT PLUS COMPLETO 1" 12+12 | F48: UNIDAD | G48: 1 | H48: 8436031828184 | I48: 1100.76 | M48: CAJA | N48: 1 | O48: 8436031828184
A49: 01 | B49: SISTEMAS SUELO RADIANTE | C49: SRKCIN10 | D49: 14000055 | E49: KIT COLECTOR 10+10 ACERO INOXIDABLE AISI 304L COMPLETO | F49: UNIDAD | G49: 1 | H49: 8436031823431 | I49: 616 | M49: CAJA | N49: 1 | O49: 8436031823431 | P49: CARTÓN | Q49: 2 | R49: 28436031823435
A50: 01 | B50: SISTEMAS SUELO RADIANTE | C50: SRKCIN11 | D50: 14000056 | E50: KIT COLECTOR 11+11 ACERO INOXIDABLE AISI 304L COMPLETO | F50: UNIDAD | G50: 1 | H50: 8436031823448 | I50: 664.4 | M50: CAJA | N50: 1 | O50: 8436031823448 | P50: CARTÓN | Q50: 2 | R50: 28436031823442
A51: 01 | B51: SISTEMAS SUELO RADIANTE | C51: SRKCIN12 | D51: 14000057 | E51: KIT COLECTOR 12+12 ACERO INOXIDABLE AISI 304L COMPLETO | F51: UNIDAD | G51: 1 | H51: 8436031823462 | I51: 711.7 | M51: CAJA | N51: 1 | O51: 8436031823462 | P51: CARTÓN | Q51: 2 | R51: 28436031823466
A52: 01 | B52: SISTEMAS SUELO RADIANTE | C52: SRKCIN3 | D52: 14000058 | E52: KIT COLECTOR 3+3 ACERO INOXIDABLE AISI 304L COMPLETO | F52: UNIDAD | G52: 1 | H52: 8436031823295 | I52: 286 | M52: CAJA | N52: 1 | O52: 8436031823295 | P52: CARTÓN | Q52: 4 | R52: 28436031823299
A53: 01 | B53: SISTEMAS SUELO RADIANTE | C53: SRKCIN4 | D53: 14000059 | E53: KIT COLECTOR 4+4 ACERO INOXIDABLE AISI 304L COMPLETO | F53: UNIDAD | G53: 1 | H53: 8436031823301 | I53: 332.2 | M53: CAJA | N53: 1 | O53: 8436031823301 | P53: CARTÓN | Q53: 3 | R53: 28436031823305
A54: 01 | B54: SISTEMAS SUELO RADIANTE | C54: SRKCIN5 | D54: 14000060 | E54: KIT COLECTOR 5+5 ACERO INOXIDABLE AISI 304L COMPLETO | F54: UNIDAD | G54: 1 | H54: 8436031823356 | I54: 380.6 | M54: CAJA | N54: 1 | O54: 8436031823356 | P54: CARTÓN | Q54: 3 | R54: 28436031823350
A55: 01 | B55: SISTEMAS SUELO RADIANTE | C55: SRKCIN6 | D55: 14000061 | E55: KIT COLECTOR 6+6 ACERO INOXIDABLE AISI 304L COMPLETO | F55: UNIDAD | G55: 1 | H55: 8436031823387 | I55: 436.7 | M55: CAJA | N55: 1 | O55: 8436031823387 | P55: CARTÓN | Q55: 3 | R55: 28436031823381
A56: 01 | B56: SISTEMAS SUELO RADIANTE | C56: SRKCIN7 | D56: 14000062 | E56: KIT COLECTOR 7+7 ACERO INOXIDABLE AISI 304L COMPLETO | F56: UNIDAD | G56: 1 | H56: 8436031823394 | I56: 478.5 | M56: CAJA | N56: 1 | O56: 8436031823394 | P56: CARTÓN | Q56: 2 | R56: 28436031823398
A57: 01 | B57: SISTEMAS SUELO RADIANTE | C57: SRKCIN8 | D57: 14000063 | E57: KIT COLECTOR 8+8 ACERO INOXIDABLE AISI 304L COMPLETO | F57: UNIDAD | G57: 1 | H57: 8436031823325 | I57: 513.7 | M57: CAJA | N57: 1 | O57: 8436031823325 | P57: CARTÓN | Q57: 2 | R57: 28436031823329
A58: 01 | B58: SISTEMAS SUELO RADIANTE | C58: SRKCIN9 | D58: 14000064 | E58: KIT COLECTOR 9+9 ACERO INOXIDABLE AISI 304L COMPLETO | F58: UNIDAD | G58: 1 | H58: 8436031823349 | I58: 568.7 | M58: CAJA | N58: 1 | O58: 8436031823349 | P58: CARTÓN | Q58: 2 | R58: 28436031823343
A59: 01 | B59: SISTEMAS SUELO RADIANTE | C59: SRKITCP1 | D59: 14000065 | E59: KIT COLECTOR COMPLETO 1" COMPACT PLUS | F59: UNIDAD | G59: 1 | H59: 8436031826715 | I59: 246.95 | M59: CAJA | N59: 1 | O59: 8436031826715
A60: 01 | B60: SISTEMAS SUELO RADIANTE | C60: SRKITPGDCP | D60: 14000066 | E60: KIT PURGADORES 3/8" COMPACT PLUS | F60: UNIDAD | G60: 1 | H60: 8436031825725 | I60: 46.53 | J60: UNIDAD | K60: 1 | L60: 8436031825725 | M60: CAJA | N60: 50 | O60: 28436031825729
A61: 01 | B61: SISTEMAS SUELO RADIANTE | C61: SRKITTMTR | D61: 14000067 | E61: KIT TERMOMETROS COMPACT PLUS | F61: UNIDAD | G61: 1 | H61: 8436031825305 | I61: 30.57 | J61: UNIDAD | K61: 1 | L61: 8436031825305 | M61: CAJA | N61: 15 | O61: 28436031825309
A62: 01 | B62: SISTEMAS SUELO RADIANTE | C62: SRKITVESFC1 | D62: 14000068 | E62: KIT VALVULAS DE ESFERA MH 1" PARA COLECTOR SUELO RADIANTE | F62: UNIDAD | G62: 1 | H62: 8436031828047 | I62: 54.45 | M62: CAJA | N62: 1 | O62: 8436031828047
A63: 01 | B63: SISTEMAS SUELO RADIANTE | C63: SRLAMINAPE02 | D63: 14000069 | E63: ROLLO 50Mx2M LAMINA PE 0,2mm. ESPESOR | F63: UNIDAD | G63: 1 | H63: 8436031825732 | I63: 263.41 | M63: ROLLO | N63: 1 | O63: 8436031825732
A64: 01 | B64: SISTEMAS SUELO RADIANTE | C64: SRMBCP1 | D64: 14000070 | E64: CONJ.COL. 1 SALIDA COMPACT PLUS 1" IMPULSION+RETORNO | F64: UNIDAD | G64: 1 | H64: 8436031825107 | I64: 91.94 | M64: CAJA | N64: 1 | O64: 8436031825107
A65: 01 | B65: SISTEMAS SUELO RADIANTE | C65: SRMBCP3 | D65: 14000071 | E65: CONJ.COL. 3 SALIDAS COMPACT PLUS 1" IMPULSION+RETORNO | F65: UNIDAD | G65: 1 | H65: 8436031825114 | I65: 256.39 | M65: CAJA | N65: 1 | O65: 8436031825114
A66: 01 | B66: SISTEMAS SUELO RADIANTE | C66: SRMBCP6 | D66: 14000072 | E66: CONJ.COL. 6 SALIDAS COMPACT PLUS 1" IMPULSION+RETORNO | F66: UNIDAD | G66: 1 | H66: 8436031825121 | I66: 485.24 | M66: CAJA | N66: 1 | O66: 8436031825121
A67: 01 | B67: SISTEMAS SUELO RADIANTE | C67: SRPB10T | D67: 14000073 | E67: PLACA PANEL AISLANTE TERMOCONFORMADO MINI 30 kg./m3 1450x850x10 mm (1,233m2/PLACA) | F67: UNIDAD | G67: 1 | I67: 39.72 | M67: CAJA | N67: 24 | O67: 8436031825404 | P67: PALET | Q67: 120 | R67: 38436031825405
A68: 01 | B68: SISTEMAS SUELO RADIANTE | C68: SRPB30G | D68: 14000075 | E68: PANEL 10 m2. LISO TERMICO CON GEOTEXTIL EPS-100 30 mm (10 m2 ROLLO) | F68: ROLLO | G68: 1 | H68: 8435447407624 | I68: 348 | M68: BOLSA | N68: 1 | O68: 8435447407624 | P68: PALET | Q68: 7 | R68: 38435447407625
A69: 01 | B69: SISTEMAS SUELO RADIANTE | C69: SRPG23T | D69: 14000077 | E69: PANEL AISL.GRAFIPLAC TERMOCONF 23 kg./m3 1450x850x23 mm (1,233 m2/PLACA) | F69: UNIDAD | G69: 1 | I69: 48.53 | M69: CAJA | N69: 14 | O69: 8435447411355 | P69: PALET | Q69: 70 | R69: 38435447411356
A70: 01 | B70: SISTEMAS SUELO RADIANTE | C70: SRPG23K | D70: 14000078 | E70: PANEL 10 m2. GRAFIKLETT AUTOFICACION EPS-150 23 mm (10 m2/ROLLO) | F70: ROLLO | G70: 1 | H70: 8435447410143 | I70: 359.61 | M70: BOLSA | N70: 1 | O70: 8435447410143 | P70: PALET | Q70: 8 | R70: 38435447410144
A71: 01 | B71: SISTEMAS SUELO RADIANTE | C71: SRPG38T | D71: 14000079 | E71: PANEL AISL.GRAFIPLAC TERMOCONF 23 kg./m3 1450x850x38 mm (1,233 m2/PLACA) | F71: UNIDAD | G71: 1 | I71: 63.12 | M71: CAJA | N71: 10 | O71: 8435447411362 | P71: PALET | Q71: 50 | R71: 38435447411363
A72: 01 | B72: SISTEMAS SUELO RADIANTE | C72: SRPG38K | D72: 14000080 | E72: PANEL 8 m2. GRAFIKLETT AUTOFICACION EPS-100 38 mm (8 m2/ROLLO) | F72: ROLLO | G72: 1 | H72: 8435447410150 | I72: 400.21 | M72: BOLSA | N72: 1 | O72: 8435447410150 | P72: PALET | Q72: 7 | R72: 38435447410151
A73: 01 | B73: SISTEMAS SUELO RADIANTE | C73: SRSLT23 | D73: 14000093 | E73: PANEL SLIMTAC23 TERMOCONFORMADO 1450x850x23 mm (16 PLACAS) | F73: UNIDAD | G73: 1 | I73: 46.1 | M73: CAJA | N73: 16 | O73: 8435447416961 | P73: PALET | Q73: 80 | R73: 38435447416962
A74: 01 | B74: SISTEMAS SUELO RADIANTE | C74: SRSLT38 | D74: 14000094 | E74: PANEL SLIMTAC38 TERMOCONFORMADO 1450x850x38 mm (11 PLACAS) | F74: UNIDAD | G74: 1 | I74: 60 | M74: CAJA | N74: 11 | O74: 8435447416978 | P74: PALET | Q74: 55 | R74: 38435447416979
A75: 01 | B75: SISTEMAS SUELO RADIANTE | C75: SRREDFB | D75: 14000081 | E75: MT2 RED DE FIBRA | F75: UNIDAD | G75: 1 | I75: 10.09 | M75: ROLLO | N75: 50 | O75: 8435447406054
A76: 01 | B76: SISTEMAS SUELO RADIANTE | C76: SRTCEX | D76: 14000082 | E76: TACO DE EXPANSION 10x70 Ø10 | F76: UNIDAD | G76: 1 | I76: 0.64 | M76: CAJA | N76: 100 | O76: 8435447406061
A77: 01 | B77: SISTEMAS SUELO RADIANTE | C77: RGNBC8 | D77: 14000084 | E77: BASE DE CONTROL POR CABLE 8 ZONAS CON CONTROL DE BOMBA Y CALDERA | F77: UNIDAD | G77: 1 | H77: 8435447417906 | I77: 229.14 | M77: CAJA | N77: 1 | O77: 8435447417906
A78: 01 | B78: SISTEMAS SUELO RADIANTE | C78: RGNBW8 | D78: 14000085 | E78: BASE DE CONTROL INALÁMBRICA 8 ZONAS CON CONTROL DE BOMBA Y CALDERA | F78: UNIDAD | G78: 1 | H78: 8435447422689 | I78: 895.23 | M78: CAJA | N78: 1 | O78: 8435447422689
A79: 01 | B79: SISTEMAS SUELO RADIANTE | C79: RGNTDCFC | D79: 14000086 | E79: TERMOSTATO DIGITAL POR CABLE FRIO/CALOR PARA BASE RGNBC8 | F79: UNIDAD | G79: 1 | H79: 8435447422696 | I79: 95.92 | M79: CAJA | N79: 1 | O79: 8435447422696
A80: 01 | B80: SISTEMAS SUELO RADIANTE | C80: RGNTDCFCW | D80: 14000087 | E80: TERMOSTATO DIGITAL POR CABLE FRIO/CALOR PARA BASE RGNBW8 | F80: UNIDAD | G80: 1 | H80: 8435447423112 | I80: 149.21 | M80: CAJA | N80: 1 | O80: 8435447423112
A81: 01 | B81: SISTEMAS SUELO RADIANTE | C81: RGNTWFC | D81: 14000088 | E81: TERMOSTATO DIGITAL SEMANAL INALÁMBRICO FRIO/CALOR PARA BASE RGNBW8 | F81: UNIDAD | G81: 1 | H81: 8435447423129 | I81: 157.73 | M81: CAJA | N81: 1 | O81: 8435447423129
A82: 01 | B82: SISTEMAS SUELO RADIANTE | C82: SRPB5T | D82: 14000090 | E82: PANEL AISLANTE TERMOCONFORMADO MINI BASE 5 mm (1,233m2/PLACA) | F82: UNIDAD | G82: 1 | I82: 37.27 | M82: CAJA | N82: 12 | O82: 8435447414578 | P82: PALET | Q82: 120 | R82: 38435447414579
A83: 01 | B83: SISTEMAS SUELO RADIANTE | C83: DFG | D83: 14000092 | E83: DESFANGADOR | F83: UNIDAD | G83: 1 | H83: 8435447416855 | I83: 307.04 | M83: CAJA | N83: 1 | O83: 8435447416855 | P83: CARTÓN | Q83: 6 | R83: 28435447416859
A84: 01 | B84: SISTEMAS SUELO RADIANTE | C84: SRBYPASSINC | D84: 14000095 | E84: BYPASS COLECTOR | F84: UNIDAD | G84: 1 | H84: 8435447424638 | I84: 165 | M84: CAJA | N84: 1 | O84: 8435447424638
A85: 01 | B85: SISTEMAS SUELO RADIANTE | C85: RGNTDCFCP | D85: 14000096 | E85: TERMOSTATO DIGITAL POR CABLE F/C GRAN DISPLAY PARA BASE RGNBC8 COLOR BLANCO | F85: UNIDAD | G85: 1 | H85: 8435447423105 | I85: 140 | M85: CAJA | N85: 1 | O85: 8435447423105
A86: 01 | B86: SISTEMAS SUELO RADIANTE | C86: RGEZWBC8 | D86: 14000097 | E86: BASE DE CONTROL 6 ZONAS INALAMBRICAS ZIGBEE + 2 ZONAS CABLEADAS | F86: UNIDAD | G86: 1 | H86: 8435447424645 | I86: 296 | M86: CAJA | N86: 1 | O86: 8435447424645
A87: 01 | B87: SISTEMAS SUELO RADIANTE | C87: RGEZWGATE | D87: 14000098 | E87: INTERNET SMART GATEWAY | F87: UNIDAD | G87: 1 | H87: 8435447424652 | I87: 190 | M87: CAJA | N87: 1 | O87: 8435447424652
A88: 01 | B88: SISTEMAS SUELO RADIANTE | C88: RGEZWCFCB | D88: 14000099 | E88: TERMOSTATO DIGITAL POR CABLE FRIO CALOR PARA BASE RGEZWBC8 BLANCO | F88: UNIDAD | G88: 1 | H88: 8435447424669 | I88: 150 | M88: CAJA | N88: 1 | O88: 8435447424669
A89: 01 | B89: SISTEMAS SUELO RADIANTE | C89: RGEZWCFCN | D89: 14000100 | E89: TERMOSTATO DIGITAL POR CABLE FRIO CALOR PARA BASE RGEZWBC8 NEGRO | F89: UNIDAD | G89: 1 | H89: 8435447424676 | I89: 150 | M89: CAJA | N89: 1 | O89: 8435447424676
A90: 01 | B90: SISTEMAS SUELO RADIANTE | C90: RGEZWPB | D90: 14000101 | E90: TERMOSTATO DIGITAL INALAMBRICO FRIO CALOR PARA BASE RGEZWBC8 BLANCO | F90: UNIDAD | G90: 1 | H90: 8435447424683 | I90: 150 | M90: CAJA | N90: 1 | O90: 8435447424683
A91: 01 | B91: SISTEMAS SUELO RADIANTE | C91: RGEZWPN | D91: 14000102 | E91: TERMOSTATO DIGITAL INALAMBRICO FRIO CALOR PARA BASE RGEZWBC8 NEGRO | F91: UNIDAD | G91: 1 | H91: 8435447424690 | I91: 150 | M91: CAJA | N91: 1 | O91: 8435447424690
A92: 01 | B92: SISTEMAS SUELO RADIANTE | C92: RGEBC8 | D92: 14000103 | E92: BASE DE CONTROL POR CABLE 8 ZONAS CON CONTROL DE BOMBA Y CALDERA ECONOMY | F92: UNIDAD | G92: 1 | H92: 8435447424706 | I92: 129.65 | M92: CAJA | N92: 1 | O92: 8435447424706
A93: 01 | B93: SISTEMAS SUELO RADIANTE | C93: RGEACTEL | D93: 14000104 | E93: CABEZAL ELECTROTERMICO 230V 2 HILOS ECONOMY | F93: UNIDAD | G93: 1 | H93: 8435447424713 | I93: 25 | M93: CAJA | N93: 1 | O93: 8435447424713
A94: 02 | B94: TUBERÍAS PLÁSTICAS | C94: PRETSR1650 | D94: 1000002 | E94: PEXa 16 x 1,8 ROLLO 50 MTS | F94: METRO | G94: 1 | I94: 2.43 | M94: ROLLO | N94: 50 | O94: 8436031826661 | P94: PALET | Q94: 2600 | R94: 18436031826668
A95: 02 | B95: TUBERÍAS PLÁSTICAS | C95: PRETSR16 | D95: 1000004 | E95: PEXa 16 x 1,8 ROLLO 120 MTS | F95: METRO | G95: 1 | I95: 2.12 | M95: ROLLO | N95: 120 | O95: 8436031829518 | P95: PALET | Q95: 4560 | R95: 18436031829515
A96: 02 | B96: TUBERÍAS PLÁSTICAS | C96: PRETSR16200 | D96: 1000025 | E96: PEXa 16 x 1,8 ROLLO 200 MTS | F96: METRO | G96: 1 | I96: 2.01 | M96: ROLLO | N96: 200 | O96: 8435447414592 | P96: PALET | Q96: 5200 | R96: 18435447414599
A97: 02 | B97: TUBERÍAS PLÁSTICAS | C97: PRETSR2050 | D97: 1000006 | E97: PEXa 20 x 1,9 ROLLO 50 MTS | F97: METRO | G97: 1 | I97: 3.06 | M97: ROLLO | N97: 50 | O97: 8436031826531 | P97: PALET | Q97: 1900 | R97: 18436031826538
A98: 02 | B98: TUBERÍAS PLÁSTICAS | C98: PRETSR20 | D98: 1000008 | E98: PEXa 20 x 1,9 ROLLO 120 MTS | F98: METRO | G98: 1 | I98: 2.69 | M98: ROLLO | N98: 120 | O98: 8436031829556 | P98: PALET | Q98: 3120 | R98: 18436031829553
A99: 02 | B99: TUBERÍAS PLÁSTICAS | C99: PRETSR25 | D99: 1000011 | E99: PEXa 25 x 2,3 ROLLO 50 MTS | F99: METRO | G99: 1 | I99: 4.4 | M99: ROLLO | N99: 50 | O99: 8436031829594 | P99: PALET | Q99: 1800 | R99: 18436031829591
A100: 02 | B100: TUBERÍAS PLÁSTICAS | C100: PRETSR25100 | D100: 1000012 | E100: PEXa 25 x 2,3 ROLLO 100 MTS | F100: METRO | G100: 1 | I100: 4.26 | M100: ROLLO | N100: 100 | O100: 8435447417548 | P100: PALET | Q100: 1800 | R100: 18435447417545
A101: 02 | B101: TUBERÍAS PLÁSTICAS | C101: PRETSR32 | D101: 1000014 | E101: PEXa 32 x 2,9 ROLLO 50 MTS | F101: METRO | G101: 1 | I101: 7.51 | M101: ROLLO | N101: 50 | O101: 8436031829617 | P101: PALET | Q101: 1100 | R101: 18436031829614
A102: 02 | B102: TUBERÍAS PLÁSTICAS | C102: PRETSB416 | D102: 1000026 | E102: PEXa 16 x 1,8 BARRA 4 METROS (160 MTS FARDO) | F102: METRO | G102: 4 | H102: 8435447411287 | I102: 2.1 | M102: FARDO | N102: 160 | O102: 8435447417609 | P102: JAULA | Q102: 4800 | R102: 38435447411288
A103: 02 | B103: TUBERÍAS PLÁSTICAS | C103: PRETSB420 | D103: 1000027 | E103: PEXa 20 x 1,9 BARRA 4 MTS (120 MTS FARDO) | F103: METRO | G103: 4 | H103: 8435447411294 | I103: 2.73 | M103: FARDO | N103: 120 | O103: 8435447417463 | P103: JAULA | Q103: 3600 | R103: 38435447411295
A104: 02 | B104: TUBERÍAS PLÁSTICAS | C104: PRETSB425 | D104: 1000028 | E104: PEXa 25 x 2,3 BARRA 4 MTS (80 MTS FARDO) | F104: METRO | G104: 4 | H104: 8435447411300 | I104: 4.43 | M104: FARDO | N104: 80 | O104: 8435447417470 | P104: JAULA | Q104: 2400 | R104: 38435447411301
A105: 02 | B105: TUBERÍAS PLÁSTICAS | C105: PRETSB432 | D105: 1000029 | E105: PEXa 32 x 2,9 BARRA 4 MTS (60 MTS FARDO) | F105: METRO | G105: 4 | H105: 8435447411317 | I105: 7.66 | M105: FARDO | N105: 60 | O105: 8435447417647 | P105: JAULA | Q105: 1500 | R105: 38435447411318
A106: 02 | B106: TUBERÍAS PLÁSTICAS | C106: PRETSB40 | D106: 1000015 | E106: PEXa 40 x 3,7 PEX-A BARRA 4 MTS (32 MTS FARDO) | F106: METRO | G106: 4 | H106: 8436031829457 | I106: 21.59 | M106: FARDO | N106: 32 | O106: 8435447421095 | P106: JAULA | Q106: 640 | R106: 38436031829458
A107: 02 | B107: TUBERÍAS PLÁSTICAS | C107: PRETSB50 | D107: 1000016 | E107: PEXa 50 x 4,6 PEX-A BARRA 4 MTS (32 MTS FARDO) | F107: METRO | G107: 4 | H107: 8436031829464 | I107: 30.88 | M107: FARDO | N107: 32 | O107: 8435447421101 | P107: JAULA | Q107: 320 | R107: 38436031829465
...

Sheet 01.Suelo Radiante
A1: Texto en azul para artículos que estarán disponibles hasta final de existencias | E1: #VALUE!
A2: CÓDIGO FAMILIA | B2: DESCRIPCIÓN FAMILIA | C2: IMAGEN | D2: REFERENCIA ARTÍCULO | E2: CÓDIGO ARTÍCULO | F2: DESCRIPCIÓN ARTÍCULO | G2: UNIDAD MEDIDA INVENTARIO (U.M.I.) | H2: CANTIDAD U.M.I. | I2: EAN (CANTIDAD U.M.I.) | J2: PVP 26.4 (€/U.M.I.) | K2: UNIDAD VENTA 1 | L2: CANTIDAD U.V.1 | M2: EAN (U.V.1) | N2: UNIDAD VENTA 2 | O2: CANTIDAD U.V.2 | P2: EAN (U.V.2) | Q2: UNIDAD VENTA 3 | R2: CANTIDAD U.V.3 | S2: EAN (U.V.3)
A3: 01 | B3: SISTEMAS SUELO RADIANTE | C3: #VALUE! | D3: SRPG23K | E3: 14000078 | F3: PANEL 10 m2. GRAFIKLETT AUTOFICACION EPS-150 23 mm (10 m2/ROLLO) | G3: ROLLO | H3: 1 | I3: 8435447410143 | J3: =VLOOKUP(E3,' TARIFA 26.4'!$D$3:$I$20004,6,FALSE) -> 359.61 | N3: BOLSA | O3: 1 | P3: 8435447410143 | Q3: PALET | R3: 8 | S3: 38435447410144
A4: 01 | B4: SISTEMAS SUELO RADIANTE | C4: #VALUE! | D4: SRPG38K | E4: 14000080 | F4: PANEL 8 m2. GRAFIKLETT AUTOFICACION EPS-100 38 mm (8 m2/ROLLO) | G4: ROLLO | H4: 1 | I4: 8435447410150 | J4: =VLOOKUP(E4,' TARIFA 26.4'!$D$3:$I$20004,6,FALSE) -> 400.21 | N4: BOLSA | O4: 1 | P4: 8435447410150 | Q4: PALET | R4: 7 | S4: 38435447410151
A5: 01 | B5: SISTEMAS SUELO RADIANTE | C5: #VALUE! | D5: SRSLT23 | E5: 14000093 | F5: PANEL SLIMTAC23 TERMOCONFORMADO 1450x850x23 mm (16 PLACAS) | G5: UNIDAD | H5: 1 | J5: =VLOOKUP(E5,' TARIFA 26.4'!$D$3:$I$20004,6,FALSE) -> 46.1 | N5: CAJA | O5: 16 | P5: 8435447416961 | Q5: PALET | R5: 80 | S5: 38435447416962
A6: 01 | B6: SISTEMAS SUELO RADIANTE | C6: #VALUE! | D6: SRSLT38 | E6: 14000094 | F6: PANEL SLIMTAC38 TERMOCONFORMADO 1450x850x38 mm (11 PLACAS) | G6: UNIDAD | H6: 1 | J6: =VLOOKUP(E6,' TARIFA 26.4'!$D$3:$I$20004,6,FALSE) -> 60 | N6: CAJA | O6: 11 | P6: 8435447416978 | Q6: PALET | R6: 55 | S6: 38435447416979
A7: 01 | B7: SISTEMAS SUELO RADIANTE | C7: #VALUE! | D7: SRPG23T | E7: 14000077 | F7: PANEL AISL.GRAFIPLAC TERMOCONF 23 kg./m3 1450x850x23 mm (1,233 m2/PLACA) | G7: UNIDAD | H7: 1 | J7: =VLOOKUP(E7,' TARIFA 26.4'!$D$3:$I$20004,6,FALSE) -> 48.53 | N7: CAJA | O7: 14 | P7: 8435447411355 | Q7: PALET | R7: 70 | S7: 38435447411356
A8: 01 | B8: SISTEMAS SUELO RADIANTE | C8: #VALUE! | D8: SRPG38T | E8: 14000079 | F8: PANEL AISL.GRAFIPLAC TERMOCONF 23 kg./m3 1450x850x38 mm (1,233 m2/PLACA) | G8: UNIDAD | H8: 1 | J8: =VLOOKUP(E8,' TARIFA 26.4'!$D$3:$I$20004,6,FALSE) -> 63.12 | N8: CAJA | O8: 10 | P8: 8435447411362 | Q8: PALET | R8: 50 | S8: 38435447411363
A9: 01 | B9: SISTEMAS SUELO RADIANTE | C9: #VALUE! | D9: SRPB5T | E9: 14000090 | F9: PANEL AISLANTE TERMOCONFORMADO MINI BASE 5 mm (1,233m2/PLACA) | G9: UNIDAD | H9: 1 | J9: =VLOOKUP(E9,' TARIFA 26.4'!$D$3:$I$20004,6,FALSE) -> 37.27 | N9: CAJA | O9: 12 | P9: 8435447414578 | Q9: PALET | R9: 120 | S9: 38435447414579
A10: 01 | B10: SISTEMAS SUELO RADIANTE | C10: #VALUE! | D10: SRPB10T | E10: 14000073 | F10: PLACA PANEL AISLANTE TERMOCONFORMADO MINI 30 kg./m3 1450x850x10 mm (1,233m2/PLACA) | G10: UNIDAD | H10: 1 | J10: =VLOOKUP(E10,' TARIFA 26.4'!$D$3:$I$20004,6,FALSE) -> 39.72 | N10: CAJA | O10: 24 | P10: 8436031825404 | Q10: PALET | R10: 120 | S10: 38436031825405
A11: 01 | B11: SISTEMAS SUELO RADIANTE | C11: #VALUE! | D11: SRPB30G | E11: 14000075 | F11: PANEL 10 m2. LISO TERMICO CON GEOTEXTIL EPS-100 30 mm (10 m2 ROLLO) | G11: ROLLO | H11: 1 | I11: 8435447407624 | J11: =VLOOKUP(E11,' TARIFA 26.4'!$D$3:$I$20004,6,FALSE) -> 348 | N11: BOLSA | O11: 1 | P11: 8435447407624 | Q11: PALET | R11: 7 | S11: 38435447407625
A12: 01 | B12: SISTEMAS SUELO RADIANTE | C12: #VALUE! | D12: SRBP | E12: 14000025 | F12: ROLLO 50 M.L. BANDA PERIMETRAL CON FALDON Y ADHESIVO | G12: UNIDAD | H12: 1 | I12: 8436031828450 | J12: =VLOOKUP(E12,' TARIFA 26.4'!$D$3:$I$20004,6,FALSE) -> 122.18 | N12: BOLSA | O12: 5 | P12: 28436031828454 | Q12: PALET | R12: 30 | S12: 38436031828451
A13: 01 | B13: SISTEMAS SUELO RADIANTE | C13: #VALUE! | D13: SRKC3 | E13: 14000045 | F13: KIT COMPACT PLUS COMPLETO 1" 3+3 | G13: UNIDAD | H13: 1 | I13: 8436031825459 | J13: =VLOOKUP(E13,' TARIFA 26.4'!$D$3:$I$20004,6,FALSE) -> 488.16 | N13: CAJA | O13: 1 | P13: 8436031825459
A14: 01 | B14: SISTEMAS SUELO RADIANTE | D14: SRKC4 | E14: 14000046 | F14: KIT COMPACT PLUS COMPLETO 1" 4+4 | G14: UNIDAD | H14: 1 | I14: 8436031825633 | J14: =VLOOKUP(E14,' TARIFA 26.4'!$D$3:$I$20004,6,FALSE) -> 564.74 | N14: CAJA | O14: 1 | P14: 8436031825633
A15: 01 | B15: SISTEMAS SUELO RADIANTE | D15: SRKC5 | E15: 14000047 | F15: KIT COMPACT PLUS COMPLETO 1" 5+5 | G15: UNIDAD | H15: 1 | I15: 8436031825640 | J15: =VLOOKUP(E15,' TARIFA 26.4'!$D$3:$I$20004,6,FALSE) -> 622.17 | N15: CAJA | O15: 1 | P15: 8436031825640
A16: 01 | B16: SISTEMAS SUELO RADIANTE | D16: SRKC6 | E16: 14000048 | F16: KIT COMPACT PLUS COMPLETO 1" 6+6 | G16: UNIDAD | H16: 1 | I16: 8436031825657 | J16: =VLOOKUP(E16,' TARIFA 26.4'!$D$3:$I$20004,6,FALSE) -> 670.03 | N16: CAJA | O16: 1 | P16: 8436031825657
A17: 01 | B17: SISTEMAS SUELO RADIANTE | D17: SRKC7 | E17: 14000049 | F17: KIT COMPACT PLUS COMPLETO 1" 7+7 | G17: UNIDAD | H17: 1 | I17: 8436031825664 | J17: =VLOOKUP(E17,' TARIFA 26.4'!$D$3:$I$20004,6,FALSE) -> 775.32 | N17: CAJA | O17: 1 | P17: 8436031825664
A18: 01 | B18: SISTEMAS SUELO RADIANTE | D18: SRKC8 | E18: 14000050 | F18: KIT COMPACT PLUS COMPLETO 1" 8+8 | G18: UNIDAD | H18: 1 | I18: 8436031825671 | J18: =VLOOKUP(E18,' TARIFA 26.4'!$D$3:$I$20004,6,FALSE) -> 832.76 | N18: CAJA | O18: 1 | P18: 8436031825671
A19: 01 | B19: SISTEMAS SUELO RADIANTE | D19: SRKC9 | E19: 14000051 | F19: KIT COMPACT PLUS COMPLETO 1" 9+9 | G19: UNIDAD | H19: 1 | I19: 8436031825688 | J19: =VLOOKUP(E19,' TARIFA 26.4'!$D$3:$I$20004,6,FALSE) -> 890.19 | N19: CAJA | O19: 1 | P19: 8436031825688
A20: 01 | B20: SISTEMAS SUELO RADIANTE | D20: SRKC10 | E20: 14000052 | F20: KIT COMPACT PLUS COMPLETO 1" 10+10 | G20: UNIDAD | H20: 1 | I20: 8436031828160 | J20: =VLOOKUP(E20,' TARIFA 26.4'!$D$3:$I$20004,6,FALSE) -> 947.62 | N20: CAJA | O20: 1 | P20: 8436031828160
A21: 01 | B21: SISTEMAS SUELO RADIANTE | D21: SRKC11 | E21: 14000053 | F21: KIT COMPACT PLUS COMPLETO 1" 11+11 | G21: UNIDAD | H21: 1 | I21: 8436031828177 | J21: =VLOOKUP(E21,' TARIFA 26.4'!$D$3:$I$20004,6,FALSE) -> 1052.91 | N21: CAJA | O21: 1 | P21: 8436031828177
A22: 01 | B22: SISTEMAS SUELO RADIANTE | D22: SRKC12 | E22: 14000054 | F22: KIT COMPACT PLUS COMPLETO 1" 12+12 | G22: UNIDAD | H22: 1 | I22: 8436031828184 | J22: =VLOOKUP(E22,' TARIFA 26.4'!$D$3:$I$20004,6,FALSE) -> 1100.76 | N22: CAJA | O22: 1 | P22: 8436031828184
A23: 01 | B23: SISTEMAS SUELO RADIANTE | C23: #VALUE! | D23: SRADPEX16 | E23: 14000023 | F23: EUROCONO 3/4" PARA TUBO PEX 16 MM. | G23: UNIDAD | H23: 1 | I23: 8436031828283 | J23: =VLOOKUP(E23,' TARIFA 26.4'!$D$3:$I$20004,6,FALSE) -> 5.65 | N23: CAJA | O23: 5 | P23: 8435447427783 | Q23: CARTÓN | R23: 240 | S23: 28436031828287
A24: 01 | B24: SISTEMAS SUELO RADIANTE | D24: SRADPEX20 | E24: 14000024 | F24: EUROCONO 3/4" PARA TUBO PEX 20 MM. | G24: UNIDAD | H24: 1 | I24: 8436031822830 | J24: =VLOOKUP(E24,' TARIFA 26.4'!$D$3:$I$20004,6,FALSE) -> 6.82 | N24: CAJA | O24: 5 | P24: 8435447427790 | Q24: CARTÓN | R24: 240 | S24: 28436031822834
A25: 01 | B25: SISTEMAS SUELO RADIANTE | D25: SRADMC16 | E25: 14000021 | F25: EUROCONO 3/4" PARA TUBO MULTICAPA 16 MM. | G25: UNIDAD | H25: 1 | I25: 8436031828290 | J25: =VLOOKUP(E25,' TARIFA 26.4'!$D$3:$I$20004,6,FALSE) -> 6.64 | N25: CAJA | O25: 5 | P25: 8435447427806 | Q25: CARTÓN | R25: 240 | S25: 28436031828294
A26: 01 | B26: SISTEMAS SUELO RADIANTE | D26: SRADMC20 | E26: 14000022 | F26: EUROCONO 3/4" PARA TUBO MULTICAPA 20 MM. | G26: UNIDAD | H26: 1 | I26: 8436031822823 | J26: =VLOOKUP(E26,' TARIFA 26.4'!$D$3:$I$20004,6,FALSE) -> 6.82 | N26: CAJA | O26: 5 | P26: 8435447427813 | Q26: CARTÓN | R26: 240 | S26: 28436031822827
A27: 01 | B27: SISTEMAS SUELO RADIANTE | C27: #VALUE! | D27: SRKITCP1 | E27: 14000065 | F27: KIT COLECTOR COMPLETO 1" COMPACT PLUS | G27: UNIDAD | H27: 1 | I27: 8436031826715 | J27: =VLOOKUP(E27,' TARIFA 26.4'!$D$3:$I$20004,6,FALSE) -> 246.95 | N27: CAJA | O27: 1 | P27: 8436031826715
A28: 01 | B28: SISTEMAS SUELO RADIANTE | C28: #VALUE! | D28: SRMBCP1 | E28: 14000070 | F28: CONJ.COL. 1 SALIDA COMPACT PLUS 1" IMPULSION+RETORNO | G28: UNIDAD | H28: 1 | I28: 8436031825107 | J28: =VLOOKUP(E28,' TARIFA 26.4'!$D$3:$I$20004,6,FALSE) -> 91.94 | N28: CAJA | O28: 1 | P28: 8436031825107
A29: 01 | B29: SISTEMAS SUELO RADIANTE | D29: SRMBCP3 | E29: 14000071 | F29: CONJ.COL. 3 SALIDAS COMPACT PLUS 1" IMPULSION+RETORNO | G29: UNIDAD | H29: 1 | I29: 8436031825114 | J29: =VLOOKUP(E29,' TARIFA 26.4'!$D$3:$I$20004,6,FALSE) -> 256.39 | N29: CAJA | O29: 1 | P29: 8436031825114
A30: 01 | B30: SISTEMAS SUELO RADIANTE | D30: SRMBCP6 | E30: 14000072 | F30: CONJ.COL. 6 SALIDAS COMPACT PLUS 1" IMPULSION+RETORNO | G30: UNIDAD | H30: 1 | I30: 8436031825121 | J30: =VLOOKUP(E30,' TARIFA 26.4'!$D$3:$I$20004,6,FALSE) -> 485.24 | N30: CAJA | O30: 1 | P30: 8436031825121
A31: 01 | B31: SISTEMAS SUELO RADIANTE | C31: #VALUE! | D31: SRBYPASS | E31: 14000026 | F31: BYPASS COLECTOR COMPACT PLUS | G31: UNIDAD | H31: 1 | I31: 8435447406016 | J31: =VLOOKUP(E31,' TARIFA 26.4'!$D$3:$I$20004,6,FALSE) -> 199.42 | N31: CAJA | O31: 1 | P31: 8435447406016
A32: 01 | B32: SISTEMAS SUELO RADIANTE | C32: #VALUE! | D32: SRCCONX | E32: 14000032 | F32: CONJUNTO CODOS CONEXION COLECTOR COMPACT PLUS | G32: UNIDAD | H32: 1 | I32: 8435447406023 | J32: =VLOOKUP(E32,' TARIFA 26.4'!$D$3:$I$20004,6,FALSE) -> 86.42 | N32: CAJA | O32: 1 | P32: 8435447406023
A33: 01 | B33: SISTEMAS SUELO RADIANTE | C33: #VALUE! | D33: SRKITTMTR | E33: 14000067 | F33: KIT TERMOMETROS COMPACT PLUS | G33: UNIDAD | H33: 1 | I33: 8436031825305 | J33: =VLOOKUP(E33,' TARIFA 26.4'!$D$3:$I$20004,6,FALSE) -> 30.57 | K33: UNIDAD | L33: 1 | M33: 8436031825305 | N33: CAJA | O33: 15 | P33: 28436031825309
A34: 01 | B34: SISTEMAS SUELO RADIANTE | C34: #VALUE! | D34: SRKITPGDCP | E34: 14000066 | F34: KIT PURGADORES 3/8" COMPACT PLUS | G34: UNIDAD | H34: 1 | I34: 8436031825725 | J34: =VLOOKUP(E34,' TARIFA 26.4'!$D$3:$I$20004,6,FALSE) -> 46.53 | K34: UNIDAD | L34: 1 | M34: 8436031825725 | N34: CAJA | O34: 50 | P34: 28436031825729
A35: 01 | B35: SISTEMAS SUELO RADIANTE | C35: #VALUE! | D35: SRKITVESFC1 | E35: 14000068 | F35: KIT VALVULAS DE ESFERA MH 1" PARA COLECTOR SUELO RADIANTE | G35: UNIDAD | H35: 1 | I35: 8436031828047 | J35: =VLOOKUP(E35,' TARIFA 26.4'!$D$3:$I$20004,6,FALSE) -> 54.45 | N35: CAJA | O35: 1 | P35: 8436031828047
A36: 01 | B36: SISTEMAS SUELO RADIANTE | C36: #VALUE! | D36: SRKCIN3 | E36: 14000058 | F36: KIT COLECTOR 3+3 ACERO INOXIDABLE AISI 304L COMPLETO | G36: UNIDAD | H36: 1 | I36: 8436031823295 | J36: =VLOOKUP(E36,' TARIFA 26.4'!$D$3:$I$20004,6,FALSE) -> 286 | N36: CAJA | O36: 1 | P36: 8436031823295 | Q36: CARTÓN | R36: 4 | S36: 28436031823299
A37: 01 | B37: SISTEMAS SUELO RADIANTE | D37: SRKCIN4 | E37: 14000059 | F37: KIT COLECTOR 4+4 ACERO INOXIDABLE AISI 304L COMPLETO | G37: UNIDAD | H37: 1 | I37: 8436031823301 | J37: =VLOOKUP(E37,' TARIFA 26.4'!$D$3:$I$20004,6,FALSE) -> 332.2 | N37: CAJA | O37: 1 | P37: 8436031823301 | Q37: CARTÓN | R37: 3 | S37: 28436031823305
A38: 01 | B38: SISTEMAS SUELO RADIANTE | D38: SRKCIN5 | E38: 14000060 | F38: KIT COLECTOR 5+5 ACERO INOXIDABLE AISI 304L COMPLETO | G38: UNIDAD | H38: 1 | I38: 8436031823356 | J38: =VLOOKUP(E38,' TARIFA 26.4'!$D$3:$I$20004,6,FALSE) -> 380.6 | N38: CAJA | O38: 1 | P38: 8436031823356 | Q38: CARTÓN | R38: 3 | S38: 28436031823350
A39: 01 | B39: SISTEMAS SUELO RADIANTE | D39: SRKCIN6 | E39: 14000061 | F39: KIT COLECTOR 6+6 ACERO INOXIDABLE AISI 304L COMPLETO | G39: UNIDAD | H39: 1 | I39: 8436031823387 | J39: =VLOOKUP(E39,' TARIFA 26.4'!$D$3:$I$20004,6,FALSE) -> 436.7 | N39: CAJA | O39: 1 | P39: 8436031823387 | Q39: CARTÓN | R39: 3 | S39: 28436031823381
A40: 01 | B40: SISTEMAS SUELO RADIANTE | D40: SRKCIN7 | E40: 14000062 | F40: KIT COLECTOR 7+7 ACERO INOXIDABLE AISI 304L COMPLETO | G40: UNIDAD | H40: 1 | I40: 8436031823394 | J40: =VLOOKUP(E40,' TARIFA 26.4'!$D$3:$I$20004,6,FALSE) -> 478.5 | N40: CAJA | O40: 1 | P40: 8436031823394 | Q40: CARTÓN | R40: 2 | S40: 28436031823398
A41: 01 | B41: SISTEMAS SUELO RADIANTE | D41: SRKCIN8 | E41: 14000063 | F41: KIT COLECTOR 8+8 ACERO INOXIDABLE AISI 304L COMPLETO | G41: UNIDAD | H41: 1 | I41: 8436031823325 | J41: =VLOOKUP(E41,' TARIFA 26.4'!$D$3:$I$20004,6,FALSE) -> 513.7 | N41: CAJA | O41: 1 | P41: 8436031823325 | Q41: CARTÓN | R41: 2 | S41: 28436031823329
A42: 01 | B42: SISTEMAS SUELO RADIANTE | D42: SRKCIN9 | E42: 14000064 | F42: KIT COLECTOR 9+9 ACERO INOXIDABLE AISI 304L COMPLETO | G42: UNIDAD | H42: 1 | I42: 8436031823349 | J42: =VLOOKUP(E42,' TARIFA 26.4'!$D$3:$I$20004,6,FALSE) -> 568.7 | N42: CAJA | O42: 1 | P42: 8436031823349 | Q42: CARTÓN | R42: 2 | S42: 28436031823343
A43: 01 | B43: SISTEMAS SUELO RADIANTE | D43: SRKCIN10 | E43: 14000055 | F43: KIT COLECTOR 10+10 ACERO INOXIDABLE AISI 304L COMPLETO | G43: UNIDAD | H43: 1 | I43: 8436031823431 | J43: =VLOOKUP(E43,' TARIFA 26.4'!$D$3:$I$20004,6,FALSE) -> 616 | N43: CAJA | O43: 1 | P43: 8436031823431 | Q43: CARTÓN | R43: 2 | S43: 28436031823435
A44: 01 | B44: SISTEMAS SUELO RADIANTE | D44: SRKCIN11 | E44: 14000056 | F44: KIT COLECTOR 11+11 ACERO INOXIDABLE AISI 304L COMPLETO | G44: UNIDAD | H44: 1 | I44: 8436031823448 | J44: =VLOOKUP(E44,' TARIFA 26.4'!$D$3:$I$20004,6,FALSE) -> 664.4 | N44: CAJA | O44: 1 | P44: 8436031823448 | Q44: CARTÓN | R44: 2 | S44: 28436031823442
A45: 01 | B45: SISTEMAS SUELO RADIANTE | D45: SRKCIN12 | E45: 14000057 | F45: KIT COLECTOR 12+12 ACERO INOXIDABLE AISI 304L COMPLETO | G45: UNIDAD | H45: 1 | I45: 8436031823462 | J45: =VLOOKUP(E45,' TARIFA 26.4'!$D$3:$I$20004,6,FALSE) -> 711.7 | N45: CAJA | O45: 1 | P45: 8436031823462 | Q45: CARTÓN | R45: 2 | S45: 28436031823466
A46: 01 | B46: SISTEMAS SUELO RADIANTE | C46: #VALUE! | D46: SRBYPASSINC | E46: 14000095 | F46: BYPASS COLECTOR | G46: UNIDAD | H46: 1 | I46: 8435447424638 | J46: =VLOOKUP(E46,' TARIFA 26.4'!$D$3:$I$20004,6,FALSE) -> 165 | N46: CAJA | O46: 1 | P46: 8435447424638
A47: 01 | B47: SISTEMAS SUELO RADIANTE | C47: #VALUE! | D47: SRCC450 | E47: 14000028 | F47: C.COMPACTBOX COLECTORES DE 2 A 4 SALIDAS 450 / 705-805 / 80-100 | G47: UNIDAD | H47: 1 | I47: 8435447409369 | J47: =VLOOKUP(E47,' TARIFA 26.4'!$D$3:$I$20004,6,FALSE) -> 232.76 | N47: CAJA | O47: 1 | P47: 8435447409369
A48: 01 | B48: SISTEMAS SUELO RADIANTE | D48: SRCC530 | E48: 14000029 | F48: C.COMPACTBOX COLECT. DE 5 A 6 SALIDAS 530 / 705-805 / 80-100 | G48: UNIDAD | H48: 1 | I48: 8435447409376 | J48: =VLOOKUP(E48,' TARIFA 26.4'!$D$3:$I$20004,6,FALSE) -> 253.74 | N48: CAJA | O48: 1 | P48: 8435447409376
A49: 01 | B49: SISTEMAS SUELO RADIANTE | D49: SRCC680 | E49: 14000030 | F49: C.COMPACTBOX COLECT. DE 7 A 10 SALIDAS 680 / 705-805 / 80-100 | G49: UNIDAD | H49: 1 | I49: 8435447409383 | J49: =VLOOKUP(E49,' TARIFA 26.4'!$D$3:$I$20004,6,FALSE) -> 298.61 | N49: CAJA | O49: 1 | P49: 8435447409383
A50: 01 | B50: SISTEMAS SUELO RADIANTE | D50: SRCC830 | E50: 14000031 | F50: C.COMPACTBOX COLECT. DE 11 A 12 SALIDAS 830 / 705-805 / 80-100 | G50: UNIDAD | H50: 1 | I50: 8435447409390 | J50: =VLOOKUP(E50,' TARIFA 26.4'!$D$3:$I$20004,6,FALSE) -> 330.66 | N50: CAJA | O50: 1 | P50: 8435447409390
A51: 01 | B51: SISTEMAS SUELO RADIANTE | D51: SRCC1030 | E51: 14000027 | F51: CAJA COMPACTBOX PARA COLECTORES DE 13 A 16 SALIDAS 1030 / 705-805 / 80-100 | G51: UNIDAD | H51: 1 | I51: 8435447409406 | J51: =VLOOKUP(E51,' TARIFA 26.4'!$D$3:$I$20004,6,FALSE) -> 403.59 | N51: CAJA | O51: 1 | P51: 8435447409406
A52: 01 | B52: SISTEMAS SUELO RADIANTE | C52: #VALUE! | D52: SRCCMP530 | E52: 14000107 | F52: MARCO CON TAPA COMPACTBOX DE 5 A 6 SALIDAS 530 / 755-855 | G52: UNIDAD | H52: 1 | I52: 8435447429497 | J52: =VLOOKUP(E52,' TARIFA 26.4'!$D$3:$I$20004,6,FALSE) -> 89.87 | N52: CAJA | O52: 1 | P52: 8435447429497
A53: 01 | B53: SISTEMAS SUELO RADIANTE | D53: SRCCMP680 | E53: 14000108 | F53: MARCO CON TAPA COMPACTBOX DE 7 A 10 SALIDAS 680 / 755-855 | G53: UNIDAD | H53: 1 | I53: 8435447429503 | J53: =VLOOKUP(E53,' TARIFA 26.4'!$D$3:$I$20004,6,FALSE) -> 112.37 | N53: CAJA | O53: 1 | P53: 8435447429503
A54: 01 | B54: SISTEMAS SUELO RADIANTE | D54: SRCCMP830 | E54: 14000109 | F54: MARCO CON TAPA COMPACTBOX DE 11 A 12 SALIDAS 830 / 755-855 | G54: UNIDAD | H54: 1 | I54: 8435447429510 | J54: =VLOOKUP(E54,' TARIFA 26.4'!$D$3:$I$20004,6,FALSE) -> 146.75 | N54: CAJA | O54: 1 | P54: 8435447429510
A55: 01 | B55: SISTEMAS SUELO RADIANTE | D55: SRCCMP1030 | E55: 14000110 | F55: MARCO CON TAPA COMPACTBOX DE 13 A 16 SALIDAS 1030 / 755-855 | G55: UNIDAD | H55: 1 | I55: 8435447429527 | J55: =VLOOKUP(E55,' TARIFA 26.4'!$D$3:$I$20004,6,FALSE) -> 158.68 | N55: CAJA | O55: 1 | P55: 8435447429527
A56: 01 | B56: SISTEMAS SUELO RADIANTE | C56: #VALUE! | D56: SRCI450 | E56: 14000035 | F56: CAJA INDUSTRIALBOX PARA COLECTORES DE 2 A 3 SALIDAS 450 / 705-805 / 110-160 | G56: UNIDAD | H56: 1 | I56: 8435447409413 | J56: =VLOOKUP(E56,' TARIFA 26.4'!$D$3:$I$20004,6,FALSE) -> 272.71 | N56: CAJA | O56: 1 | P56: 8435447409413
A57: 01 | B57: SISTEMAS SUELO RADIANTE | D57: SRCI530 | E57: 14000036 | F57: CAJA INDUSTRIALBOX PARA COLECTORES DE 4 A 5 SALIDAS 530 / 705-805 / 110-160 | G57: UNIDAD | H57: 1 | I57: 8435447409420 | J57: =VLOOKUP(E57,' TARIFA 26.4'!$D$3:$I$20004,6,FALSE) -> 295 | N57: CAJA | O57: 1 | P57: 8435447409420
A58: 01 | B58: SISTEMAS SUELO RADIANTE | D58: SRCI680 | E58: 14000037 | F58: CAJA INDUSTRIALBOX PARA COLECTORES DE 6 A 8 SALIDAS 680 / 705-805 / 110-160 | G58: UNIDAD | H58: 1 | I58: 8435447409437 | J58: =VLOOKUP(E58,' TARIFA 26.4'!$D$3:$I$20004,6,FALSE) -> 347.44 | N58: CAJA | O58: 1 | P58: 8435447409437
A59: 01 | B59: SISTEMAS SUELO RADIANTE | D59: SRCI830 | E59: 14000038 | F59: CAJA INDUSTRIALBOX PARA COLECTORES DE 9 A 11 SALIDAS 830 / 705-805 / 110-160 | G59: UNIDAD | H59: 1 | I59: 8435447409444 | J59: =VLOOKUP(E59,' TARIFA 26.4'!$D$3:$I$20004,6,FALSE) -> 384.69 | N59: CAJA | O59: 1 | P59: 8435447409444
A60: 01 | B60: SISTEMAS SUELO RADIANTE | D60: SRCI1030 | E60: 14000033 | F60: CAJA INDUSTRIALBOX PARA COLECTORES DE 12 A 13 SALIDAS 1030 / 705-805 / 110-160 | G60: UNIDAD | H60: 1 | I60: 8435447409451 | J60: =VLOOKUP(E60,' TARIFA 26.4'!$D$3:$I$20004,6,FALSE) -> 470.55 | N60: CAJA | O60: 1 | P60: 8435447409451
A61: 01 | B61: SISTEMAS SUELO RADIANTE | D61: SRCI1130 | E61: 14000034 | F61: CAJA INDUSTRIALBOX PARA COLECTORES DE 14 A 16 SALIDAS 1130 / 705-805 / 110-160 | G61: UNIDAD | H61: 1 | I61: 8435447409468 | J61: =VLOOKUP(E61,' TARIFA 26.4'!$D$3:$I$20004,6,FALSE) -> 496.82 | N61: CAJA | O61: 1 | P61: 8435447409468
A62: 01 | B62: SISTEMAS SUELO RADIANTE | C62: #VALUE! | D62: RGNBC8 | E62: 14000084 | F62: BASE DE CONTROL POR CABLE 8 ZONAS CON CONTROL DE BOMBA Y CALDERA | G62: UNIDAD | H62: 1 | I62: 8435447417906 | J62: =VLOOKUP(E62,' TARIFA 26.4'!$D$3:$I$20004,6,FALSE) -> 229.14 | N62: CAJA | O62: 1 | P62: 8435447417906
A63: 01 | B63: SISTEMAS SUELO RADIANTE | C63: #VALUE! | D63: RGNTDCFC | E63: 14000086 | F63: TERMOSTATO DIGITAL POR CABLE FRIO/CALOR PARA BASE RGNBC8 | G63: UNIDAD | H63: 1 | I63: 8435447422696 | J63: =VLOOKUP(E63,' TARIFA 26.4'!$D$3:$I$20004,6,FALSE) -> 95.92 | N63: CAJA | O63: 1 | P63: 8435447422696
A64: 01 | B64: SISTEMAS SUELO RADIANTE | C64: #VALUE! | D64: RGNTDCFCP | E64: 14000096 | F64: TERMOSTATO DIGITAL POR CABLE F/C GRAN DISPLAY PARA BASE RGNBC8 COLOR BLANCO | G64: UNIDAD | H64: 1 | I64: 8435447423105 | J64: =VLOOKUP(E64,' TARIFA 26.4'!$D$3:$I$20004,6,FALSE) -> 140 | N64: CAJA | O64: 1 | P64: 8435447423105
A65: 01 | B65: SISTEMAS SUELO RADIANTE | C65: #VALUE! | D65: RGNBW8 | E65: 14000085 | F65: BASE DE CONTROL INALÁMBRICA 8 ZONAS CON CONTROL DE BOMBA Y CALDERA | G65: UNIDAD | H65: 1 | I65: 8435447422689 | J65: =VLOOKUP(E65,' TARIFA 26.4'!$D$3:$I$20004,6,FALSE) -> 895.23 | N65: CAJA | O65: 1 | P65: 8435447422689
A66: 01 | B66: SISTEMAS SUELO RADIANTE | C66: #VALUE! | D66: RGNTDCFCW | E66: 14000087 | F66: TERMOSTATO DIGITAL POR CABLE FRIO/CALOR PARA BASE RGNBW8 | G66: UNIDAD | H66: 1 | I66: 8435447423112 | J66: =VLOOKUP(E66,' TARIFA 26.4'!$D$3:$I$20004,6,FALSE) -> 149.21 | N66: CAJA | O66: 1 | P66: 8435447423112
A67: 01 | B67: SISTEMAS SUELO RADIANTE | C67: #VALUE! | D67: RGNTWFC | E67: 14000088 | F67: TERMOSTATO DIGITAL SEMANAL INALÁMBRICO FRIO/CALOR PARA BASE RGNBW8 | G67: UNIDAD | H67: 1 | I67: 8435447423129 | J67: =VLOOKUP(E67,' TARIFA 26.4'!$D$3:$I$20004,6,FALSE) -> 157.73 | N67: CAJA | O67: 1 | P67: 8435447423129
A68: 01 | B68: SISTEMAS SUELO RADIANTE | C68: #VALUE! | D68: RGEZWBC8 | E68: 14000097 | F68: BASE DE CONTROL 6 ZONAS INALAMBRICAS ZIGBEE + 2 ZONAS CABLEADAS | G68: UNIDAD | H68: 1 | I68: 8435447424645 | J68: =VLOOKUP(E68,' TARIFA 26.4'!$D$3:$I$20004,6,FALSE) -> 296 | N68: CAJA | O68: 1 | P68: 8435447424645
A69: 01 | B69: SISTEMAS SUELO RADIANTE | C69: #VALUE! | D69: RGEZWGATE | E69: 14000098 | F69: INTERNET SMART GATEWAY | G69: UNIDAD | H69: 1 | I69: 8435447424652 | J69: =VLOOKUP(E69,' TARIFA 26.4'!$D$3:$I$20004,6,FALSE) -> 190 | N69: CAJA | O69: 1 | P69: 8435447424652
A70: 01 | B70: SISTEMAS SUELO RADIANTE | C70: #VALUE! | D70: RGEZWCFCB | E70: 14000099 | F70: TERMOSTATO DIGITAL POR CABLE FRIO CALOR PARA BASE RGEZWBC8 BLANCO | G70: UNIDAD | H70: 1 | I70: 8435447424669 | J70: =VLOOKUP(E70,' TARIFA 26.4'!$D$3:$I$20004,6,FALSE) -> 150 | N70: CAJA | O70: 1 | P70: 8435447424669
A71: 01 | B71: SISTEMAS SUELO RADIANTE | C71: #VALUE! | D71: RGEZWCFCN | E71: 14000100 | F71: TERMOSTATO DIGITAL POR CABLE FRIO CALOR PARA BASE RGEZWBC8 NEGRO | G71: UNIDAD | H71: 1 | I71: 8435447424676 | J71: =VLOOKUP(E71,' TARIFA 26.4'!$D$3:$I$20004,6,FALSE) -> 150 | N71: CAJA | O71: 1 | P71: 8435447424676
A72: 01 | B72: SISTEMAS SUELO RADIANTE | C72: #VALUE! | D72: RGEZWPB | E72: 14000101 | F72: TERMOSTATO DIGITAL INALAMBRICO FRIO CALOR PARA BASE RGEZWBC8 BLANCO | G72: UNIDAD | H72: 1 | I72: 8435447424683 | J72: =VLOOKUP(E72,' TARIFA 26.4'!$D$3:$I$20004,6,FALSE) -> 150 | N72: CAJA | O72: 1 | P72: 8435447424683
A73: 01 | B73: SISTEMAS SUELO RADIANTE | C73: #VALUE! | D73: RGEZWPN | E73: 14000102 | F73: TERMOSTATO DIGITAL INALAMBRICO FRIO CALOR PARA BASE RGEZWBC8 NEGRO | G73: UNIDAD | H73: 1 | I73: 8435447424690 | J73: =VLOOKUP(E73,' TARIFA 26.4'!$D$3:$I$20004,6,FALSE) -> 150 | N73: CAJA | O73: 1 | P73: 8435447424690
... A75: 01 | B75: SISTEMAS SUELO RADIANTE | C75: #VALUE! | D75: RGEACTEL | E75: 14000104 | F75: CABEZAL ELECTROTERMICO 230V 2 HILOS ECONOMY | G75: UNIDAD | H75: 1 | I75: 8435447424713 | J75: =VLOOKUP(E75,' TARIFA 26.4'!$D$3:$I$20004,6,FALSE) -> 25 | N75: CAJA | O75: 1 | P75: 8435447424713
A76: 01 | B76: SISTEMAS SUELO RADIANTE | C76: #VALUE! | D76: RGACTEL | E76: 14000004 | F76: CABEZAL ELECTROTERMICO 230 V 2 HILOS | G76: UNIDAD | H76: 1 | I76: 8436031825398 | J76: =VLOOKUP(E76,' TARIFA 26.4'!$D$3:$I$20004,6,FALSE) -> 50.22 | N76: CAJA | O76: 1 | P76: 8436031825398 | Q76: CARTÓN | R76: 8 | S76: 28436031825392
A77: 01 | B77: SISTEMAS SUELO RADIANTE | D77: RGACTEL4H | E77: 14000006 | F77: CABEZAL ELECTROTERMICO 230 V 4 HILOS | G77: UNIDAD | H77: 1 | I77: 8436031825695 | J77: =VLOOKUP(E77,' TARIFA 26.4'!$D$3:$I$20004,6,FALSE) -> 70.34 | N77: CAJA | O77: 1 | P77: 8436031825695 | Q77: CARTÓN | R77: 10 | S77: 28436031825699
A78: 01 | B78: SISTEMAS SUELO RADIANTE | D78: RGACTEL24 | E78: 14000005 | F78: CABEZAL ELECTROTERMICO 24 V 2 HILOS | G78: UNIDAD | H78: 1 | I78: 8436031822809 | J78: =VLOOKUP(E78,' TARIFA 26.4'!$D$3:$I$20004,6,FALSE) -> 50.22 | N78: CAJA | O78: 1 | P78: 8436031822809 | Q78: CARTÓN | R78: 10 | S78: 28436031822803
A79: 01 | B79: SISTEMAS SUELO RADIANTE | D79: RGACTEL4H24 | E79: 14000007 | F79: CABEZAL ELECTROTERMICO 24 V 4 HILOS | G79: UNIDAD | H79: 1 | I79: 8436031828122 | J79: =VLOOKUP(E79,' TARIFA 26.4'!$D$3:$I$20004,6,FALSE) -> 70.34 | N79: CAJA | O79: 1 | P79: 8436031828122 | Q79: CARTÓN | R79: 10 | S79: 28436031828126
A80: 01 | B80: SISTEMAS SUELO RADIANTE | C80: #VALUE! | D80: DFG | E80: 14000092 | F80: DESFANGADOR | G80: UNIDAD | H80: 1 | I80: 8435447416855 | J80: =VLOOKUP(E80,' TARIFA 26.4'!$D$3:$I$20004,6,FALSE) -> 307.04 | N80: CAJA | O80: 1 | P80: 8435447416855 | Q80: CARTÓN | R80: 6 | S80: 28435447416859
A81: 01 | B81: SISTEMAS SUELO RADIANTE | C81: #VALUE! | D81: SRJD | E81: 14000044 | F81: JUNTA DILATACION LONGITUD 2 METROS | G81: UNIDAD | H81: 1 | I81: 8436031828092 | J81: =VLOOKUP(E81,' TARIFA 26.4'!$D$3:$I$20004,6,FALSE) -> 25.95 | N81: CAJA | O81: 1 | P81: 8436031828092
A82: 01 | B82: SISTEMAS SUELO RADIANTE | C82: #VALUE! | D82: SRREDFB | E82: 14000081 | F82: MT2 RED DE FIBRA | G82: UNIDAD | H82: 1 | J82: =VLOOKUP(E82,' TARIFA 26.4'!$D$3:$I$20004,6,FALSE) -> 10.09 | N82: ROLLO | O82: 50 | P82: 8435447406054
A83: 01 | B83: SISTEMAS SUELO RADIANTE | C83: #VALUE! | D83: SRLAMINAPE02 | E83: 14000069 | F83: ROLLO 50Mx2M LAMINA PE 0,2mm. ESPESOR | G83: UNIDAD | H83: 1 | I83: 8436031825732 | J83: =VLOOKUP(E83,' TARIFA 26.4'!$D$3:$I$20004,6,FALSE) -> 263.41 | N83: ROLLO | O83: 1 | P83: 8436031825732
A84: 01 | B84: SISTEMAS SUELO RADIANTE | C84: #VALUE! | D84: SRADITIVO | E84: 14000020 | F84: BIDON 25 LT. ADITIVO MORTERO | G84: UNIDAD | H84: 1 | I84: 8436031828443 | J84: =VLOOKUP(E84,' TARIFA 26.4'!$D$3:$I$20004,6,FALSE) -> 161.91 | N84: BIDON | O84: 1 | P84: 8436031828443 | Q84: PALET | R84: 32 | S84: 38436031828444
A85: 01 | B85: SISTEMAS SUELO RADIANTE | C85: #VALUE! | D85: SRGRPML | E85: 14000043 | F85: GRAPA FIJACION PARA MALLAZO | G85: UNIDAD | H85: 1 | J85: =VLOOKUP(E85,' TARIFA 26.4'!$D$3:$I$20004,6,FALSE) -> 1.21 | N85: CARRIL | O85: 8 | P85: 8436031824742 | Q85: CARTÓN | R85: 400 | S85: 28436031824746
A86: 01 | B86: SISTEMAS SUELO RADIANTE | C86: #VALUE! | D86: SRCRL | E86: 14000039 | F86: CANALETA CON ARPÓN PARA FIJACION TUBO 16-20 MM. L= 1M. | G86: UNIDAD | H86: 1 | I86: 8436031822892 | J86: =VLOOKUP(E86,' TARIFA 26.4'!$D$3:$I$20004,6,FALSE) -> 6.09 | N86: CARRIL | O86: 1 | P86: 8436031822892
A87: 01 | B87: SISTEMAS SUELO RADIANTE | C87: #VALUE! | D87: CVT1618 | E87: 14000001 | F87: CURVATUBO 16-18 | G87: UNIDAD | H87: 1 | J87: =VLOOKUP(E87,' TARIFA 26.4'!$D$3:$I$20004,6,FALSE) -> 2.24 | N87: CAJA | O87: 25 | P87: 8436031826418 | Q87: CARTÓN | R87: 200 | S87: 28436031826412
A88: 01 | B88: SISTEMAS SUELO RADIANTE | D88: CVT20 | E88: 14000002 | F88: CURVATUBO 20 | G88: UNIDAD | H88: 1 | J88: =VLOOKUP(E88,' TARIFA 26.4'!$D$3:$I$20004,6,FALSE) -> 2.9 | N88: CAJA | O88: 25 | P88: 8436031826425 | Q88: CARTÓN | R88: 100 | S88: 28436031826429
A89: 01 | B89: SISTEMAS SUELO RADIANTE | D89: CVT2526 | E89: 14000003 | F89: CURVATUBO 25-26 | G89: UNIDAD | H89: 1 | J89: =VLOOKUP(E89,' TARIFA 26.4'!$D$3:$I$20004,6,FALSE) -> 7.15 | N89: CAJA | O89: 25 | P89: 8436031826432 | Q89: CARTÓN | R89: 100 | S89: 28436031826436
A90: 01 | B90: SISTEMAS SUELO RADIANTE | C90: #VALUE! | D90: SRTCEX | E90: 14000082 | F90: TACO DE EXPANSION 10x70 Ø10 | G90: UNIDAD | H90: 1 | J90: =VLOOKUP(E90,' TARIFA 26.4'!$D$3:$I$20004,6,FALSE) -> 0.64 | N90: CAJA | O90: 100 | P90: 8435447406061
A91: 01 | B91: SISTEMAS SUELO RADIANTE | C91: #VALUE! | D91: SRGRP40 | E91: 14000042 | F91: GRAPA 40MM. PARA SUELO (LOTE 300 UDS.) | G91: UNIDAD | H91: 1 | I91: 8436031824735 | J91: =VLOOKUP(E91,' TARIFA 26.4'!$D$3:$I$20004,6,FALSE) -> 30.61 | N91: CAJA | O91: 1 | P91: 8436031824735 | Q91: CARTÓN | R91: 28 | S91: 28436031824739
A92: 01 | B92: SISTEMAS SUELO RADIANTE | C92: #VALUE! | D92: SRGRP | E92: 14000041 | F92: GRAPADORA UNIVERSAL DE ALUMINIO PARA SUELO RADIANTE | G92: UNIDAD | H92: 1 | I92: 8436031824728 | J92: =VLOOKUP(E92,' TARIFA 26.4'!$D$3:$I$20004,6,FALSE) -> 550.29 | N92: CAJA | O92: 1 | P92: 8436031824728
A93: 01 | B93: SISTEMAS SUELO RADIANTE | C93: #VALUE! | D93: SRDEB | E93: 14000040 | F93: DESBOBINADOR TELESCOPICO | G93: UNIDAD | H93: 1 | I93: 8436031822908 | J93: =VLOOKUP(E93,' TARIFA 26.4'!$D$3:$I$20004,6,FALSE) -> 692.74 | N93: CAJA | O93: 1 | P93: 8436031822908

Sheet 02.Tuberías Plásticas
A1: Texto en azul para artículos que estarán disponibles hasta final de existencias | E1: #VALUE!
A2: CÓDIGO FAMILIA | B2: DESCRIPCIÓN FAMILIA | C2: IMAGEN | D2: REFERENCIA ARTÍCULO | E2: CÓDIGO ARTÍCULO | F2: DESCRIPCIÓN ARTÍCULO | G2: UNIDAD MEDIDA INVENTARIO (U.M.I.) | H2: CANTIDAD U.M.I. | I2: EAN (CANTIDAD U.M.I.) | J2: PVP 26.4 (€/U.M.I.) | K2: UNIDAD VENTA 1 | L2: CANTIDAD U.V.1 | M2: EAN (U.V.1) | N2: UNIDAD VENTA 2 | O2: CANTIDAD U.V.2 | P2: EAN (U.V.2) | Q2: UNIDAD VENTA 3 | R2: CANTIDAD U.V.3 | S2: EAN (U.V.3)
A3: 02 | B3: TUBERÍAS PLÁSTICAS | C3: #VALUE! | D3: PRETSR1650 | E3: 1000002 | F3: PEXa 16 x 1,8 ROLLO 50 MTS | G3: METRO | H3: 1 | J3: =VLOOKUP(E3,' TARIFA 26.4'!$D$3:$I$20004,6,FALSE) -> 2.43 | N3: ROLLO | O3: 50 | P3: 8436031826661 | Q3: PALET | R3: 2600 | S3: 18436031826668
A4: 02 | B4: TUBERÍAS PLÁSTICAS | D4: PRETSR16 | E4: 1000004 | F4: PEXa 16 x 1,8 ROLLO 120 MTS | G4: METRO | H4: 1 | J4: =VLOOKUP(E4,' TARIFA 26.4'!$D$3:$I$20004,6,FALSE) -> 2.12 | N4: ROLLO | O4: 120 | P4: 8436031829518 | Q4: PALET | R4: 4560 | S4: 18436031829515
A5: 02 | B5: TUBERÍAS PLÁSTICAS | D5: PRETSR16200 | E5: 1000025 | F5: PEXa 16 x 1,8 ROLLO 200 MTS | G5: METRO | H5: 1 | J5: =VLOOKUP(E5,' TARIFA 26.4'!$D$3:$I$20004,6,FALSE) -> 2.01 | N5: ROLLO | O5: 200 | P5: 8435447414592 | Q5: PALET | R5: 5200 | S5: 18435447414599
A6: 02 | B6: TUBERÍAS PLÁSTICAS | D6: PRETSR2050 | E6: 1000006 | F6: PEXa 20 x 1,9 ROLLO 50 MTS | G6: METRO | H6: 1 | J6: =VLOOKUP(E6,' TARIFA 26.4'!$D$3:$I$20004,6,FALSE) -> 3.06 | N6: ROLLO | O6: 50 | P6: 8436031826531 | Q6: PALET | R6: 1900 | S6: 18436031826538
A7: 02 | B7: TUBERÍAS PLÁSTICAS | D7: PRETSR20 | E7: 1000008 | F7: PEXa 20 x 1,9 ROLLO 120 MTS | G7: METRO | H7: 1 | J7: =VLOOKUP(E7,' TARIFA 26.4'!$D$3:$I$20004,6,FALSE) -> 2.69 | N7: ROLLO | O7: 120 | P7: 8436031829556 | Q7: PALET | R7: 3120 | S7: 18436031829553
A8: 02 | B8: TUBERÍAS PLÁSTICAS | D8: PRETSR25 | E8: 1000011 | F8: PEXa 25 x 2,3 ROLLO 50 MTS | G8: METRO | H8: 1 | J8: =VLOOKUP(E8,' TARIFA 26.4'!$D$3:$I$20004,6,FALSE) -> 4.4 | N8: ROLLO | O8: 50 | P8: 8436031829594 | Q8: PALET | R8: 1800 | S8: 18436031829591
A9: 02 | B9: TUBERÍAS PLÁSTICAS | D9: PRETSR25100 | E9: 1000012 | F9: PEXa 25 x 2,3 ROLLO 100 MTS | G9: METRO | H9: 1 | J9: =VLOOKUP(E9,' TARIFA 26.4'!$D$3:$I$20004,6,FALSE) -> 4.26 | N9: ROLLO | O9: 100 | P9: 8435447417548 | Q9: PALET | R9: 1800 | S9: 18435447417545
A10: 02 | B10: TUBERÍAS PLÁSTICAS | D10: PRETSR32 | E10: 1000014 | F10: PEXa 32 x 2,9 ROLLO 50 MTS | G10: METRO | H10: 1 | J10: =VLOOKUP(E10,' TARIFA 26.4'!$D$3:$I$20004,6,FALSE) -> 7.51 | N10: ROLLO | O10: 50 | P10: 8436031829617 | Q10: PALET | R10: 1100 | S10: 18436031829614
A11: 02 | B11: TUBERÍAS PLÁSTICAS | C11: #VALUE! | D11: PRETSB416 | E11: 1000026 | F11: PEXa 16 x 1,8 BARRA 4 METROS (160 MTS FARDO) | G11: METRO | H11: 4 | I11: 8435447411287 | J11: =VLOOKUP(E11,' TARIFA 26.4'!$D$3:$I$20004,6,FALSE) -> 2.1 | N11: FARDO | O11: 160 | P11: 8435447417609 | Q11: JAULA | R11: 4800 | S11: 38435447411288
A12: 02 | B12: TUBERÍAS PLÁSTICAS | D12: PRETSB420 | E12: 1000027 | F12: PEXa 20 x 1,9 BARRA 4 MTS (120 MTS FARDO) | G12: METRO | H12: 4 | I12: 8435447411294 | J12: =VLOOKUP(E12,' TARIFA 26.4'!$D$3:$I$20004,6,FALSE) -> 2.73 | N12: FARDO | O12: 120 | P12: 8435447417463 | Q12: JAULA | R12: 3600 | S12: 38435447411295
A13: 02 | B13: TUBERÍAS PLÁSTICAS | D13: PRETSB425 | E13: 1000028 | F13: PEXa 25 x 2,3 BARRA 4 MTS (80 MTS FARDO) | G13: METRO | H13: 4 | I13: 8435447411300 | J13: =VLOOKUP(E13,' TARIFA 26.4'!$D$3:$I$20004,6,FALSE) -> 4.43 | N13: FARDO | O13: 80 | P13: 8435447417470 | Q13: JAULA | R13: 2400 | S13: 38435447411301
A14: 02 | B14: TUBERÍAS PLÁSTICAS | D14: PRETSB432 | E14: 1000029 | F14: PEXa 32 x 2,9 BARRA 4 MTS (60 MTS FARDO) | G14: METRO | H14: 4 | I14: 8435447411317 | J14: =VLOOKUP(E14,' TARIFA 26.4'!$D$3:$I$20004,6,FALSE) -> 7.66 | N14: FARDO | O14: 60 | P14: 8435447417647 | Q14: JAULA | R14: 1500 | S14: 38435447411318
A15: 02 | B15: TUBERÍAS PLÁSTICAS | D15: PRETSB40 | E15: 1000015 | F15: PEXa 40 x 3,7 PEX-A BARRA 4 MTS (32 MTS FARDO) | G15: METRO | H15: 4 | I15: 8436031829457 | J15: =VLOOKUP(E15,' TARIFA 26.4'!$D$3:$I$20004,6,FALSE) -> 21.59 | N15: FARDO | O15: 32 | P15: 8435447421095 | Q15: JAULA | R15: 640 | S15: 38436031829458
A16: 02 | B16: TUBERÍAS PLÁSTICAS | D16: PRETSB50 | E16: 1000016 | F16: PEXa 50 x 4,6 PEX-A BARRA 4 MTS (32 MTS FARDO) | G16: METRO | H16: 4 | I16: 8436031829464 | J16: =VLOOKUP(E16,' TARIFA 26.4'!$D$3:$I$20004,6,FALSE) -> 30.88 | N16: FARDO | O16: 32 | P16: 8435447421101 | Q16: JAULA | R16: 320 | S16: 38436031829465
A17: 02 | B17: TUBERÍAS PLÁSTICAS | D17: PRETSB63 | E17: 1000017 | F17: PEXa 63 x 5,8 PEX-A BARRA 4 MTS (12 MTS FARDO) | G17: METRO | H17: 4 | I17: 8436031829471 | J17: =VLOOKUP(E17,' TARIFA 26.4'!$D$3:$I$20004,6,FALSE) -> 52.49 | N17: FARDO | O17: 12 | P17: 8435447421118 | Q17: JAULA | R17: 240 | S17: 38436031829472
A18: 02 | B18: TUBERÍAS PLÁSTICAS | C18: #VALUE! | D18: PRETSR1650VA | E18: 1000038 | F18: PEXa 16 x 1,8 ROLLO CON VAINA AZUL (50 MTS) | G18: METRO | H18: 1 | J18: =VLOOKUP(E18,' TARIFA 26.4'!$D$3:$I$20004,6,FALSE) -> 4.59 | N18: ROLLO | O18: 50 | P18: 8435447422788 | Q18: PALET | R18: 2200 | S18: 18435447422785
A19: 02 | B19: TUBERÍAS PLÁSTICAS | D19: PRETSR1650VR | E19: 1000039 | F19: PEXa 16 x 1,8 ROLLO CON VAINA ROJO (50 MTS) | G19: METRO | H19: 1 | J19: =VLOOKUP(E19,' TARIFA 26.4'!$D$3:$I$20004,6,FALSE) -> 4.59 | N19: ROLLO | O19: 50 | P19: 8435447423327 | Q19: PALET | R19: 2200 | S19: 18435447423324
A20: 02 | B20: TUBERÍAS PLÁSTICAS | D20: PRETSR2050VA | E20: 1000040 | F20: PEXa 20 x 1,9 ROLLO CON VAINA AZUL (50 MTS) | G20: METRO | H20: 1 | J20: =VLOOKUP(E20,' TARIFA 26.4'!$D$3:$I$20004,6,FALSE) -> 6.46 | N20: ROLLO | O20: 50 | P20: 8435447423334 | Q20: PALET | R20: 1500 | S20: 18435447423331
A21: 02 | B21: TUBERÍAS PLÁSTICAS | D21: PRETSR2050VR | E21: 1000041 | F21: PEXa 20 x 1,9 ROLLO CON VAINA ROJO (50 MTS) | G21: METRO | H21: 1 | J21: =VLOOKUP(E21,' TARIFA 26.4'!$D$3:$I$20004,6,FALSE) -> 6.46 | N21: ROLLO | O21: 50 | P21: 8435447423341 | Q21: PALET | R21: 1500 | S21: 18435447423348
A22: 02 | B22: TUBERÍAS PLÁSTICAS | C22: #VALUE! | D22: PRETSR16AISL | E22: 1000034 | F22: PEXa 16 x 1,8 ROLLO AISLADO 100 MTS | G22: METRO | H22: 1 | J22: =VLOOKUP(E22,' TARIFA 26.4'!$D$3:$I$20004,6,FALSE) -> 4.47 | N22: ROLLO | O22: 100 | P22: 8435447407785 | Q22: PALET | R22: 1800 | S22: 18435447407782
A23: 02 | B23: TUBERÍAS PLÁSTICAS | D23: PRETSR20AISL | E23: 1000035 | F23: PEXa 20 x 1,9 ROLLO AISLADO 100 MTS | G23: METRO | H23: 1 | J23: =VLOOKUP(E23,' TARIFA 26.4'!$D$3:$I$20004,6,FALSE) -> 5.61 | N23: ROLLO | O23: 100 | P23: 8435447407792 | Q23: PALET | R23: 1000 | S23: 18435447407799
A24: 02 | B24: TUBERÍAS PLÁSTICAS | D24: PRETSR25AISL | E24: 1000036 | F24: PEXa 25 x 2,3 ROLLO AISLADO 50 MTS | G24: METRO | H24: 1 | J24: =VLOOKUP(E24,' TARIFA 26.4'!$D$3:$I$20004,6,FALSE) -> 9.48 | N24: ROLLO | O24: 50 | P24: 8435447407808 | Q24: PALET | R24: 500 | S24: 18435447407805
A25: 02 | B25: TUBERÍAS PLÁSTICAS | D25: PRETSR32AISL | E25: 1000037 | F25: PEXa 32 x 2,9 ROLLO AISLADO 50 MTS | G25: METRO | H25: 1 | J25: =VLOOKUP(E25,' TARIFA 26.4'!$D$3:$I$20004,6,FALSE) -> 14.55 | N25: ROLLO | O25: 50 | P25: 8435447409901 | Q25: PALET | R25: 450 | S25: 18435447409908
A26: 02 | B26: TUBERÍAS PLÁSTICAS | C26: #VALUE! | D26: PRETEVR16 | E26: 2000049 | F26: PEXa 16 x 1,8 EVOH ROLLO 240 M.L. | G26: METRO | H26: 1 | J26: =VLOOKUP(E26,' TARIFA 26.4'!$D$3:$I$20004,6,FALSE) -> 2.06 | N26: ROLLO | O26: 240 | P26: 8436031829280 | Q26: PALET | R26: 3600 | S26: 18436031829287
A27: 02 | B27: TUBERÍAS PLÁSTICAS | D27: PRETEVR16500 | E27: 2000051 | F27: PEXa 16 x 1,8 EVOH ROLLO 500 M.L. | G27: METRO | H27: 1 | J27: =VLOOKUP(E27,' TARIFA 26.4'!$D$3:$I$20004,6,FALSE) -> 2.06 | N27: ROLLO | O27: 500 | P27: 8435447406634 | Q27: PALET | R27: 4000 | S27: 18435447406631
A28: 02 | B28: TUBERÍAS PLÁSTICAS | D28: PRETEVR16640 | E28: 2000052 | F28: PEXa 16 x 1,8 EVOH ROLLO 640 M.L. | G28: METRO | H28: 1 | J28: =VLOOKUP(E28,' TARIFA 26.4'!$D$3:$I$20004,6,FALSE) -> 2.06 | N28: ROLLO | O28: 640 | P28: 8435447410044 | Q28: PALET | R28: 4480 | S28: 18435447410041
A29: 02 | B29: TUBERÍAS PLÁSTICAS | D29: PRETEVR20 | E29: 2000053 | F29: PEXa 20 x 1,9 EVOH ROLLO 240 M.L. | G29: METRO | H29: 1 | J29: =VLOOKUP(E29,' TARIFA 26.4'!$D$3:$I$20004,6,FALSE) -> 3.22 | N29: ROLLO | O29: 240 | P29: 8436031829303 | Q29: PALET | R29: 2160 | S29: 18436031829300
A30: 02 | B30: TUBERÍAS PLÁSTICAS | D30: PRETEVR20500 | E30: 2000054 | F30: PEXa 20 x 1,9 EVOH ROLLO 500 M.L. | G30: METRO | H30: 1 | J30: =VLOOKUP(E30,' TARIFA 26.4'!$D$3:$I$20004,6,FALSE) -> 3.22 | N30: ROLLO | O30: 500 | P30: 8435447407631 | Q30: PALET | R30: 3000 | S30: 18435447407638
A31: 02 | B31: TUBERÍAS PLÁSTICAS | D31: PRETEVR25 | E31: 2000055 | F31: PEXa 25 x 2,3 EVOH ROLLO 50 M.L. | G31: METRO | H31: 1 | J31: =VLOOKUP(E31,' TARIFA 26.4'!$D$3:$I$20004,6,FALSE) -> 5.68 | N31: ROLLO | O31: 50 | P31: 8436031829310 | Q31: PALET | R31: 1150 | S31: 18436031829317
A32: 02 | B32: TUBERÍAS PLÁSTICAS | D32: PRETEVR32 | E32: 2000056 | F32: PEXa 32 x 2,9 EVOH ROLLO 50 M.L. | G32: METRO | H32: 1 | J32: =VLOOKUP(E32,' TARIFA 26.4'!$D$3:$I$20004,6,FALSE) -> 9.4 | N32: ROLLO | O32: 50 | P32: 8436031829327 | Q32: PALET | R32: 750 | S32: 18436031829324
A33: 02 | B33: TUBERÍAS PLÁSTICAS | C33: #VALUE! | D33: PRETSBEV416 | E33: 2000061 | F33: PEXa 16 x 1,8 EVOH BARRA 4 MTS | G33: METRO | H33: 4 | I33: 8435447411447 | J33: =VLOOKUP(E33,' TARIFA 26.4'!$D$3:$I$20004,6,FALSE) -> 2.37 | N33: FARDO | O33: 160 | P33: 8435447421125 | Q33: JAULA | R33: 4800 | S33: 38435447411448
A34: 02 | B34: TUBERÍAS PLÁSTICAS | D34: PRETSBEV420 | E34: 2000062 | F34: PEXa 20 x 1,9 EVOH BARRA 4 MTS | G34: METRO | H34: 4 | I34: 8435447411454 | J34: =VLOOKUP(E34,' TARIFA 26.4'!$D$3:$I$20004,6,FALSE) -> 3.75 | N34: FARDO | O34: 120 | P34: 8435447421132 | Q34: JAULA | R34: 3600 | S34: 38435447411455
A35: 02 | B35: TUBERÍAS PLÁSTICAS | D35: PRETSBEV425 | E35: 2000063 | F35: PEXa 25 x 2,3 EVOH BARRA 4 MTS | G35: METRO | H35: 4 | I35: 8435447411461 | J35: =VLOOKUP(E35,' TARIFA 26.4'!$D$3:$I$20004,6,FALSE) -> 6.53 | N35: FARDO | O35: 80 | P35: 8435447421149 | Q35: JAULA | R35: 2400 | S35: 38435447411462
A36: 02 | B36: TUBERÍAS PLÁSTICAS | D36: PRETSBEV432 | E36: 2000064 | F36: PEXa 32 x 2,9 EVOH BARRA 4 MTS | G36: METRO | H36: 4 | I36: 8435447411478 | J36: =VLOOKUP(E36,' TARIFA 26.4'!$D$3:$I$20004,6,FALSE) -> 10.81 | N36: FARDO | O36: 60 | P36: 8435447421156 | Q36: JAULA | R36: 1500 | S36: 38435447411479
A37: 02 | B37: TUBERÍAS PLÁSTICAS | C37: #VALUE! | D37: PRETEV5C16240B | E37: 18000074 | F37: PEXa EVOH 5 capas 16 x 2.0 - 240 m - blanco | G37: METRO | H37: 1 | J37: =VLOOKUP(E37,' TARIFA 26.4'!$D$3:$I$20004,6,FALSE) -> 2.19 | N37: ROLLO | O37: 240 | P37: 8435447423099 | Q37: PALET | R37: 3600 | S37: 18435447423096
A38: 02 | B38: TUBERÍAS PLÁSTICAS | D38: PRETEV5C16500B | E38: 18000075 | F38: PEXa EVOH 5 capas 16 x 2.0 - 500 m - blanco | G38: METRO | H38: 1 | J38: =VLOOKUP(E38,' TARIFA 26.4'!$D$3:$I$20004,6,FALSE) -> 2.19 | N38: ROLLO | O38: 500 | P38: =VLOOKUP(E38,' TARIFA 26.4'!$D$3:$R$30000,12,FALSE) -> 8435447423082 | Q38: PALET | R38: 4000 | S38: =VLOOKUP(E38,' TARIFA 26.4'!$D$3:$R$30000,15,FALSE) -> 18435447423089
A39: 02 | B39: TUBERÍAS PLÁSTICAS | D39: PRETEV5C16640B | E39: 18000076 | F39: PEXa EVOH 5 capas 16 x 2.0 - 640 m - blanco | G39: METRO | H39: 1 | J39: =VLOOKUP(E39,' TARIFA 26.4'!$D$3:$I$20004,6,FALSE) -> 2.19 | N39: ROLLO | O39: 640 | P39: 8435447423075 | Q39: PALET | R39: 4480 | S39: 18435447423072
A40: 02 | B40: TUBERÍAS PLÁSTICAS | D40: PRETEV5C20240B | E40: 18000080 | F40: PEXa EVOH 5 capas 20 x 2.0 - 240 m - blanco | G40: METRO | H40: 1 | J40: =VLOOKUP(E40,' TARIFA 26.4'!$D$3:$I$20004,6,FALSE) -> 3.39 | N40: ROLLO | O40: 240 | P40: 8435447424737 | Q40: PALET | R40: 2160 | S40: 18435447424734
A41: 02 | B41: TUBERÍAS PLÁSTICAS | C41: #VALUE! | D41: PRETKEVR16240B | E41: 18000077 | F41: PEXa EVOH 5 CAPAS KLETT 16 x 2,0 - 240 m - blanco | G41: METRO | H41: 1 | J41: =VLOOKUP(E41,' TARIFA 26.4'!$D$3:$I$20004,6,FALSE) -> 2.99 | N41: ROLLO | O41: 240 | P41: 8435447423181 | Q41: PALET | R41: 3360 | S41: 18435447423188
A42: 02 | B42: TUBERÍAS PLÁSTICAS | D42: PRETKEVR16500B | E42: 18000084 | F42: PEXa EVOH 5 CAPAS KLETT 16 x 2,0 - 500 m - blanco | G42: METRO | H42: 1 | J42: =VLOOKUP(E42,' TARIFA 26.4'!$D$3:$I$20004,6,FALSE) -> 2.99 | N42: ROLLO | O42: 500 | P42: =VLOOKUP(E42,' TARIFA 26.4'!$D$3:$R$30000,12,FALSE) -> 8435447429855 | Q42: PALET | R42: 3000 | S42: =VLOOKUP(E42,' TARIFA 26.4'!$D$3:$R$30000,15,FALSE) -> 18435447429852
A43: 02 | B43: TUBERÍAS PLÁSTICAS | D43: PRETKEVR16640B | E43: 18000078 | F43: PEXa EVOH 5 CAPAS KLETT 16 x 2,0 - 640 m - blanco | G43: METRO | H43: 1 | J43: =VLOOKUP(E43,' TARIFA 26.4'!$D$3:$I$20004,6,FALSE) -> 2.99 | N43: ROLLO | O43: 640 | P43: 8435447423174 | Q43: PALET | R43: 3840 | S43: 18435447423171
A44: 02 | B44: TUBERÍAS PLÁSTICAS | D44: PRETKEVR20240B | E44: 18000079 | F44: PEXa EVOH 5 CAPAS KLETT 20 x 2,0 - 240 m - blanco | G44: METRO | H44: 1 | J44: =VLOOKUP(E44,' TARIFA 26.4'!$D$3:$I$20004,6,FALSE) -> 4.26 | N44: ROLLO | O44: 240 | P44: 8435447428063 | Q44: PALET | R44: 1920 | S44: 18435447428060
A45: 02 | B45: TUBERÍAS PLÁSTICAS | C45: #VALUE! | D45: 13100011 | E45: 13100011 | F45: PEXa BLACK PROTECTION 16x2.0 - ROLLO 100 m | G45: METRO | H45: 1 | J45: =VLOOKUP(E45,' TARIFA 26.4'!$D$3:$I$20004,6,FALSE) -> 2.19 | N45: ROLLO | O45: 100 | P45: 8435447414554 | Q45: PALET | R45: 2700 | S45: 18435447414551
A46: 02 | B46: TUBERÍAS PLÁSTICAS | D46: 13100012 | E46: 13100012 | F46: PEXa BLACK PROTECTION 20x2.0 - ROLLO 100 m | G46: METRO | H46: 1 | J46: =VLOOKUP(E46,' TARIFA 26.4'!$D$3:$I$20004,6,FALSE) -> 3.39 | N46: ROLLO | O46: 100 | P46: 8435447414561 | Q46: PALET | R46: 2000 | S46: 18435447414568
A47: 02 | B47: TUBERÍAS PLÁSTICAS | C47: #VALUE! | D47: PERTEV5C1618240 | E47: 3000027 | F47: PERT EVOH 5 CAPAS 16x1,8 ROLLO 240 MTS - ROJO | G47: METRO | H47: 1 | J47: =VLOOKUP(E47,' TARIFA 26.4'!$D$3:$I$20004,6,FALSE) -> 1.47 | N47: ROLLO | O47: 240 | P47: 8435447411171 | Q47: PALET | R47: 3600 | S47: 18435447411178
A48: 02 | B48: TUBERÍAS PLÁSTICAS | D48: PERTEV5C1618640 | E48: 3000029 | F48: PERT EVOH 5 CAPAS 16x1,8 ROLLO 640 MTS - ROJO | G48: METRO | H48: 1 | J48: =VLOOKUP(E48,' TARIFA 26.4'!$D$3:$I$20004,6,FALSE) -> 1.47 | N48: ROLLO | O48: 640 | P48: 8435447411188 | Q48: PALET | R48: 4480 | S48: 18435447411185
A49: 02 | B49: TUBERÍAS PLÁSTICAS | D49: PERTEV5C16240 | E49: 3000030 | F49: PERT EVOH 5 CAPAS 16x2 ROLLO 240 MTS - ROJO | G49: METRO | H49: 1 | J49: =VLOOKUP(E49,' TARIFA 26.4'!$D$3:$I$20004,6,FALSE) -> 1.52 | N49: ROLLO | O49: 240 | P49: 8435447410778 | Q49: PALET | R49: 3600 | S49: 18435447410775
A50: 02 | B50: TUBERÍAS PLÁSTICAS | D50: PERTEV5C16500 | E50: 3000004 | F50: PERT EVOH 5 CAPAS 16x2 ROLLO 500 MTS - ROJO | G50: METRO | H50: 1 | J50: =VLOOKUP(E50,' TARIFA 26.4'!$D$3:$I$20004,6,FALSE) -> 1.52 | N50: ROLLO | O50: 500 | P50: 8435447411072 | Q50: PALET | R50: 4000 | S50: 18435447411079
A51: 02 | B51: TUBERÍAS PLÁSTICAS | D51: PERTEV5C16640 | E51: 3000031 | F51: PERT EVOH 5 CAPAS 16x2 ROLLO 640 MTS - ROJO | G51: METRO | H51: 1 | J51: =VLOOKUP(E51,' TARIFA 26.4'!$D$3:$I$20004,6,FALSE) -> 1.52 | N51: ROLLO | O51: 640 | P51: 8435447410761 | Q51: PALET | R51: 4480 | S51: 18435447410768
A52: 02 | B52: TUBERÍAS PLÁSTICAS | D52: PERTEV5C20200 | E52: 3000032 | F52: PERT EVOH 5 CAPAS 20x2 ROLLO 200 MTS - ROJO | G52: METRO | H52: 1 | J52: =VLOOKUP(E52,' TARIFA 26.4'!$D$3:$I$20004,6,FALSE) -> 2.15 | N52: ROLLO | O52: 200 | P52: 8435447410792 | Q52: PALET | R52: 2000 | S52: 18435447410799
A53: 02 | B53: TUBERÍAS PLÁSTICAS | D53: PERTEV5C20400 | E53: 3000033 | F53: PERT EVOH 5 CAPAS 20x2 ROLLO 400 MTS - ROJO | G53: METRO | H53: 1 | J53: =VLOOKUP(E53,' TARIFA 26.4'!$D$3:$I$20004,6,FALSE) -> 2.15 | N53: ROLLO | O53: 400 | P53: 8435447410785 | Q53: PALET | R53: 2400 | S53: 18435447410782
A54: 02 | B54: TUBERÍAS PLÁSTICAS | D54: PERTEV5C2550 | E54: 3000034 | F54: PERT EVOH 5 CAPAS 25x2,3 ROLLO 50 MTS - ROJO | G54: METRO | H54: 1 | J54: =VLOOKUP(E54,' TARIFA 26.4'!$D$3:$I$20004,6,FALSE) -> 4.04 | N54: ROLLO | O54: 50 | P54: 8435447411096 | Q54: PALET | R54: 1150 | S54: 18435447411093
A55: 02 | B55: TUBERÍAS PLÁSTICAS | C55: #VALUE! | D55: PERTEV5CB25 | E55: 3000038 | F55: PERT EVOH 5 CAPAS 25x2,3 BARRA 4 MTS (80 MTS FARDO) | G55: METRO | H55: 4 | I55: 8435447411263 | J55: =VLOOKUP(E55,' TARIFA 26.4'!$D$3:$I$20004,6,FALSE) -> 4.96 | N55: FARDO | O55: 80 | P55: 8435447421187 | Q55: JAULA | R55: 2400 | S55: 38435447411264
A56: 02 | B56: TUBERÍAS PLÁSTICAS | D56: PERTEV5CB32 | E56: 3000039 | F56: PERT EVOH 5 CAPAS 32x2,9 BARRA 4 MTS (60 MTS FARDO) | G56: METRO | H56: 4 | I56: 8435447411270 | J56: =VLOOKUP(E56,' TARIFA 26.4'!$D$3:$I$20004,6,FALSE) -> 8.82 | N56: FARDO | O56: 60 | P56: 8435447421194 | Q56: JAULA | R56: 1500 | S56: 38435447411271
A57: 02 | B57: TUBERÍAS PLÁSTICAS | C57: #VALUE! | D57: PERTKEV5C1620240 | E57: 3000043 | F57: PERT EVOH 5 CAPAS KLETT 16 x 2,0 - 240 m - rojo | G57: METRO | H57: 1 | J57: =VLOOKUP(E57,' TARIFA 26.4'!$D$3:$I$20004,6,FALSE) -> 2.24 | N57: ROLLO | O57: 240 | P57: 8435447417364 | Q57: PALET | R57: 3360 | S57: 18435447417361
A58: 02 | B58: TUBERÍAS PLÁSTICAS | D58: PERTKEV5C1620500 | E58: 3000044 | F58: PERT EVOH 5 CAPAS KLETT 16 x 2,0 - 500 m - rojo | G58: METRO | H58: 1 | J58: =VLOOKUP(E58,' TARIFA 26.4'!$D$3:$I$20004,6,FALSE) -> 2.24 | N58: ROLLO | O58: 500 | P58: =VLOOKUP(E58,' TARIFA 26.4'!$D$3:$R$30000,12,FALSE) -> 8435447417371 | Q58: PALET | R58: 4000 | S58: =VLOOKUP(E58,' TARIFA 26.4'!$D$3:$R$30000,15,FALSE) -> 18435447417378
A59: 02 | B59: TUBERÍAS PLÁSTICAS | D59: PERTKEV5C1620640 | E59: 3000045 | F59: PERT EVOH 5 CAPAS KLETT 16 x 2,0 - 640 m - rojo | G59: METRO | H59: 1 | J59: =VLOOKUP(E59,' TARIFA 26.4'!$D$3:$I$20004,6,FALSE) -> 2.24 | N59: ROLLO | O59: 640 | P59: 8435447417388 | Q59: PALET | R59: 3840 | S59: 18435447417385
A60: 02 | B60: TUBERÍAS PLÁSTICAS | D60: PERTKEV5C2020240 | E60: 3000048 | F60: PERT EVOH 5 CAPAS KLETT 20 x 2,0 - 240 m - rojo | G60: METRO | H60: 1 | J60: =VLOOKUP(E60,' TARIFA 26.4'!$D$3:$I$20004,6,FALSE) -> 2.88 | N60: ROLLO | O60: 240 | P60: 8435447422467 | Q60: PALET | R60: 1920 | S60: 18435447422464
A61: 02 | B61: TUBERÍAS PLÁSTICAS | C61: #VALUE! | D61: MCTBPERT16R | E61: 4000003 | F61: MULTICAPA PERT-AL-PERT 16x2 ROLLO 100 MTS | G61: METRO | H61: 1 | J61: =VLOOKUP(E61,' TARIFA 26.4'!$D$3:$I$20004,6,FALSE) -> 2.28 | N61: ROLLO | O61: 100 | P61: 8436031829198 | Q61: PALET | R61: 3000 | S61: 38436031829199
A62: 02 | B62: TUBERÍAS PLÁSTICAS | D62: MCTBPERT16R200 | E62: 4000004 | F62: MULTICAPA PERT-AL-PERT 16x2 ROLLO 200 MTS | G62: METRO | H62: 1 | J62: =VLOOKUP(E62,' TARIFA 26.4'!$D$3:$I$20004,6,FALSE) -> 2.28 | N62: ROLLO | O62: 200 | P62: 8435447407839 | Q62: PALET | R62: 2800 | S62: 38435447407830
A63: 02 | B63: TUBERÍAS PLÁSTICAS | D63: MCTBPERT16R500 | E63: 4000005 | F63: MULTICAPA PERT-AL-PERT 16x2 ROLLO 500 MTS | G63: METRO | H63: 1 | J63: =VLOOKUP(E63,' TARIFA 26.4'!$D$3:$I$20004,6,FALSE) -> 2.28 | N63: ROLLO | O63: 500 | P63: 8435447407846 | Q63: PALET | R63: 2500 | S63: 38435447407847
A64: 02 | B64: TUBERÍAS PLÁSTICAS | D64: MCTBPERT18R | E64: 4000006 | F64: MULTICAPA PERT-AL-PERT 18x2 ROLLO 100 MTS | G64: METRO | H64: 1 | J64: =VLOOKUP(E64,' TARIFA 26.4'!$D$3:$I$20004,6,FALSE) -> 3.09 | N64: ROLLO | O64: 100 | P64: 8436031829211 | Q64: PALET | R64: 2400
A65: 02 | B65: TUBERÍAS PLÁSTICAS | D65: MCTBPERT20R | E65: 4000009 | F65: MULTICAPA PERT-AL-PERT 20x2 ROLLO 100 MTS | G65: METRO | H65: 1 | J65: =VLOOKUP(E65,' TARIFA 26.4'!$D$3:$I$20004,6,FALSE) -> 3.09 | N65: ROLLO | O65: 100 | P65: 8436031829235 | Q65: PALET | R65: 1600 | S65: 38436031829236
A66: 02 | B66: TUBERÍAS PLÁSTICAS | D66: MCTBPERT25R | E66: 4000012 | F66: MULTICAPA PERT-AL-PERT 25x2,5 ROLLO 50 MTS | G66: METRO | H66: 1 | J66: =VLOOKUP(E66,' TARIFA 26.4'!$D$3:$I$20004,6,FALSE) -> 5.64 | N66: ROLLO | O66: 50 | P66: 8436031829259 | Q66: PALET | R66: 900 | S66: 38436031829250
A67: 02 | B67: TUBERÍAS PLÁSTICAS | D67: MCTBPERT32R | E67: 4000015 | F67: MULTICAPA PERT-AL-PERT 32x3 ROLLO 50 MTS | G67: METRO | H67: 1 | J67: =VLOOKUP(E67,' TARIFA 26.4'!$D$3:$I$20004,6,FALSE) -> 9.3 | N67: ROLLO | O67: 50 | P67: 8436031829273 | Q67: PALET | R67: 500 | S67: 38436031829274
A68: 02 | B68: TUBERÍAS PLÁSTICAS | D68: MCTBPERT16R25 | E68: 4000002 | F68: MULTICAPA PERT-AL-PERT 16x2 ROLLO 25 MTS | G68: METRO | H68: 1 | J68: =VLOOKUP(E68,' TARIFA 26.4'!$D$3:$I$20004,6,FALSE) -> 2.63 | N68: ROLLO | O68: 25 | P68: 8435447409642 | Q68: PALET | R68: 2000 | S68: 38435447409643
A69: 02 | B69: TUBERÍAS PLÁSTICAS | D69: MCTBPERT20R25 | E69: 4000008 | F69: MULTICAPA PERT-AL-PERT 20x2 ROLLO 25 MTS | G69: METRO | H69: 1 | J69: =VLOOKUP(E69,' TARIFA 26.4'!$D$3:$I$20004,6,FALSE) -> 3.38 | N69: ROLLO | O69: 25 | P69: 8435447409635 | Q69: PALET | R69: 2550 | S69: 38435447409636
A70: 02 | B70: TUBERÍAS PLÁSTICAS | D70: MCTBPERT25R25 | E70: 4000011 | F70: MULTICAPA PERT-AL-PERT 25x2,5 ROLLO 25 MTS | G70: METRO | H70: 1 | J70: =VLOOKUP(E70,' TARIFA 26.4'!$D$3:$I$20004,6,FALSE) -> 6.18 | N70: ROLLO | O70: 25 | P70: 8435447410495 | Q70: PALET | R70: 675 | S70: 38435447410496
A71: 02 | B71: TUBERÍAS PLÁSTICAS | D71: MCTBPERT32R25 | E71: 4000014 | F71: MULTICAPA PERT-AL-PERT 32x2 ROLLO 25 MTS | G71: METRO | H71: 1 | J71: =VLOOKUP(E71,' TARIFA 26.4'!$D$3:$I$20004,6,FALSE) -> 10.19 | N71: ROLLO | O71: 25 | P71: 8435447410631 | Q71: PALET | R71: 400 | S71: 38435447410632
A72: 02 | B72: TUBERÍAS PLÁSTICAS | C72: #VALUE! | D72: MCTBPERT16 | E72: 4000001 | F72: MULTICAPA PERT-AL-PERT 16x2 BARRA 4 MTS (100 FARDO) | G72: METRO | H72: 4 | I72: 8436031829181 | J72: =VLOOKUP(E72,' TARIFA 26.4'!$D$3:$I$20004,6,FALSE) -> 2.55 | N72: FARDO | O72: 100 | P72: 8435447411119 | Q72: JAULA | R72: 3200 | S72: 58436031829186
A73: 02 | B73: TUBERÍAS PLÁSTICAS | D73: MCTBPERT20 | E73: 4000007 | F73: MULTICAPA PERT-AL-PERT 20x2 BARRA 4 MTS (60 MTS FARDO) | G73: METRO | H73: 4 | I73: 8436031829228 | J73: =VLOOKUP(E73,' TARIFA 26.4'!$D$3:$I$20004,6,FALSE) -> 3.44 | N73: FARDO | O73: 60 | P73: 8435447411126 | Q73: JAULA | R73: 1920 | S73: 58436031829223
A74: 02 | B74: TUBERÍAS PLÁSTICAS | D74: MCTBPERT25 | E74: 4000010 | F74: MULTICAPA PERT-AL-PERT 25x2,5 BARRA 4 MTS (40 MTS FARDO) | G74: METRO | H74: 4 | I74: 8436031829242 | J74: =VLOOKUP(E74,' TARIFA 26.4'!$D$3:$I$20004,6,FALSE) -> 5.9 | N74: FARDO | O74: 40 | P74: 8435447411133 | Q74: JAULA | R74: 1280 | S74: 58436031829247
A75: 02 | B75: TUBERÍAS PLÁSTICAS | D75: MCTBPERT32 | E75: 4000013 | F75: MULTICAPA PERT-AL-PERT 32x3 BARRA 4 MTS (28 FARDO) | G75: METRO | H75: 4 | I75: 8436031829266 | J75: =VLOOKUP(E75,' TARIFA 26.4'!$D$3:$I$20004,6,FALSE) -> 9.92 | N75: FARDO | O75: 28 | P75: 8435447411140 | Q75: JAULA | R75: 896 | S75: 58436031829261
A76: 02 | B76: TUBERÍAS PLÁSTICAS | C76: #VALUE! | D76: MCTBPERT16RAISA | E76: 6000001 | F76: MULTICAPA PERT-AL-PERT 16x2 ROLLO AISLADO AZUL | G76: METRO | H76: 1 | J76: =VLOOKUP(E76,' TARIFA 26.4'!$D$3:$I$20004,6,FALSE) -> 3.89 | N76: ROLLO | O76: 50 | P76: 8436031828931 | Q76: PALET | R76: 1500 | S76: 38436031828932
A77: 02 | B77: TUBERÍAS PLÁSTICAS | D77: MCTBPERT16RAISR | E77: 6000002 | F77: MULTICAPA PERT-AL-PERT 16x2 ROLLO AISLADO ROJO | G77: METRO | H77: 1 | J77: =VLOOKUP(E77,' TARIFA 26.4'!$D$3:$I$20004,6,FALSE) -> 3.89 | N77: ROLLO | O77: 50 | P77: 8436031828948 | Q77: PALET | R77: 1500 | S77: 38436031828949
A78: 02 | B78: TUBERÍAS PLÁSTICAS | D78: MCTBPERT20RAISA | E78: 6000003 | F78: MULTICAPA PERT-AL-PERT 20x2 ROLLO AISLADO AZUL | G78: METRO | H78: 1 | J78: =VLOOKUP(E78,' TARIFA 26.4'!$D$3:$I$20004,6,FALSE) -> 5.09 | N78: ROLLO | O78: 50 | P78: 8436031828993 | Q78: PALET | R78: 1500 | S78: 38436031828994
A79: 02 | B79: TUBERÍAS PLÁSTICAS | D79: MCTBPERT20RAISR | E79: 6000004 | F79: MULTICAPA PERT-AL-PERT 20x2 ROLLO AISLADO ROJO | G79: METRO | H79: 1 | J79: =VLOOKUP(E79,' TARIFA 26.4'!$D$3:$I$20004,6,FALSE) -> 5.09 | N79: ROLLO | O79: 50 | P79: 8436031830590 | Q79: PALET | R79: 1500 | S79: 38436031830591
A80: 02 | B80: TUBERÍAS PLÁSTICAS | D80: MCTBPERT16RAISA10 | E80: 6000017 | F80: MULTICAPA PERT-AL-PERT 16x2 ROLLO AISLADO AZUL - AISL. 10 | G80: METRO | H80: 1 | J80: =VLOOKUP(E80,' TARIFA 26.4'!$D$3:$I$20004,6,FALSE) -> 5.21 | N80: ROLLO | O80: 50 | P80: 8435447423402 | Q80: PALET | R80: 1000 | S80: 38435447423403
A81: 02 | B81: TUBERÍAS PLÁSTICAS | D81: MCTBPERT16RAISR10 | E81: 6000018 | F81: MULTICAPA PERT-AL-PERT 16x2 ROLLO AISLADO ROJO - AISL. 10 | G81: METRO | H81: 1 | J81: =VLOOKUP(E81,' TARIFA 26.4'!$D$3:$I$20004,6,FALSE) -> 5.21 | N81: ROLLO | O81: 50 | P81: 8435447423419 | Q81: PALET | R81: 1000 | S81: 38435447423410
A82: 02 | B82: TUBERÍAS PLÁSTICAS | D82: MCTBPERT20RAISA10 | E82: 6000019 | F82: MULTICAPA PERT-AL-PERT 20x2 ROLLO AISLADO AZUL - AISL. 10 | G82: METRO | H82: 1 | J82: =VLOOKUP(E82,' TARIFA 26.4'!$D$3:$I$20004,6,FALSE) -> 6.38 | N82: ROLLO | O82: 50 | P82: 8435447423426 | Q82: PALET | R82: 800 | S82: 38435447423427
A83: 02 | B83: TUBERÍAS PLÁSTICAS | D83: MCTBPERT20RAISR10 | E83: 6000020 | F83: MULTICAPA PERT-AL-PERT 20x2 ROLLO AISLADO ROJO - AISL. 10 | G83: METRO | H83: 1 | J83: =VLOOKUP(E83,' TARIFA 26.4'!$D$3:$I$20004,6,FALSE) -> 6.38 | N83: ROLLO | O83: 50 | P83: 8435447423433 | Q83: PALET | R83: 800 | S83: 38435447423434
A84: 02 | B84: TUBERÍAS PLÁSTICAS | D84: MCTBPERT25RAISA | E84: 6000005 | F84: MULTICAPA PERT-AL-PERT 25x2,5 ROLLO AISLADO AZUL | G84: METRO | H84: 1 | J84: =VLOOKUP(E84,' TARIFA 26.4'!$D$3:$I$20004,6,FALSE) -> 8.96 | N84: ROLLO | O84: 25 | P84: 8436031830613 | Q84: PALET | R84: 550 | S84: 38436031830614
A85: 02 | B85: TUBERÍAS PLÁSTICAS | D85: MCTBPERT25RAISR | E85: 6000006 | F85: MULTICAPA PERT-AL-PERT 25x2,5 ROLLO AISLADO ROJO | G85: METRO | H85: 1 | J85: =VLOOKUP(E85,' TARIFA 26.4'!$D$3:$I$20004,6,FALSE) -> 8.96 | N85: ROLLO | O85: 25 | P85: 8436031830620 | Q85: PALET | R85: 550 | S85: 38436031830621
A86: 02 | B86: TUBERÍAS PLÁSTICAS | D86: MCTBPERT32RAIS | E86: 6000007 | F86: MULTICAPA PERT-AL-PERT 32x3 ROLLO AISLADO GRIS | G86: METRO | H86: 1 | J86: =VLOOKUP(E86,' TARIFA 26.4'!$D$3:$I$20004,6,FALSE) -> 14.97 | N86: ROLLO | O86: 25 | P86: 8435447409987 | Q86: PALET | R86: 600 | S86: 38435447409988
A87: 02 | B87: TUBERÍAS PLÁSTICAS | C87: #VALUE! | D87: MCTB16R | E87: 5000003 | F87: MULTICAPA PEX-AL-PE 16x2 ROLLO 100 MTS | G87: METRO | H87: 1 | J87: =VLOOKUP(E87,' TARIFA 26.4'!$D$3:$I$20004,6,FALSE) -> 2.46 | N87: ROLLO | O87: 100 | P87: 8436031829013 | Q87: PALET | R87: 3000 | S87: 28436031829017
A88: 02 | B88: TUBERÍAS PLÁSTICAS | D88: MCTB16R500 | E88: 5000005 | F88: MULTICAPA PEX-AL-PE 16x2 ROLLO 500 MTS | G88: METRO | H88: 1 | J88: =VLOOKUP(E88,' TARIFA 26.4'!$D$3:$I$20004,6,FALSE) -> 2.46 | N88: ROLLO | O88: 500 | P88: 8435447406658 | Q88: PALET | R88: 2500 | S88: 28435447406652
A89: 02 | B89: TUBERÍAS PLÁSTICAS | D89: MCTB20R | E89: 5000010 | F89: MULTICAPA PEX-AL-PE 20x2 ROLLO 100 | G89: METRO | H89: 1 | J89: =VLOOKUP(E89,' TARIFA 26.4'!$D$3:$I$20004,6,FALSE) -> 3.44 | N89: ROLLO | O89: 100 | P89: 8436031829075 | Q89: PALET | R89: 1600 | S89: 28436031829079
A90: 02 | B90: TUBERÍAS PLÁSTICAS | D90: MCTB25R | E90: 5000013 | F90: MULTICAPA PEX-AL-PE 25x2,5 ROLLO 50 MTS | G90: METRO | H90: 1 | J90: =VLOOKUP(E90,' TARIFA 26.4'!$D$3:$I$20004,6,FALSE) -> 6.04 | N90: ROLLO | O90: 50 | P90: 8436031829105 | Q90: PALET | R90: 850 | S90: 28436031829109
A91: 02 | B91: TUBERÍAS PLÁSTICAS | D91: MCTB32R | E91: 5000015 | F91: MULTICAPA PEX-AL-PE 32x3 ROLLO 50 MTS | G91: METRO | H91: 1 | J91: =VLOOKUP(E91,' TARIFA 26.4'!$D$3:$I$20004,6,FALSE) -> 9.92 | N91: ROLLO | O91: 50 | P91: 8436031829136 | Q91: PALET | R91: 450 | S91: 28436031829130
A92: 02 | B92: TUBERÍAS PLÁSTICAS | D92: MCTB16R25 | E92: 5000002 | F92: MULTICAPA PEX-AL-PE 16x2 ROLLO 25 MTS | G92: METRO | H92: 1 | J92: =VLOOKUP(E92,' TARIFA 26.4'!$D$3:$I$20004,6,FALSE) -> 2.73 | N92: ROLLO | O92: 25 | P92: 8435447406085 | Q92: PALET | R92: 1800 | S92: 28435447406089
A93: 02 | B93: TUBERÍAS PLÁSTICAS | C93: #VALUE! | D93: MCTB16 | E93: 5000001 | F93: MULTICAPA PEX-AL-PE 16x2 BARRA 4 MTS (200 MTS FARDO) | G93: METRO | H93: 4 | I93: 8436031829006 | J93: =VLOOKUP(E93,' TARIFA 26.4'!$D$3:$I$20004,6,FALSE) -> 2.91 | N93: FARDO | O93: 200 | P93: 8435447418200 | Q93: JAULA | R93: 3200 | S93: 58436031829001
A94: 02 | B94: TUBERÍAS PLÁSTICAS | D94: MCTB18 | E94: 5000006 | F94: MULTICAPA PEX-AL-PE 18x2 BARRA 4 MTS (200 MTS FARDO) | G94: METRO | H94: 4 | I94: 8436031829037 | J94: =VLOOKUP(E94,' TARIFA 26.4'!$D$3:$I$20004,6,FALSE) -> 4.03 | N94: FARDO | O94: 160 | P94: 8435447421217 | Q94: JAULA | R94: 3200 | S94: 58436031829032
A95: 02 | B95: TUBERÍAS PLÁSTICAS | D95: MCTB20 | E95: 5000008 | F95: MULTICAPA PEX-AL-PE 20x2 BARRA 4 MTS (140 MTS FARDO) | G95: METRO | H95: 4 | I95: 8436031829068 | J95: =VLOOKUP(E95,' TARIFA 26.4'!$D$3:$I$20004,6,FALSE) -> 4.03 | N95: FARDO | O95: 140 | P95: 8435447418217 | Q95: JAULA | R95: 2240 | S95: 58436031829063
A96: 02 | B96: TUBERÍAS PLÁSTICAS | D96: MCTB25 | E96: 5000011 | F96: MULTICAPA PEX-AL-PE 25x2,5 BARRA 4 MTS (80 MTS FARDO) | G96: METRO | H96: 4 | I96: 8436031829099 | J96: =VLOOKUP(E96,' TARIFA 26.4'!$D$3:$I$20004,6,FALSE) -> 6.44 | N96: FARDO | O96: 80 | P96: 8435447418224 | Q96: JAULA | R96: 1280 | S96: 58436031829094
A97: 02 | B97: TUBERÍAS PLÁSTICAS | D97: MCTB32 | E97: 5000014 | F97: MULTICAPA PEX-AL-PE 32x3 BARRA 4 MTS (48 MTS FARDO) | G97: METRO | H97: 4 | I97: 8436031829129 | J97: =VLOOKUP(E97,' TARIFA 26.4'!$D$3:$I$20004,6,FALSE) -> 10.6 | N97: FARDO | O97: 48 | P97: 8435447418231 | Q97: JAULA | R97: 768 | S97: 58436031829124
A98: 02 | B98: TUBERÍAS PLÁSTICAS | D98: MCTB40 | E98: 5000016 | F98: MULTICAPA PEX-AL-PE 40x4 BARRA 4 MTS (20 MTS FARDO) | G98: METRO | H98: 4 | I98: 8436031829150 | J98: =VLOOKUP(E98,' TARIFA 26.4'!$D$3:$I$20004,6,FALSE) -> 18.06 | N98: FARDO | O98: 20 | P98: 8435447418248 | Q98: JAULA | R98: 320 | S98: 58436031829155
A99: 02 | B99: TUBERÍAS PLÁSTICAS | D99: MCTB50 | E99: 5000017 | F99: MULTICAPA PEX-AL-PE 50x4,5 BARRA 4 MTS ( 20 MTS FARDO) | G99: METRO | H99: 4 | I99: 8436031829167 | J99: =VLOOKUP(E99,' TARIFA 26.4'!$D$3:$I$20004,6,FALSE) -> 27.06 | N99: FARDO | O99: 20 | P99: 8435447418255 | Q99: JAULA | R99: 320 | S99: 58436031829162
A100: 02 | B100: TUBERÍAS PLÁSTICAS | D100: MCTB63 | E100: 5000018 | F100: MULTICAPA PEX-AL-PE 63x6 BARRA 4 MTS ( 12 MTS FARDO) | G100: METRO | H100: 4 | I100: 8436031829174 | J100: =VLOOKUP(E100,' TARIFA 26.4'!$D$3:$I$20004,6,FALSE) -> 42.56 | N100: FARDO | O100: 12 | P100: 8435447418262 | Q100: JAULA | R100: 192 | S100: 58436031829179

Sheet 03.Press Multicapa
A1: Texto en azul para artículos que estarán disponibles hasta final de existencias | E1: #VALUE!
A2: CÓDIGO FAMILIA | B2: DESCRIPCIÓN FAMILIA | C2: IMAGEN | D2: REFERENCIA ARTÍCULO | E2: CÓDIGO ARTÍCULO | F2: DESCRIPCIÓN ARTÍCULO | G2: UNIDAD MEDIDA INVENTARIO (U.M.I.) | H2: CANTIDAD U.M.I. | I2: EAN (CANTIDAD U.M.I.) | J2: PVP 26.4 (€/U.M.I.) | K2: UNIDAD VENTA 1 | L2: CANTIDAD U.V.1 | M2: EAN (U.V.1) | N2: UNIDAD VENTA 2 | O2: CANTIDAD U.V.2 | P2: EAN (U.V.2) | Q2: UNIDAD VENTA 3 | R2: CANTIDAD U.V.3 | S2: EAN (U.V.3)
A3: 03 | B3: ACCESORIOS MULTICAPA | C3: #VALUE! | D3: MCRMV1612L | E3: 12000001 | F3: RACOR MOVIL 16-1/2" LARGO MULTICAPA | G3: UNIDAD | H3: 1 | I3: 8436031824865 | J3: =VLOOKUP(E3,' TARIFA 26.4'!$D$3:$I$20004,6,FALSE) -> 5.86 | N3: CAJA | O3: 25 | P3: 8435447418880 | Q3: CARTÓN | R3: 300 | S3: 28436031824869
A4: 03 | B4: ACCESORIOS MULTICAPA | D4: MCRMV1812L | E4: 12000205 | F4: RACOR MOVIL 18-1/2" LARGO MULTICAPA | G4: UNIDAD | H4: 1 | I4: 8436031825916 | J4: =VLOOKUP(E4,' TARIFA 26.4'!$D$3:$I$20004,6,FALSE) -> 7.27 | N4: CAJA | O4: 25 | P4: 8435447418897 | Q4: CARTÓN | R4: 300 | S4: 28436031825910
A5: 03 | B5: ACCESORIOS MULTICAPA | D5: MCRMV2012L | E5: 12000002 | F5: RACOR MOVIL 20-1/2" LARGO MULTICAPA | G5: UNIDAD | H5: 1 | I5: 8436031824872 | J5: =VLOOKUP(E5,' TARIFA 26.4'!$D$3:$I$20004,6,FALSE) -> 7.06 | N5: CAJA | O5: 25 | P5: 8435447418903 | Q5: CARTÓN | R5: 300 | S5: 28436031824876
A6: 03 | B6: ACCESORIOS MULTICAPA | D6: MCRMV2034L | E6: 12000003 | F6: RACOR MOVIL 20-3/4" LARGO MULTICAPA | G6: UNIDAD | H6: 1 | I6: 8436031824889 | J6: =VLOOKUP(E6,' TARIFA 26.4'!$D$3:$I$20004,6,FALSE) -> 9.07 | N6: CAJA | O6: 25 | P6: 8435447418910 | Q6: CARTÓN | R6: 225 | S6: 28436031824883
A7: 03 | B7: ACCESORIOS MULTICAPA | D7: MCRMV2534L | E7: 12000004 | F7: RACOR MOVIL 25-3/4" LARGO MULTICAPA | G7: UNIDAD | H7: 1 | I7: 8436031824896 | J7: =VLOOKUP(E7,' TARIFA 26.4'!$D$3:$I$20004,6,FALSE) -> 11.49 | N7: CAJA | O7: 25 | P7: 8435447418927 | Q7: CARTÓN | R7: 225 | S7: 28436031824890
A8: 03 | B8: ACCESORIOS MULTICAPA | D8: MCRMV251L | E8: 12000005 | F8: RACOR MOVIL 25-1" LARGO MULTICAPA | G8: UNIDAD | H8: 1 | I8: 8436031825800 | J8: =VLOOKUP(E8,' TARIFA 26.4'!$D$3:$I$20004,6,FALSE) -> 16 | N8: CAJA | O8: 25 | P8: 8435447418934 | Q8: CARTÓN | R8: 225 | S8: 28436031825804
A9: 03 | B9: ACCESORIOS MULTICAPA | D9: MCRMV321L | E9: 12000006 | F9: RACOR MOVIL 32-1" LARGO MULTICAPA | G9: UNIDAD | H9: 1 | I9: 8436031824902 | J9: =VLOOKUP(E9,' TARIFA 26.4'!$D$3:$I$20004,6,FALSE) -> 17.66 | N9: CAJA | O9: 25 | P9: 8435447418941 | Q9: CARTÓN | R9: 150 | S9: 28436031824906
A10: 03 | B10: ACCESORIOS MULTICAPA | C10: #VALUE! | D10: MCRFH1612 | E10: 12000007 | F10: RACOR FIJO HEMBRA 16-1/2" MULTICAPA | G10: UNIDAD | H10: 1 | I10: 8436031824360 | J10: =VLOOKUP(E10,' TARIFA 26.4'!$D$3:$I$20004,6,FALSE) -> 5.49 | N10: CAJA | O10: 25 | P10: 8435447418958 | Q10: CARTÓN | R10: 300 | S10: 28436031824364
A11: 03 | B11: ACCESORIOS MULTICAPA | D11: MCRFH1634 | E11: 12000008 | F11: RACOR FIJO HEMBRA 16-3/4" MULTICAPA | G11: UNIDAD | H11: 1 | I11: 8436031826500 | J11: =VLOOKUP(E11,' TARIFA 26.4'!$D$3:$I$20004,6,FALSE) -> 6.78 | N11: CAJA | O11: 25 | P11: 8435447418965 | Q11: CARTÓN | R11: 300 | S11: 28436031826504
A12: 03 | B12: ACCESORIOS MULTICAPA | D12: MCRFH1812 | E12: 12000206 | F12: RACOR FIJO HEMBRA 18-1/2" MULTICAPA | G12: UNIDAD | H12: 1 | I12: 8436031825237 | J12: =VLOOKUP(E12,' TARIFA 26.4'!$D$3:$I$20004,6,FALSE) -> 6.09 | N12: CAJA | O12: 25 | P12: 8435447418972 | Q12: CARTÓN | R12: 300 | S12: 28436031825231
A13: 03 | B13: ACCESORIOS MULTICAPA | D13: MCRFH2012 | E13: 12000009 | F13: RACOR FIJO HEMBRA 20-1/2" MULTICAPA | G13: UNIDAD | H13: 1 | I13: 8436031824377 | J13: =VLOOKUP(E13,' TARIFA 26.4'!$D$3:$I$20004,6,FALSE) -> 6.02 | N13: CAJA | O13: 25 | P13: 8435447418989 | Q13: CARTÓN | R13: 300 | S13: 28436031824371
A14: 03 | B14: ACCESORIOS MULTICAPA | D14: MCRFH2034 | E14: 12000010 | F14: RACOR FIJO HEMBRA 20-3/4" MULTICAPA | G14: UNIDAD | H14: 1 | I14: 8436031824384 | J14: =VLOOKUP(E14,' TARIFA 26.4'!$D$3:$I$20004,6,FALSE) -> 6.78 | N14: CAJA | O14: 25 | P14: 8435447418996 | Q14: CARTÓN | R14: 225 | S14: 28436031824388
A15: 03 | B15: ACCESORIOS MULTICAPA | D15: MCRFH2512 | E15: 12000011 | F15: RACOR FIJO HEMBRA 25-1/2" MULTICAPA | G15: UNIDAD | H15: 1 | I15: 8436031822762 | J15: =VLOOKUP(E15,' TARIFA 26.4'!$D$3:$I$20004,6,FALSE) -> 8.75 | N15: CAJA | O15: 25 | P15: 8435447419009 | Q15: CARTÓN | R15: 225 | S15: 28436031822766
A16: 03 | B16: ACCESORIOS MULTICAPA | D16: MCRFH2534 | E16: 12000012 | F16: RACOR FIJO HEMBRA 25-3/4" MULTICAPA | G16: UNIDAD | H16: 1 | I16: 8436031824391 | J16: =VLOOKUP(E16,' TARIFA 26.4'!$D$3:$I$20004,6,FALSE) -> 8.92 | N16: CAJA | O16: 25 | P16: 8435447419016 | Q16: CARTÓN | R16: 225 | S16: 28436031824395
A17: 03 | B17: ACCESORIOS MULTICAPA | D17: MCRFH251 | E17: 12000013 | F17: RACOR FIJO HEMBRA 25-1" MULTICAPA | G17: UNIDAD | H17: 1 | I17: 8436031824407 | J17: =VLOOKUP(E17,' TARIFA 26.4'!$D$3:$I$20004,6,FALSE) -> 13.63 | N17: CAJA | O17: 25 | P17: 8435447419023 | Q17: CARTÓN | R17: 225 | S17: 28436031824401
A18: 03 | B18: ACCESORIOS MULTICAPA | D18: MCRFH321 | E18: 12000014 | F18: RACOR FIJO HEMBRA 32-1" MULTICAPA | G18: UNIDAD | H18: 1 | I18: 8436031824414 | J18: =VLOOKUP(E18,' TARIFA 26.4'!$D$3:$I$20004,6,FALSE) -> 14.16 | N18: CAJA | O18: 25 | P18: 8435447419030 | Q18: CARTÓN | R18: 150 | S18: 28436031824418
A19: 03 | B19: ACCESORIOS MULTICAPA | C19: #VALUE! | D19: MCRFM1638 | E19: 12000015 | F19: RACOR FIJO MACHO 16-3/8" MULTICAPA | G19: UNIDAD | H19: 1 | I19: 8436031825015 | J19: =VLOOKUP(E19,' TARIFA 26.4'!$D$3:$I$20004,6,FALSE) -> 4.54 | N19: CAJA | O19: 25 | P19: 8435447419047 | Q19: CARTÓN | R19: 300 | S19: 28436031825019
A20: 03 | B20: ACCESORIOS MULTICAPA | D20: MCRFM1612 | E20: 12000016 | F20: RACOR FIJO MACHO 16-1/2" MULTICAPA | G20: UNIDAD | H20: 1 | I20: 8436031824421 | J20: =VLOOKUP(E20,' TARIFA 26.4'!$D$3:$I$20004,6,FALSE) -> 4.78 | N20: CAJA | O20: 25 | P20: 8435447419054 | Q20: CARTÓN | R20: 300 | S20: 28436031824425
A21: 03 | B21: ACCESORIOS MULTICAPA | D21: MCRFM1634 | E21: 12000017 | F21: RACOR FIJO MACHO 16-3/4" MULTICAPA | G21: UNIDAD | H21: 1 | I21: 8436031824438 | J21: =VLOOKUP(E21,' TARIFA 26.4'!$D$3:$I$20004,6,FALSE) -> 6.47 | N21: CAJA | O21: 25 | P21: 8435447419061 | Q21: CARTÓN | R21: 225 | S21: 28436031824432
A22: 03 | B22: ACCESORIOS MULTICAPA | D22: MCRFM1812 | E22: 12000207 | F22: RACOR FIJO MACHO 18-1/2" MULTICAPA | G22: UNIDAD | H22: 1 | I22: 8436031824834 | J22: =VLOOKUP(E22,' TARIFA 26.4'!$D$3:$I$20004,6,FALSE) -> 5.26 | N22: CAJA | O22: 25 | P22: 8435447419078 | Q22: CARTÓN | R22: 300 | S22: 28436031824838
A23: 03 | B23: ACCESORIOS MULTICAPA | D23: MCRFM2012 | E23: 12000018 | F23: RACOR FIJO MACHO 20-1/2" MULTICAPA | G23: UNIDAD | H23: 1 | I23: 8436031824445 | J23: =VLOOKUP(E23,' TARIFA 26.4'!$D$3:$I$20004,6,FALSE) -> 5.33 | N23: CAJA | O23: 25 | P23: 8435447419085 | Q23: CARTÓN | R23: 300 | S23: 28436031824449
A24: 03 | B24: ACCESORIOS MULTICAPA | D24: MCRFM2034 | E24: 12000019 | F24: RACOR FIJO MACHO 20-3/4" MULTICAPA | G24: UNIDAD | H24: 1 | I24: 8436031824452 | J24: =VLOOKUP(E24,' TARIFA 26.4'!$D$3:$I$20004,6,FALSE) -> 7.04 | N24: CAJA | O24: 25 | P24: 8435447419092 | Q24: CARTÓN | R24: 225 | S24: 28436031824456
A25: 03 | B25: ACCESORIOS MULTICAPA | D25: MCRFM2512 | E25: 12000020 | F25: RACOR FIJO MACHO 25-1/2" MULTICAPA | G25: UNIDAD | H25: 1 | I25: 8436031824469 | J25: =VLOOKUP(E25,' TARIFA 26.4'!$D$3:$I$20004,6,FALSE) -> 8.61 | N25: CAJA | O25: 25 | P25: 8435447419108 | Q25: CARTÓN | R25: 225 | S25: 28436031824463
A26: 03 | B26: ACCESORIOS MULTICAPA | D26: MCRFM2534 | E26: 12000021 | F26: RACOR FIJO MACHO 25-3/4" MULTICAPA | G26: UNIDAD | H26: 1 | I26: 8436031824476 | J26: =VLOOKUP(E26,' TARIFA 26.4'!$D$3:$I$20004,6,FALSE) -> 8.84 | N26: CAJA | O26: 25 | P26: 8435447419115 | Q26: CARTÓN | R26: 225 | S26: 28436031824470
A27: 03 | B27: ACCESORIOS MULTICAPA | D27: MCRFM251 | E27: 12000022 | F27: RACOR FIJO MACHO 25-1" MULTICAPA | G27: UNIDAD | H27: 1 | I27: 8436031824483 | J27: =VLOOKUP(E27,' TARIFA 26.4'!$D$3:$I$20004,6,FALSE) -> 12.34 | N27: CAJA | O27: 25 | P27: 8435447419122 | Q27: CARTÓN | R27: 225 | S27: 28436031824487
A28: 03 | B28: ACCESORIOS MULTICAPA | D28: MCRFM321 | E28: 12000023 | F28: RACOR FIJO MACHO 32-1" MULTICAPA | G28: UNIDAD | H28: 1 | I28: 8436031824490 | J28: =VLOOKUP(E28,' TARIFA 26.4'!$D$3:$I$20004,6,FALSE) -> 14.78 | N28: CAJA | O28: 25 | P28: 8435447419139 | Q28: CARTÓN | R28: 150 | S28: 28436031824494
A29: 03 | B29: ACCESORIOS MULTICAPA | C29: #VALUE! | D29: MCCOT1612 | E29: 12000037 | F29: CODO TERMINAL 16-1/2" MULTICAPA | G29: UNIDAD | H29: 1 | I29: 8436031824162 | J29: =VLOOKUP(E29,' TARIFA 26.4'!$D$3:$I$20004,6,FALSE) -> 6.55 | N29: CAJA | O29: 25 | P29: 8435447419146 | Q29: CARTÓN | R29: 300 | S29: 28436031824166
A30: 03 | B30: ACCESORIOS MULTICAPA | D30: MCCOT1612R | E30: 12000038 | F30: CODO TERMINAL 16-1/2" REFORZADO MULTICAPA | G30: UNIDAD | H30: 1 | I30: 8436031824933 | J30: =VLOOKUP(E30,' TARIFA 26.4'!$D$3:$I$20004,6,FALSE) -> 7.54 | N30: CAJA | O30: 25 | P30: 8435447419153 | Q30: CARTÓN | R30: 300 | S30: 28436031824937
A31: 03 | B31: ACCESORIOS MULTICAPA | D31: MCCOT1812R | E31: 12000212 | F31: CODO TERMINAL 18-1/2" REFORZADO MULTICAPA | G31: UNIDAD | H31: 1 | I31: 8436031824797 | J31: =VLOOKUP(E31,' TARIFA 26.4'!$D$3:$I$20004,6,FALSE) -> 8.51 | N31: CAJA | O31: 25 | P31: 8435447419160 | Q31: CARTÓN | R31: 225 | S31: 28436031824791
A32: 03 | B32: ACCESORIOS MULTICAPA | D32: MCCOT2012 | E32: 12000039 | F32: CODO TERMINAL 20-1/2" MULTICAPA | G32: UNIDAD | H32: 1 | I32: 8436031824179 | J32: =VLOOKUP(E32,' TARIFA 26.4'!$D$3:$I$20004,6,FALSE) -> 7.46 | N32: CAJA | O32: 25 | P32: 8435447419177 | Q32: CARTÓN | R32: 225 | S32: 28436031824173
A33: 03 | B33: ACCESORIOS MULTICAPA | D33: MCCOT2012R | E33: 12000040 | F33: CODO TERMINAL 20-1/2" REFORZADO MULTICAPA | G33: UNIDAD | H33: 1 | I33: 8436031824940 | J33: =VLOOKUP(E33,' TARIFA 26.4'!$D$3:$I$20004,6,FALSE) -> 8.45 | N33: CAJA | O33: 25 | P33: 8435447419184 | Q33: CARTÓN | R33: 225 | S33: 28436031824944
A34: 03 | B34: ACCESORIOS MULTICAPA | D34: MCCOT2034 | E34: 12000041 | F34: CODO TERMINAL 20-3/4" MULTICAPA | G34: UNIDAD | H34: 1 | I34: 8436031824186 | J34: =VLOOKUP(E34,' TARIFA 26.4'!$D$3:$I$20004,6,FALSE) -> 9.5 | N34: CAJA | O34: 25 | P34: 8435447419191 | Q34: CARTÓN | R34: 225 | S34: 28436031824180
A35: 03 | B35: ACCESORIOS MULTICAPA | D35: MCCOT2512 | E35: 12000042 | F35: CODO TERMINAL 25-1/2" MULTICAPA | G35: UNIDAD | H35: 1 | I35: 8436031825886 | J35: =VLOOKUP(E35,' TARIFA 26.4'!$D$3:$I$20004,6,FALSE) -> 11.42 | N35: CAJA | O35: 25 | P35: 8435447419207 | Q35: CARTÓN | R35: 150 | S35: 28436031825880
A36: 03 | B36: ACCESORIOS MULTICAPA | D36: MCCOT251 | E36: 12000044 | F36: CODO TERMINAL 25-1" MULTICAPA | G36: UNIDAD | H36: 1 | I36: 8436031824209 | J36: =VLOOKUP(E36,' TARIFA 26.4'!$D$3:$I$20004,6,FALSE) -> 17.44 | N36: CAJA | O36: 25 | P36: 8435447419214 | Q36: CARTÓN | R36: 150 | S36: 28436031824203
A37: 03 | B37: ACCESORIOS MULTICAPA | D37: MCCOT2534 | E37: 12000043 | F37: CODO TERMINAL 25-3/4" MULTICAPA | G37: UNIDAD | H37: 1 | I37: 8436031824193 | J37: =VLOOKUP(E37,' TARIFA 26.4'!$D$3:$I$20004,6,FALSE) -> 12.25 | N37: CAJA | O37: 25 | P37: 8435447419221 | Q37: CARTÓN | R37: 150 | S37: 28436031824197
A38: 03 | B38: ACCESORIOS MULTICAPA | D38: MCCOT321 | E38: 12000045 | F38: CODO TERMINAL 32-1" MULTICAPA | G38: UNIDAD | H38: 1 | I38: 8436031824216 | J38: =VLOOKUP(E38,' TARIFA 26.4'!$D$3:$I$20004,6,FALSE) -> 19.48 | N38: CAJA | O38: 25 | P38: 8435447419238 | Q38: CARTÓN | R38: 100 | S38: 28436031824210
A39: 03 | B39: ACCESORIOS MULTICAPA | C39: #VALUE! | D39: MCMAU16 | E39: 12000024 | F39: MANGUITO UNION 16 MULTICAPA | G39: UNIDAD | H39: 1 | I39: 8436031824278 | J39: =VLOOKUP(E39,' TARIFA 26.4'!$D$3:$I$20004,6,FALSE) -> 4.08 | N39: CAJA | O39: 25 | P39: 8435447419245 | Q39: CARTÓN | R39: 300 | S39: 28436031824272
A40: 03 | B40: ACCESORIOS MULTICAPA | D40: MCMAU18 | E40: 12000208 | F40: MANGUITO UNION 18 MULTICAPA | G40: UNIDAD | H40: 1 | I40: 8436031824810 | J40: =VLOOKUP(E40,' TARIFA 26.4'!$D$3:$I$20004,6,FALSE) -> 5.87 | N40: CAJA | O40: 25 | P40: 8435447419252 | Q40: CARTÓN | R40: 300 | S40: 28436031824814
A41: 03 | B41: ACCESORIOS MULTICAPA | D41: MCMAU20 | E41: 12000025 | F41: MANGUITO UNION 20 MULTICAPA | G41: UNIDAD | H41: 1 | I41: 8436031824285 | J41: =VLOOKUP(E41,' TARIFA 26.4'!$D$3:$I$20004,6,FALSE) -> 6.05 | N41: CAJA | O41: 25 | P41: 8435447419269 | Q41: CARTÓN | R41: 300 | S41: 28436031824289
A42: 03 | B42: ACCESORIOS MULTICAPA | D42: MCMAU25 | E42: 12000026 | F42: MANGUITO UNION 25 MULTICAPA | G42: UNIDAD | H42: 1 | I42: 8436031824292 | J42: =VLOOKUP(E42,' TARIFA 26.4'!$D$3:$I$20004,6,FALSE) -> 10.43 | N42: CAJA | O42: 25 | P42: 8435447419276 | Q42: CARTÓN | R42: 225 | S42: 28436031824296
A43: 03 | B43: ACCESORIOS MULTICAPA | D43: MCMAU32 | E43: 12000027 | F43: MANGUITO UNION 32 MULTICAPA | G43: UNIDAD | H43: 1 | I43: 8436031824308 | J43: =VLOOKUP(E43,' TARIFA 26.4'!$D$3:$I$20004,6,FALSE) -> 15.18 | N43: CAJA | O43: 25 | P43: 8435447419283 | Q43: CARTÓN | R43: 150 | S43: 28436031824302
A44: 03 | B44: ACCESORIOS MULTICAPA | C44: #VALUE! | D44: MCMGR1816 | E44: 12000209 | F44: MANGUITO REDUCIDO 18-16 MULTICAPA | G44: UNIDAD | H44: 1 | I44: 8436031822755 | J44: =VLOOKUP(E44,' TARIFA 26.4'!$D$3:$I$20004,6,FALSE) -> 5.08 | N44: CAJA | O44: 25 | P44: 8435447419290 | Q44: CARTÓN | R44: 300 | S44: 28436031822759
A45: 03 | B45: ACCESORIOS MULTICAPA | D45: MCMGR2016 | E45: 12000028 | F45: MANGUITO REDUCIDO 20-16 MULTICAPA | G45: UNIDAD | H45: 1 | I45: 8436031824315 | J45: =VLOOKUP(E45,' TARIFA 26.4'!$D$3:$I$20004,6,FALSE) -> 5.28 | N45: CAJA | O45: 25 | P45: 8435447419306 | Q45: CARTÓN | R45: 300 | S45: 28436031824319
A46: 03 | B46: ACCESORIOS MULTICAPA | D46: MCMGR2018 | E46: 12000210 | F46: MANGUITO REDUCIDO 20-18 MULTICAPA | G46: UNIDAD | H46: 1 | I46: 8436031824827 | J46: =VLOOKUP(E46,' TARIFA 26.4'!$D$3:$I$20004,6,FALSE) -> 5.5 | N46: CAJA | O46: 25 | P46: 8435447419313 | Q46: CARTÓN | R46: 300 | S46: 28436031824821
A47: 03 | B47: ACCESORIOS MULTICAPA | D47: MCMGR2516 | E47: 12000029 | F47: MANGUITO REDUCIDO 25-16 MULTICAPA | G47: UNIDAD | H47: 1 | I47: 8436031824322 | J47: =VLOOKUP(E47,' TARIFA 26.4'!$D$3:$I$20004,6,FALSE) -> 7.98 | N47: CAJA | O47: 25 | P47: 8435447419320 | Q47: CARTÓN | R47: 225 | S47: 28436031824326
A48: 03 | B48: ACCESORIOS MULTICAPA | D48: MCMGR2520 | E48: 12000030 | F48: MANGUITO REDUCIDO 25-20 MULTICAPA | G48: UNIDAD | H48: 1 | I48: 8436031824339 | J48: =VLOOKUP(E48,' TARIFA 26.4'!$D$3:$I$20004,6,FALSE) -> 8.68 | N48: CAJA | O48: 25 | P48: 8435447419337 | Q48: CARTÓN | R48: 225 | S48: 28436031824333
A49: 03 | B49: ACCESORIOS MULTICAPA | D49: MCMGR3220 | E49: 12000031 | F49: MANGUITO REDUCIDO 32-20 MULTICAPA | G49: UNIDAD | H49: 1 | I49: 8436031824346 | J49: =VLOOKUP(E49,' TARIFA 26.4'!$D$3:$I$20004,6,FALSE) -> 11.58 | N49: CAJA | O49: 25 | P49: 8435447419344 | Q49: CARTÓN | R49: 150 | S49: 28436031824340
A50: 03 | B50: ACCESORIOS MULTICAPA | D50: MCMGR3225 | E50: 12000032 | F50: MANGUITO REDUCIDO 32-25 MULTICAPA | G50: UNIDAD | H50: 1 | I50: 8436031824353 | J50: =VLOOKUP(E50,' TARIFA 26.4'!$D$3:$I$20004,6,FALSE) -> 13.56 | N50: CAJA | O50: 25 | P50: 8435447419351 | Q50: CARTÓN | R50: 150 | S50: 28436031824357
A51: 03 | B51: ACCESORIOS MULTICAPA | C51: #VALUE! | D51: MCTEE16166 | E51: 12000057 | F51: TE IGUAL 16 MULTICAPA | G51: UNIDAD | H51: 1 | I51: 8436031824506 | J51: =VLOOKUP(E51,' TARIFA 26.4'!$D$3:$I$20004,6,FALSE) -> 7.46 | N51: CAJA | O51: 25 | P51: 8435447419368 | Q51: CARTÓN | R51: 225 | S51: 28436031824500
A52: 03 | B52: ACCESORIOS MULTICAPA | D52: MCTEE18188 | E52: 12000216 | F52: TE IGUAL 18 MULTICAPA | G52: UNIDAD | H52: 1 | I52: 8436031825138 | J52: =VLOOKUP(E52,' TARIFA 26.4'!$D$3:$I$20004,6,FALSE) -> 9.97 | N52: CAJA | O52: 25 | P52: 8435447419375 | Q52: CARTÓN | R52: 225 | S52: 28436031825132
A53: 03 | B53: ACCESORIOS MULTICAPA | D53: MCTEE20200 | E53: 12000058 | F53: TE IGUAL 20 MULTICAPA | G53: UNIDAD | H53: 1 | I53: 8436031824513 | J53: =VLOOKUP(E53,' TARIFA 26.4'!$D$3:$I$20004,6,FALSE) -> 10.59 | N53: CAJA | O53: 25 | P53: 8435447419382 | Q53: CARTÓN | R53: 225 | S53: 28436031824517
A54: 03 | B54: ACCESORIOS MULTICAPA | D54: MCTEE25255 | E54: 12000059 | F54: TE IGUAL 25 MULTICAPA | G54: UNIDAD | H54: 1 | I54: 8436031824520 | J54: =VLOOKUP(E54,' TARIFA 26.4'!$D$3:$I$20004,6,FALSE) -> 19.05 | N54: CAJA | O54: 25 | P54: 8435447419399 | Q54: CARTÓN | R54: 100 | S54: 28436031824524
A55: 03 | B55: ACCESORIOS MULTICAPA | D55: MCTEE32323 | E55: 12000060 | F55: TE IGUAL 32 MULTICAPA | G55: UNIDAD | H55: 1 | I55: 8436031824537 | J55: =VLOOKUP(E55,' TARIFA 26.4'!$D$3:$I$20004,6,FALSE) -> 28.93 | N55: CAJA | O55: 15 | P55: 8435447419405 | Q55: CARTÓN | R55: 60 | S55: 28436031824531
A56: 03 | B56: ACCESORIOS MULTICAPA | C56: #VALUE! | D56: MCCDO16 | E56: 12000033 | F56: CODO IGUAL 16 MULTICAPA | G56: UNIDAD | H56: 1 | I56: 8436031824124 | J56: =VLOOKUP(E56,' TARIFA 26.4'!$D$3:$I$20004,6,FALSE) -> 4.95 | N56: CAJA | O56: 25 | P56: 8435447419412 | Q56: CARTÓN | R56: 300 | S56: 28436031824128
A57: 03 | B57: ACCESORIOS MULTICAPA | D57: MCCDO18 | E57: 12000211 | F57: CODO IGUAL 18 MULTICAPA | G57: UNIDAD | H57: 1 | I57: 8436031824780 | J57: =VLOOKUP(E57,' TARIFA 26.4'!$D$3:$I$20004,6,FALSE) -> 7.19 | N57: CAJA | O57: 25 | P57: 8435447419429 | Q57: CARTÓN | R57: 225 | S57: 28436031824784
A58: 03 | B58: ACCESORIOS MULTICAPA | D58: MCCDO20 | E58: 12000034 | F58: CODO IGUAL 20 MULTICAPA | G58: UNIDAD | H58: 1 | I58: 8436031824131 | J58: =VLOOKUP(E58,' TARIFA 26.4'!$D$3:$I$20004,6,FALSE) -> 7.19 | N58: CAJA | O58: 25 | P58: 8435447419436 | Q58: CARTÓN | R58: 225 | S58: 28436031824135
A59: 03 | B59: ACCESORIOS MULTICAPA | D59: MCCDO25 | E59: 12000035 | F59: CODO IGUAL 25 MULTICAPA | G59: UNIDAD | H59: 1 | I59: 8436031824148 | J59: =VLOOKUP(E59,' TARIFA 26.4'!$D$3:$I$20004,6,FALSE) -> 13.08 | N59: CAJA | O59: 25 | P59: 8435447419443 | Q59: CARTÓN | R59: 150 | S59: 28436031824142
A60: 03 | B60: ACCESORIOS MULTICAPA | D60: MCCDO32 | E60: 12000036 | F60: CODO IGUAL 32 MULTICAPA | G60: UNIDAD | H60: 1 | I60: 8436031824155 | J60: =VLOOKUP(E60,' TARIFA 26.4'!$D$3:$I$20004,6,FALSE) -> 19.2 | N60: CAJA | O60: 25 | P60: 8435447419450 | Q60: CARTÓN | R60: 100 | S60: 28436031824159
A61: 03 | B61: ACCESORIOS MULTICAPA | C61: #VALUE! | D61: MCPMAU16 | E61: 12000233 | F61: MANGUITO UNION PPSU 16 MULTICAPA | G61: UNIDAD | H61: 1 | I61: 8435447416671 | J61: =VLOOKUP(E61,' TARIFA 26.4'!$D$3:$I$20004,6,FALSE) -> 2.82 | N61: CAJA | O61: 48 | P61: 8435447426014 | Q61: CARTÓN | R61: 192 | S61: 28435447416675
A62: 03 | B62: ACCESORIOS MULTICAPA | D62: MCPMAU20 | E62: 12000234 | F62: MANGUITO UNION PPSU 20 MULTICAPA | G62: UNIDAD | H62: 1 | I62: 8435447416688 | J62: =VLOOKUP(E62,' TARIFA 26.4'!$D$3:$I$20004,6,FALSE) -> 3.69 | N62: CAJA | O62: 40 | P62: 8435447426021 | Q62: CARTÓN | R62: 160 | S62: 28435447416682
A63: 03 | B63: ACCESORIOS MULTICAPA | D63: MCPMAU25 | E63: 12000235 | F63: MANGUITO UNION PPSU 25 MULTICAPA | G63: UNIDAD | H63: 1 | I63: 8435447416695 | J63: =VLOOKUP(E63,' TARIFA 26.4'!$D$3:$I$20004,6,FALSE) -> 6.05 | N63: CAJA | O63: 16 | P63: 8435447426038 | Q63: CARTÓN | R63: 64 | S63: 28435447416699
A64: 03 | B64: ACCESORIOS MULTICAPA | D64: MCPMAU32 | E64: 12000236 | F64: MANGUITO UNION PPSU 32 MULTICAPA | G64: UNIDAD | H64: 1 | I64: 8435447416701 | J64: =VLOOKUP(E64,' TARIFA 26.4'!$D$3:$I$20004,6,FALSE) -> 8.69 | N64: CAJA | O64: 16 | P64: 8435447426045 | Q64: CARTÓN | R64: 64 | S64: 28435447416705
A65: 03 | B65: ACCESORIOS MULTICAPA | C65: #VALUE! | D65: MCPMGR2016 | E65: 12000237 | F65: MANGUITO REDUCIDO PPSU 20-16 MULTICAPA | G65: UNIDAD | H65: 1 | I65: 8435447416718 | J65: =VLOOKUP(E65,' TARIFA 26.4'!$D$3:$I$20004,6,FALSE) -> 3.63 | N65: CAJA | O65: 40 | P65: 8435447426052 | Q65: CARTÓN | R65: 160 | S65: 28435447416712
A66: 03 | B66: ACCESORIOS MULTICAPA | D66: MCPMGR2520 | E66: 12000238 | F66: MANGUITO REDUCIDO PPSU 25-20 MULTICAPA | G66: UNIDAD | H66: 1 | I66: 8435447416725 | J66: =VLOOKUP(E66,' TARIFA 26.4'!$D$3:$I$20004,6,FALSE) -> 5.35 | N66: CAJA | O66: 24 | P66: 8435447426069 | Q66: CARTÓN | R66: 96 | S66: 28435447416729
A67: 03 | B67: ACCESORIOS MULTICAPA | C67: #VALUE! | D67: MCPTEE16166 | E67: 12000239 | F67: TE IGUAL PPSU 16 MULTICAPA | G67: UNIDAD | H67: 1 | I67: 8435447416732 | J67: =VLOOKUP(E67,' TARIFA 26.4'!$D$3:$I$20004,6,FALSE) -> 4.84 | N67: CAJA | O67: 30 | P67: 8435447426076 | Q67: CARTÓN | R67: 120 | S67: 28435447416736
A68: 03 | B68: ACCESORIOS MULTICAPA | D68: MCPTEE20200 | E68: 12000240 | F68: TE IGUAL PPSU 20 MULTICAPA | G68: UNIDAD | H68: 1 | I68: 8435447416749 | J68: =VLOOKUP(E68,' TARIFA 26.4'!$D$3:$I$20004,6,FALSE) -> 6.32 | N68: CAJA | O68: 24 | P68: 8435447426083 | Q68: CARTÓN | R68: 96 | S68: 28435447416743
A69: 03 | B69: ACCESORIOS MULTICAPA | D69: MCPTEE25255 | E69: 12000241 | F69: TE IGUAL PPSU 25 MULTICAPA | G69: UNIDAD | H69: 1 | I69: 8435447416756 | J69: =VLOOKUP(E69,' TARIFA 26.4'!$D$3:$I$20004,6,FALSE) -> 10.76 | N69: CAJA | O69: 12 | P69: 8435447426090 | Q69: CARTÓN | R69: 48 | S69: 28435447416750
A70: 03 | B70: ACCESORIOS MULTICAPA | D70: MCPTEE32323 | E70: 12000242 | F70: TE IGUAL PPSU 32 MULTICAPA | G70: UNIDAD | H70: 1 | I70: 8435447416763 | J70: =VLOOKUP(E70,' TARIFA 26.4'!$D$3:$I$20004,6,FALSE) -> 15.94 | N70: CAJA | O70: 6 | P70: 8435447426106 | Q70: CARTÓN | R70: 24 | S70: 28435447416767
A71: 03 | B71: ACCESORIOS MULTICAPA | C71: #VALUE! | D71: MCPTEE20166 | E71: 12000248 | F71: TE PPSU REDUCIDA 20-16-16 MULTICAPA | G71: UNIDAD | H71: 1 | I71: 8435447423440 | J71: =VLOOKUP(E71,' TARIFA 26.4'!$D$3:$I$20004,6,FALSE) -> 6.75 | N71: CAJA | O71: 30 | P71: 8435447423488 | Q71: CARTÓN | R71: 120 | S71: 28435447423444
A72: 03 | B72: ACCESORIOS MULTICAPA | D72: MCPTEE20160 | E72: 12000249 | F72: TE PPSU REDUCIDA 20-16-20 MULTICAPA | G72: UNIDAD | H72: 1 | I72: 8435447423457 | J72: =VLOOKUP(E72,' TARIFA 26.4'!$D$3:$I$20004,6,FALSE) -> 7.03 | N72: CAJA | O72: 24 | P72: 8435447423495 | Q72: CARTÓN | R72: 96 | S72: 28435447423451
A73: 03 | B73: ACCESORIOS MULTICAPA | D73: MCPTEE20206 | E73: 12000250 | F73: TE PPSU REDUCIDA 20-20-16 MULTICAPA | G73: UNIDAD | H73: 1 | I73: 8435447423464 | J73: =VLOOKUP(E73,' TARIFA 26.4'!$D$3:$I$20004,6,FALSE) -> 6.92 | N73: CAJA | O73: 24 | P73: 8435447423501 | Q73: CARTÓN | R73: 96 | S73: 28435447423468
A74: 03 | B74: ACCESORIOS MULTICAPA | D74: MCPTEE25165 | E74: 12000251 | F74: TE PPSU REDUCIDA 25-16-25 MULTICAPA | G74: UNIDAD | H74: 1 | I74: 8435447423471 | J74: =VLOOKUP(E74,' TARIFA 26.4'!$D$3:$I$20004,6,FALSE) -> 11.29 | N74: CAJA | O74: 12 | P74: 8435447423518 | Q74: CARTÓN | R74: 48 | S74: 28435447423475
A75: 03 | B75: ACCESORIOS MULTICAPA | C75: #VALUE! | D75: MCPCDO16 | E75: 12000229 | F75: CODO IGUAL PPSU 16 MULTICAPA | G75: UNIDAD | H75: 1 | I75: 8435447416633 | J75: =VLOOKUP(E75,' TARIFA 26.4'!$D$3:$I$20004,6,FALSE) -> 3.17 | N75: CAJA | O75: 36 | P75: 8435447426113 | Q75: CARTÓN | R75: 144 | S75: 28435447416637
A76: 03 | B76: ACCESORIOS MULTICAPA | D76: MCPCDO20 | E76: 12000230 | F76: CODO IGUAL PPSU 20 MULTICAPA | G76: UNIDAD | H76: 1 | I76: 8435447416640 | J76: =VLOOKUP(E76,' TARIFA 26.4'!$D$3:$I$20004,6,FALSE) -> 4.27 | N76: CAJA | O76: 30 | P76: 8435447426120 | Q76: CARTÓN | R76: 120 | S76: 28435447416644
A77: 03 | B77: ACCESORIOS MULTICAPA | D77: MCPCDO25 | E77: 12000231 | F77: CODO IGUAL PPSU 25 MULTICAPA | G77: UNIDAD | H77: 1 | I77: 8435447416657 | J77: =VLOOKUP(E77,' TARIFA 26.4'!$D$3:$I$20004,6,FALSE) -> 7.24 | N77: CAJA | O77: 18 | P77: 8435447426137 | Q77: CARTÓN | R77: 72 | S77: 28435447416651
A78: 03 | B78: ACCESORIOS MULTICAPA | D78: MCPCDO32 | E78: 12000232 | F78: CODO IGUAL PPSU 32 MULTICAPA | G78: UNIDAD | H78: 1 | I78: 8435447416664 | J78: =VLOOKUP(E78,' TARIFA 26.4'!$D$3:$I$20004,6,FALSE) -> 11.22 | N78: CAJA | O78: 12 | P78: 8435447426144 | Q78: CARTÓN | R78: 48 | S78: 28435447416668
A79: 03 | B79: ACCESORIOS MULTICAPA | C79: #VALUE! | D79: MCCCC1612 | E79: 12000046 | F79: CODO BASE FIJACION 16-1/2" MULTICAPA | G79: UNIDAD | H79: 1 | I79: 8436031824100 | J79: =VLOOKUP(E79,' TARIFA 26.4'!$D$3:$I$20004,6,FALSE) -> 9.07 | N79: CAJA | O79: 25 | P79: 8435447419467 | Q79: CARTÓN | R79: 225 | S79: 28436031824104
A80: 03 | B80: ACCESORIOS MULTICAPA | D80: MCCCC1612R | E80: 12000047 | F80: CODO BASE FIJACION 16-1/2" REFORZADO MULTICAPA | G80: UNIDAD | H80: 1 | I80: 8436031824919 | J80: =VLOOKUP(E80,' TARIFA 26.4'!$D$3:$I$20004,6,FALSE) -> 9.29 | N80: CAJA | O80: 25 | P80: 8435447419474 | Q80: CARTÓN | R80: 225 | S80: 28436031824913
A81: 03 | B81: ACCESORIOS MULTICAPA | D81: MCCCC1812R | E81: 12000213 | F81: CODO BASE FIJACION 18-1/2" REFORZADO MULTICAPA | G81: UNIDAD | H81: 1 | I81: 8436031822533 | J81: =VLOOKUP(E81,' TARIFA 26.4'!$D$3:$I$20004,6,FALSE) -> 10.59 | N81: CAJA | O81: 25 | P81: 8435447419481 | Q81: CARTÓN | R81: 225 | S81: 28436031822537
A82: 03 | B82: ACCESORIOS MULTICAPA | D82: MCCCC2012 | E82: 12000048 | F82: CODO BASE FIJACION 20-1/2" MULTICAPA | G82: UNIDAD | H82: 1 | I82: 8436031824117 | J82: =VLOOKUP(E82,' TARIFA 26.4'!$D$3:$I$20004,6,FALSE) -> 10.06 | N82: CAJA | O82: 25 | P82: 8435447419498 | Q82: CARTÓN | R82: 225 | S82: 28436031824111
A83: 03 | B83: ACCESORIOS MULTICAPA | D83: MCCCC2012R | E83: 12000049 | F83: CODO BASE FIJACION 20-1/2" REFORZADO MULTICAPA | G83: UNIDAD | H83: 1 | I83: 8436031824926 | J83: =VLOOKUP(E83,' TARIFA 26.4'!$D$3:$I$20004,6,FALSE) -> 10.59 | N83: CAJA | O83: 25 | P83: 8435447419504 | Q83: CARTÓN | R83: 225 | S83: 28436031824920
A84: 03 | B84: ACCESORIOS MULTICAPA | D84: MCCCC2034 | E84: 12000050 | F84: CODO BASE FIJACION 20-3/4" REFORZADO MULTICAPA | G84: UNIDAD | H84: 1 | I84: 8436031822540 | J84: =VLOOKUP(E84,' TARIFA 26.4'!$D$3:$I$20004,6,FALSE) -> 13.18 | N84: CAJA | O84: 25 | P84: 8435447419511 | Q84: CARTÓN | R84: 225 | S84: 28436031822544
A85: 03 | B85: ACCESORIOS MULTICAPA | D85: MCCCC2534 | E85: 12000051 | F85: CODO BASE FIJACION 25-3/4" REFORZADO MULTICAPA | G85: UNIDAD | H85: 1 | I85: 8436031822724 | J85: =VLOOKUP(E85,' TARIFA 26.4'!$D$3:$I$20004,6,FALSE) -> 16.52 | N85: CAJA | O85: 25 | P85: 8435447419528 | Q85: CARTÓN | R85: 150 | S85: 28436031822728
A86: 03 | B86: ACCESORIOS MULTICAPA | C86: #VALUE! | D86: MCCRM1612 | E86: 12000052 | F86: CODO ROSCA MACHO 16-1/2" MULTICAPA | G86: UNIDAD | H86: 1 | I86: 8436031824223 | J86: =VLOOKUP(E86,' TARIFA 26.4'!$D$3:$I$20004,6,FALSE) -> 6.85 | N86: CAJA | O86: 25 | P86: 8435447419535 | Q86: CARTÓN | R86: 300 | S86: 28436031824227
A87: 03 | B87: ACCESORIOS MULTICAPA | D87: MCCRM1812 | E87: 12000214 | F87: CODO ROSCA MACHO 18-1/2" MULTICAPA | G87: UNIDAD | H87: 1 | I87: 8436031824803 | J87: =VLOOKUP(E87,' TARIFA 26.4'!$D$3:$I$20004,6,FALSE) -> 7.98 | N87: CAJA | O87: 25 | P87: 8435447419542 | Q87: CARTÓN | R87: 300 | S87: 28436031824807
A88: 03 | B88: ACCESORIOS MULTICAPA | D88: MCCRM2012 | E88: 12000053 | F88: CODO ROSCA MACHO 20-1/2" MULTICAPA | G88: UNIDAD | H88: 1 | I88: 8436031824230 | J88: =VLOOKUP(E88,' TARIFA 26.4'!$D$3:$I$20004,6,FALSE) -> 7.82 | N88: CAJA | O88: 25 | P88: 8435447419559 | Q88: CARTÓN | R88: 300 | S88: 28436031824234
A89: 03 | B89: ACCESORIOS MULTICAPA | D89: MCCRM2034 | E89: 12000054 | F89: CODO ROSCA MACHO 20-3/4" MULTICAPA | G89: UNIDAD | H89: 1 | I89: 8436031824247 | J89: =VLOOKUP(E89,' TARIFA 26.4'!$D$3:$I$20004,6,FALSE) -> 10.06 | N89: CAJA | O89: 25 | P89: 8435447419566 | Q89: CARTÓN | R89: 225 | S89: 28436031824241
A90: 03 | B90: ACCESORIOS MULTICAPA | D90: MCCRM2534 | E90: 12000055 | F90: CODO ROSCA MACHO 25-3/4" MULTICAPA | G90: UNIDAD | H90: 1 | I90: 8436031824254 | J90: =VLOOKUP(E90,' TARIFA 26.4'!$D$3:$I$20004,6,FALSE) -> 12.94 | N90: CAJA | O90: 25 | P90: 8435447419573 | Q90: CARTÓN | R90: 225 | S90: 28436031824258
A91: 03 | B91: ACCESORIOS MULTICAPA | D91: MCCRM321 | E91: 12000056 | F91: CODO ROSCA MACHO 32-1" MULTICAPA | G91: UNIDAD | H91: 1 | I91: 8436031824261 | J91: =VLOOKUP(E91,' TARIFA 26.4'!$D$3:$I$20004,6,FALSE) -> 19.05 | N91: CAJA | O91: 25 | P91: 8435447419580 | Q91: CARTÓN | R91: 100 | S91: 28436031824265
A92: 03 | B92: ACCESORIOS MULTICAPA | C92: #VALUE! | D92: MCCTM1612 | E92: 12000082 | F92: CODO TUERCA MOVIL 16-1/2" MULTICAPA | G92: UNIDAD | H92: 1 | I92: 8435447410099 | J92: =VLOOKUP(E92,' TARIFA 26.4'!$D$3:$I$20004,6,FALSE) -> 17.9 | N92: CAJA | O92: 25 | P92: 8435447419597 | Q92: CARTÓN | R92: 225 | S92: 28435447410093
A93: 03 | B93: ACCESORIOS MULTICAPA | D93: MCCTM2012 | E93: 12000083 | F93: CODO TUERCA MOVIL 20-1/2" MULTICAPA | G93: UNIDAD | H93: 1 | I93: 8435447409666 | J93: =VLOOKUP(E93,' TARIFA 26.4'!$D$3:$I$20004,6,FALSE) -> 19.35 | N93: CAJA | O93: 25 | P93: 8435447419603 | Q93: CARTÓN | R93: 225 | S93: 28435447409660
A94: 03 | B94: ACCESORIOS MULTICAPA | D94: MCCTM2034 | E94: 12000084 | F94: CODO TUERCA MOVIL 20-3/4" MULTICAPA | G94: UNIDAD | H94: 1 | I94: 8435447410105 | J94: =VLOOKUP(E94,' TARIFA 26.4'!$D$3:$I$20004,6,FALSE) -> 25.35 | N94: CAJA | O94: 25 | P94: 8435447419610 | Q94: CARTÓN | R94: 150 | S94: 28435447410109
A95: 03 | B95: ACCESORIOS MULTICAPA | D95: MCCTM2534 | E95: 12000085 | F95: CODO TUERCA MOVIL 25-3/4" MULTICAPA | G95: UNIDAD | H95: 1 | I95: 8435447410112 | J95: =VLOOKUP(E95,' TARIFA 26.4'!$D$3:$I$20004,6,FALSE) -> 28.71 | N95: CAJA | O95: 25 | P95: 8435447419627 | Q95: CARTÓN | R95: 150 | S95: 28435447410116
A96: 03 | B96: ACCESORIOS MULTICAPA | C96: #VALUE! | D96: MCTSH1612 | E96: 12000078 | F96: TE SALIDA HEMBRA 16-1/2" MULTICAPA | G96: UNIDAD | H96: 1 | I96: 8436031824674 | J96: =VLOOKUP(E96,' TARIFA 26.4'!$D$3:$I$20004,6,FALSE) -> 10.58 | N96: CAJA | O96: 25 | P96: 8435447419634 | Q96: CARTÓN | R96: 225 | S96: 28436031824678
A97: 03 | B97: ACCESORIOS MULTICAPA | D97: MCTSH1612R | E97: 12000162 | F97: TE SALIDA HEMBRA 16-1/2" REFORZADA MULTICAPA | G97: UNIDAD | H97: 1 | I97: 8436031824957 | J97: =VLOOKUP(E97,' TARIFA 26.4'!$D$3:$I$20004,6,FALSE) -> 10.81 | N97: CAJA | O97: 25 | P97: 8435447419641 | Q97: CARTÓN | R97: 225 | S97: 28436031824951
A98: 03 | B98: ACCESORIOS MULTICAPA | D98: MCTSH1812R | E98: 12000219 | F98: TE SALIDA HEMBRA 18-1/2" REFORZADA MULTICAPA | G98: UNIDAD | H98: 1 | I98: 8436031825794 | J98: =VLOOKUP(E98,' TARIFA 26.4'!$D$3:$I$20004,6,FALSE) -> 11.79 | N98: CAJA | O98: 25 | P98: 8435447419658 | Q98: CARTÓN | R98: 225 | S98: 28436031825798
A99: 03 | B99: ACCESORIOS MULTICAPA | D99: MCTSH2012 | E99: 12000079 | F99: TE SALIDA HEMBRA 20-1/2" MULTICAPA | G99: UNIDAD | H99: 1 | I99: 8436031824681 | J99: =VLOOKUP(E99,' TARIFA 26.4'!$D$3:$I$20004,6,FALSE) -> 10.92 | N99: CAJA | O99: 25 | P99: 8435447419665 | Q99: CARTÓN | R99: 225 | S99: 28436031824685
A100: 03 | B100: ACCESORIOS MULTICAPA | D100: MCTSH2012R | E100: 12000163 | F100: TE SALIDA HEMBRA 20-1/2" REFORZADA MULTICAPA | G100: UNIDAD | H100: 1 | I100: 8436031824964 | J100: =VLOOKUP(E100,' TARIFA 26.4'!$D$3:$I$20004,6,FALSE) -> 11.79 | N100: CAJA | O100: 25 | P100: 8435447419672 | Q100: CARTÓN | R100: 225 | S100: 28436031824968
...

Sheet 04.Rápido y Fácil
A1: Texto en azul para artículos que estarán disponibles hasta final de existencias | E1: #VALUE!
A2: CÓDIGO FAMILIA | B2: DESCRIPCIÓN FAMILIA | C2: IMAGEN | D2: REFERENCIA ARTÍCULO | E2: CÓDIGO ARTÍCULO | F2: DESCRIPCIÓN ARTÍCULO | G2: UNIDAD MEDIDA INVENTARIO (U.M.I.) | H2: CANTIDAD U.M.I. | I2: EAN (CANTIDAD U.M.I.) | J2: PVP 26.4 (€/U.M.I.) | K2: UNIDAD VENTA 1 | L2: CANTIDAD U.V.1 | M2: EAN (U.V.1) | N2: UNIDAD VENTA 2 | O2: CANTIDAD U.V.2 | P2: EAN (U.V.2) | Q2: UNIDAD VENTA 3 | R2: CANTIDAD U.V.3 | S2: EAN (U.V.3)
A3: 04 | B3: RÁPIDO Y FÁCIL | C3: #VALUE! | D3: RFCSAI16A | E3: 7000001 | F3: CASQUILLO PLASTICO INYECTADO RF Ø16 COLOR AZUL | G3: UNIDAD | H3: 1 | J3: =VLOOKUP(E3,' TARIFA 26.4'!$D$3:$I$20004,6,FALSE) -> 0.61 | N3: BOLSA | O3: 50 | P3: 8435447407693 | Q3: CARTÓN | R3: 2000 | S3: 28435447407697
A4: 04 | B4: RÁPIDO Y FÁCIL | D4: RFCSAI16B | E4: 7000003 | F4: CASQUILLO PLASTICO INYECTADO RF Ø16 COLOR BLANCO | G4: UNIDAD | H4: 1 | J4: =VLOOKUP(E4,' TARIFA 26.4'!$D$3:$I$20004,6,FALSE) -> 0.61 | N4: BOLSA | O4: 50 | P4: 8435447409994 | Q4: CARTÓN | R4: 2000 | S4: 28435447409998
A5: 04 | B5: RÁPIDO Y FÁCIL | D5: RFCSAI16R | E5: 7000002 | F5: CASQUILLO PLASTICO INYECTADO RF Ø16 COLOR ROJO | G5: UNIDAD | H5: 1 | J5: =VLOOKUP(E5,' TARIFA 26.4'!$D$3:$I$20004,6,FALSE) -> 0.61 | N5: BOLSA | O5: 50 | P5: 8435447407709 | Q5: CARTÓN | R5: 2000 | S5: 28435447407703
A6: 04 | B6: RÁPIDO Y FÁCIL | D6: RFCSAI20A | E6: 7000004 | F6: CASQUILLO PLASTICO INYECTADO RF Ø20 COLOR AZUL | G6: UNIDAD | H6: 1 | J6: =VLOOKUP(E6,' TARIFA 26.4'!$D$3:$I$20004,6,FALSE) -> 0.68 | N6: BOLSA | O6: 50 | P6: 8435447407716 | Q6: CARTÓN | R6: 1250 | S6: 28435447407710
A7: 04 | B7: RÁPIDO Y FÁCIL | D7: RFCSAI20B | E7: 7000006 | F7: CASQUILLO PLASTICO INYECTADO RF Ø20 COLOR BLANCO | G7: UNIDAD | H7: 1 | J7: =VLOOKUP(E7,' TARIFA 26.4'!$D$3:$I$20004,6,FALSE) -> 0.68 | N7: BOLSA | O7: 50 | P7: 8435447410006 | Q7: CARTÓN | R7: 1250 | S7: 28435447410000
A8: 04 | B8: RÁPIDO Y FÁCIL | D8: RFCSAI20R | E8: 7000005 | F8: CASQUILLO PLASTICO INYECTADO RF Ø20 COLOR ROJO | G8: UNIDAD | H8: 1 | J8: =VLOOKUP(E8,' TARIFA 26.4'!$D$3:$I$20004,6,FALSE) -> 0.68 | N8: BOLSA | O8: 50 | P8: 8435447407723 | Q8: CARTÓN | R8: 1250 | S8: 28435447407727
A9: 04 | B9: RÁPIDO Y FÁCIL | D9: RFCSAI25A | E9: 7000007 | F9: CASQUILLO PLASTICO INYECTADO RF Ø25 COLOR AZUL | G9: UNIDAD | H9: 1 | J9: =VLOOKUP(E9,' TARIFA 26.4'!$D$3:$I$20004,6,FALSE) -> 0.75 | N9: BOLSA | O9: 25 | P9: 8435447407730 | Q9: CARTÓN | R9: 500 | S9: 28435447407734
A10: 04 | B10: RÁPIDO Y FÁCIL | D10: RFCSAI25B | E10: 7000009 | F10: CASQUILLO PLASTICO INYECTADO RF Ø25 COLOR BLANCO | G10: UNIDAD | H10: 1 | J10: =VLOOKUP(E10,' TARIFA 26.4'!$D$3:$I$20004,6,FALSE) -> 0.75 | N10: BOLSA | O10: 25 | P10: 8435447410013 | Q10: CARTÓN | R10: 500 | S10: 28435447410017
A11: 04 | B11: RÁPIDO Y FÁCIL | D11: RFCSAI25R | E11: 7000008 | F11: CASQUILLO PLASTICO INYECTADO RF Ø25 COLOR ROJO | G11: UNIDAD | H11: 1 | J11: =VLOOKUP(E11,' TARIFA 26.4'!$D$3:$I$20004,6,FALSE) -> 0.75 | N11: BOLSA | O11: 25 | P11: 8435447407747 | Q11: CARTÓN | R11: 500 | S11: 28435447407741
A12: 04 | B12: RÁPIDO Y FÁCIL | D12: RFCSAI32A | E12: 7000010 | F12: CASQUILLO PLASTICO INYECTADO RF Ø32 COLOR AZUL | G12: UNIDAD | H12: 1 | J12: =VLOOKUP(E12,' TARIFA 26.4'!$D$3:$I$20004,6,FALSE) -> 1.2 | N12: BOLSA | O12: 25 | P12: 8435447407754 | Q12: CARTÓN | R12: 300 | S12: 28435447407758
A13: 04 | B13: RÁPIDO Y FÁCIL | D13: RFCSAI32B | E13: 7000012 | F13: CASQUILLO PLASTICO INYECTADO RF Ø32 COLOR BLANCO | G13: UNIDAD | H13: 1 | J13: =VLOOKUP(E13,' TARIFA 26.4'!$D$3:$I$20004,6,FALSE) -> 1.2 | N13: BOLSA | O13: 25 | P13: 8435447410020 | Q13: CARTÓN | R13: 300 | S13: 28435447410024
A14: 04 | B14: RÁPIDO Y FÁCIL | D14: RFCSAI32R | E14: 7000011 | F14: CASQUILLO PLASTICO INYECTADO RF Ø32 COLOR ROJO | G14: UNIDAD | H14: 1 | J14: =VLOOKUP(E14,' TARIFA 26.4'!$D$3:$I$20004,6,FALSE) -> 1.2 | N14: BOLSA | O14: 25 | P14: 8435447407761 | Q14: CARTÓN | R14: 300 | S14: 28435447407765
A15: 04 | B15: RÁPIDO Y FÁCIL | C15: #VALUE! | D15: RFCSA16A | E15: 7000129 | F15: CASQUILLO PLASTICO RF Ø16 COLOR NATURAL LETRA AZUL | G15: UNIDAD | H15: 1 | J15: =VLOOKUP(E15,' TARIFA 26.4'!$D$3:$I$20004,6,FALSE) -> 0.55 | N15: BOLSA | O15: 50 | P15: 8435447400014 | Q15: CARTÓN | R15: 3600 | S15: 28435447400018
A16: 04 | B16: RÁPIDO Y FÁCIL | D16: RFCSA16R | E16: 7000205 | F16: CASQUILLO PLASTICO RF Ø16 COLOR NATURAL LETRA ROJA | G16: UNIDAD | H16: 1 | J16: =VLOOKUP(E16,' TARIFA 26.4'!$D$3:$I$20004,6,FALSE) -> 0.55 | N16: BOLSA | O16: 50 | P16: 8435447400021 | Q16: CARTÓN | R16: 3600 | S16: 28435447400025
A17: 04 | B17: RÁPIDO Y FÁCIL | D17: RFCSA20A | E17: 7000130 | F17: CASQUILLO PLASTICO RF Ø20 COLOR NATURA LETRA AZUL | G17: UNIDAD | H17: 1 | J17: =VLOOKUP(E17,' TARIFA 26.4'!$D$3:$I$20004,6,FALSE) -> 0.64 | N17: BOLSA | O17: 50 | P17: 8435447400045 | Q17: CARTÓN | R17: 1600 | S17: 28435447400049
A18: 04 | B18: RÁPIDO Y FÁCIL | D18: RFCSA20R | E18: 7000206 | F18: CASQUILLO PLASTICO RF Ø20 COLOR NATURAL LETRA ROJA | G18: UNIDAD | H18: 1 | J18: =VLOOKUP(E18,' TARIFA 26.4'!$D$3:$I$20004,6,FALSE) -> 0.64 | N18: BOLSA | O18: 50 | P18: 8435447400052 | Q18: CARTÓN | R18: 1600 | S18: 28435447400056
A19: 04 | B19: RÁPIDO Y FÁCIL | D19: RFCSA25A | E19: 7000131 | F19: CASQUILLO PLASTICO RF Ø25 COLOR NATURAL LETRA AZUL | G19: UNIDAD | H19: 1 | J19: =VLOOKUP(E19,' TARIFA 26.4'!$D$3:$I$20004,6,FALSE) -> 0.7 | N19: BOLSA | O19: 50 | P19: 8435447400069 | Q19: CARTÓN | R19: 800 | S19: 28435447400063
A20: 04 | B20: RÁPIDO Y FÁCIL | D20: RFCSA25R | E20: 7000207 | F20: CASQUILLO PLASTICO RF Ø25 COLOR NATURAL LETRA ROJA | G20: UNIDAD | H20: 1 | J20: =VLOOKUP(E20,' TARIFA 26.4'!$D$3:$I$20004,6,FALSE) -> 0.7 | N20: BOLSA | O20: 50 | P20: 8435447400083 | Q20: CARTÓN | R20: 800 | S20: 28435447400087
A21: 04 | B21: RÁPIDO Y FÁCIL | D21: RFCSA32 | E21: 7000132 | F21: CASQUILLO PLASTICO RF Ø32 COLOR NATURAL | G21: UNIDAD | H21: 1 | J21: =VLOOKUP(E21,' TARIFA 26.4'!$D$3:$I$20004,6,FALSE) -> 1.11 | N21: BOLSA | O21: 20 | P21: 8435447406603 | Q21: CARTÓN | R21: 160 | S21: 28435447406607
A22: 04 | B22: RÁPIDO Y FÁCIL | D22: RFCSA40 | E22: 7000168 | F22: CASQUILLO PLASTICO RF Ø40 COLOR NATURAL | G22: UNIDAD | H22: 1 | J22: =VLOOKUP(E22,' TARIFA 26.4'!$D$3:$I$20004,6,FALSE) -> 1.82 | N22: BOLSA | O22: 20 | P22: 8435447416862 | Q22: CARTÓN | R22: 80 | S22: 28435447416866
A23: 04 | B23: RÁPIDO Y FÁCIL | C23: #VALUE! | D23: RFPMAU16 | E23: 7000013 | F23: MANGUITO UNION RF 16 PPSU | G23: UNIDAD | H23: 1 | J23: =VLOOKUP(E23,' TARIFA 26.4'!$D$3:$I$20004,6,FALSE) -> 1.65 | N23: CAJA | O23: 200 | P23: 8435447407549 | Q23: CARTÓN | R23: 800 | S23: 28435447407543
A24: 04 | B24: RÁPIDO Y FÁCIL | D24: RFPMAU20 | E24: 7000014 | F24: MANGUITO UNION RF 20 PPSU | G24: UNIDAD | H24: 1 | J24: =VLOOKUP(E24,' TARIFA 26.4'!$D$3:$I$20004,6,FALSE) -> 2.21 | N24: CAJA | O24: 150 | P24: 8435447407556 | Q24: CARTÓN | R24: 600 | S24: 28435447407550
A25: 04 | B25: RÁPIDO Y FÁCIL | D25: RFPMAU25 | E25: 7000015 | F25: MANGUITO UNION RF 25 PPSU | G25: UNIDAD | H25: 1 | J25: =VLOOKUP(E25,' TARIFA 26.4'!$D$3:$I$20004,6,FALSE) -> 4.57 | N25: CAJA | O25: 75 | P25: 8435447407563 | Q25: CARTÓN | R25: 300 | S25: 28435447407567
A26: 04 | B26: RÁPIDO Y FÁCIL | D26: RFPMAU32 | E26: 7000016 | F26: MANGUITO UNION RF 32 PPSU | G26: UNIDAD | H26: 1 | J26: =VLOOKUP(E26,' TARIFA 26.4'!$D$3:$I$20004,6,FALSE) -> 8.68 | N26: CAJA | O26: 40 | P26: 8435447408171 | Q26: CARTÓN | R26: 160 | S26: 28435447408175
A27: 04 | B27: RÁPIDO Y FÁCIL | D27: RFPMAU40 | E27: 7000169 | F27: MANGUITO UNION RF 40 PPSU | G27: UNIDAD | H27: 1 | I27: 8435447414608 | J27: =VLOOKUP(E27,' TARIFA 26.4'!$D$3:$I$20004,6,FALSE) -> 17.68 | N27: CAJA | O27: 10 | P27: 8435447422818 | Q27: CARTÓN | R27: 40 | S27: 28435447414602
A28: 04 | B28: RÁPIDO Y FÁCIL | C28: #VALUE! | D28: RFPMGR2016 | E28: 7000017 | F28: MANGUITO REDUCIDO RF 20-16 PPSU | G28: UNIDAD | H28: 1 | J28: =VLOOKUP(E28,' TARIFA 26.4'!$D$3:$I$20004,6,FALSE) -> 2.85 | N28: CAJA | O28: 150 | P28: 8435447407570 | Q28: CARTÓN | R28: 600 | S28: 28435447407574
A29: 04 | B29: RÁPIDO Y FÁCIL | D29: RFPMGR2516 | E29: 7000018 | F29: MANGUITO REDUCIDO RF 25-16 PPSU | G29: UNIDAD | H29: 1 | J29: =VLOOKUP(E29,' TARIFA 26.4'!$D$3:$I$20004,6,FALSE) -> 4.34 | N29: CAJA | O29: 20 | P29: 8435447408157 | Q29: CARTÓN | R29: 160 | S29: 28435447408151
A30: 04 | B30: RÁPIDO Y FÁCIL | D30: RFPMGR2520 | E30: 7000019 | F30: MANGUITO REDUCIDO RF 25-20 PPSU | G30: UNIDAD | H30: 1 | J30: =VLOOKUP(E30,' TARIFA 26.4'!$D$3:$I$20004,6,FALSE) -> 4.34 | N30: CAJA | O30: 100 | P30: 8435447407587 | Q30: CARTÓN | R30: 400 | S30: 28435447407581
A31: 04 | B31: RÁPIDO Y FÁCIL | D31: RFPMGR3220 | E31: 7000170 | F31: MANGUITO REDUCIDO RF 32-20 PPSU | G31: UNIDAD | H31: 1 | I31: 8435447414615 | J31: =VLOOKUP(E31,' TARIFA 26.4'!$D$3:$I$20004,6,FALSE) -> 6.71 | N31: CAJA | O31: 20 | P31: 8435447422825 | Q31: CARTÓN | R31: 100 | S31: 28435447414619
A32: 04 | B32: RÁPIDO Y FÁCIL | D32: RFPMGR3225 | E32: 7000020 | F32: MANGUITO REDUCIDO RF 32-25 PPSU | G32: UNIDAD | H32: 1 | J32: =VLOOKUP(E32,' TARIFA 26.4'!$D$3:$I$20004,6,FALSE) -> 6.71 | N32: CAJA | O32: 30 | P32: 8435447408164 | Q32: CARTÓN | R32: 120 | S32: 28435447408168
A33: 04 | B33: RÁPIDO Y FÁCIL | D33: RFPMGR4025 | E33: 7000171 | F33: MANGUITO REDUCIDO RF 40-25 PPSU | G33: UNIDAD | H33: 1 | I33: 8435447414639 | J33: =VLOOKUP(E33,' TARIFA 26.4'!$D$3:$I$20004,6,FALSE) -> 13.46 | N33: CAJA | O33: 10 | P33: 8435447422832 | Q33: CARTÓN | R33: 60 | S33: 28435447414633
A34: 04 | B34: RÁPIDO Y FÁCIL | D34: RFPMGR4032 | E34: 7000172 | F34: MANGUITO REDUCIDO RF 40-32 PPSU | G34: UNIDAD | H34: 1 | I34: 8435447414622 | J34: =VLOOKUP(E34,' TARIFA 26.4'!$D$3:$I$20004,6,FALSE) -> 13.63 | N34: CAJA | O34: 10 | P34: 8435447422849 | Q34: CARTÓN | R34: 50 | S34: 28435447414626
A35: 04 | B35: RÁPIDO Y FÁCIL | C35: #VALUE! | D35: RFPCDO16 | E35: 7000162 | F35: CODO IGUAL RF 16 PPSU | G35: UNIDAD | H35: 1 | J35: =VLOOKUP(E35,' TARIFA 26.4'!$D$3:$I$20004,6,FALSE) -> 3.23 | N35: CAJA | O35: 150 | P35: 8435447407419 | Q35: CARTÓN | R35: 600 | S35: 28435447407413
A36: 04 | B36: RÁPIDO Y FÁCIL | D36: RFPCDO20 | E36: 7000163 | F36: CODO IGUAL RF 20 PPSU | G36: UNIDAD | H36: 1 | J36: =VLOOKUP(E36,' TARIFA 26.4'!$D$3:$I$20004,6,FALSE) -> 3.72 | N36: CAJA | O36: 100 | P36: 8435447407426 | Q36: CARTÓN | R36: 400 | S36: 28435447407420
A37: 04 | B37: RÁPIDO Y FÁCIL | D37: RFPCDO25 | E37: 7000164 | F37: CODO IGUAL RF 25 PPSU | G37: UNIDAD | H37: 1 | J37: =VLOOKUP(E37,' TARIFA 26.4'!$D$3:$I$20004,6,FALSE) -> 7.02 | N37: CAJA | O37: 50 | P37: 8435447407433 | Q37: CARTÓN | R37: 200 | S37: 28435447407437
A38: 04 | B38: RÁPIDO Y FÁCIL | D38: RFPCDO32 | E38: 7000165 | F38: CODO IGUAL RF 32 PPSU | G38: UNIDAD | H38: 1 | J38: =VLOOKUP(E38,' TARIFA 26.4'!$D$3:$I$20004,6,FALSE) -> 11.45 | N38: CAJA | O38: 30 | P38: 8435447408140 | Q38: CARTÓN | R38: 120 | S38: 28435447408144
A39: 04 | B39: RÁPIDO Y FÁCIL | D39: RFPCDO40 | E39: 7000173 | F39: CODO IGUAL RF 40 PPSU | G39: UNIDAD | H39: 1 | I39: 8435447414646 | J39: =VLOOKUP(E39,' TARIFA 26.4'!$D$3:$I$20004,6,FALSE) -> 22.23 | N39: CAJA | O39: 5 | P39: 8435447422856 | Q39: CARTÓN | R39: 30 | S39: 28435447414640
A40: 04 | B40: RÁPIDO Y FÁCIL | C40: #VALUE! | D40: RFPDIS2520163 | E40: 7000200 | F40: DISTRIBUIDOR RF 25-20-16-16-16 PPSU | G40: UNIDAD | H40: 1 | I40: 8435447417289 | J40: =VLOOKUP(E40,' TARIFA 26.4'!$D$3:$I$20004,6,FALSE) -> 9.72 | N40: CAJA | O40: 12 | P40: 8435447427950 | Q40: CARTÓN | R40: 48 | S40: 28435447417283
A41: 04 | B41: RÁPIDO Y FÁCIL | D41: RFPDIS2020163 | E41: 7000201 | F41: DISTRIBUIDOR RF 20-20-16-16-16 PPSU | G41: UNIDAD | H41: 1 | I41: 8435447417296 | J41: =VLOOKUP(E41,' TARIFA 26.4'!$D$3:$I$20004,6,FALSE) -> 8.88 | N41: CAJA | O41: 12 | P41: 8435447427967 | Q41: CARTÓN | R41: 48 | S41: 28435447417290
A42: 04 | B42: RÁPIDO Y FÁCIL | C42: #VALUE! | D42: RFPCR25201616 | E42: 7000198 | F42: CRUZ PPSU RF 25-20-16-16 | G42: UNIDAD | H42: 1 | I42: 8435447417265 | J42: =VLOOKUP(E42,' TARIFA 26.4'!$D$3:$I$20004,6,FALSE) -> 9.29 | N42: CAJA | O42: 12 | P42: 8435447427974 | Q42: CARTÓN | R42: 48 | S42: 28435447417269
A43: 04 | B43: RÁPIDO Y FÁCIL | D43: RFPCR20201616 | E43: 7000199 | F43: CRUZ PPSU RF 20-20-16-16 | G43: UNIDAD | H43: 1 | I43: 8435447417272 | J43: =VLOOKUP(E43,' TARIFA 26.4'!$D$3:$I$20004,6,FALSE) -> 8.45 | N43: CAJA | O43: 12 | P43: 8435447427981 | Q43: CARTÓN | R43: 48 | S43: 28435447417276
A44: 04 | B44: RÁPIDO Y FÁCIL | C44: #VALUE! | D44: RFPTEE16166 | E44: 7000021 | F44: TE IGUAL RF 16-16-16 PPSU | G44: UNIDAD | H44: 1 | J44: =VLOOKUP(E44,' TARIFA 26.4'!$D$3:$I$20004,6,FALSE) -> 3.96 | N44: CAJA | O44: 100 | P44: 8435447407440 | Q44: CARTÓN | R44: 400 | S44: 28435447407444
A45: 04 | B45: RÁPIDO Y FÁCIL | D45: RFPTEE20200 | E45: 7000022 | F45: TE IGUAL RF 20-20-20 PPSU | G45: UNIDAD | H45: 1 | J45: =VLOOKUP(E45,' TARIFA 26.4'!$D$3:$I$20004,6,FALSE) -> 4.57 | N45: CAJA | O45: 75 | P45: 8435447407457 | Q45: CARTÓN | R45: 300 | S45: 28435447407451
A46: 04 | B46: RÁPIDO Y FÁCIL | D46: RFPTEE25255 | E46: 7000023 | F46: TE IGUAL RF 25-25-25 PPSU | G46: UNIDAD | H46: 1 | J46: =VLOOKUP(E46,' TARIFA 26.4'!$D$3:$I$20004,6,FALSE) -> 10.66 | N46: CAJA | O46: 30 | P46: 8435447407464 | Q46: CARTÓN | R46: 120 | S46: 28435447407468
A47: 04 | B47: RÁPIDO Y FÁCIL | D47: RFPTEE32323 | E47: 7000174 | F47: TE IGUAL RF 32-32-32 PPSU | G47: UNIDAD | H47: 1 | I47: 8435447408188 | J47: =VLOOKUP(E47,' TARIFA 26.4'!$D$3:$I$20004,6,FALSE) -> 17.05 | N47: CAJA | O47: 10 | P47: 8435447422863 | Q47: CARTÓN | R47: 30 | S47: 28435447408182
A48: 04 | B48: RÁPIDO Y FÁCIL | C48: #VALUE! | D48: RFPTEE40404 | E48: 7000175 | F48: TE IGUAL RF 40-40-40 PPSU | G48: UNIDAD | H48: 1 | I48: 8435447414653 | J48: =VLOOKUP(E48,' TARIFA 26.4'!$D$3:$I$20004,6,FALSE) -> 33.64 | N48: CAJA | O48: 5 | P48: 8435447422870 | Q48: CARTÓN | R48: 20 | S48: 28435447414657
A49: 04 | B49: RÁPIDO Y FÁCIL | D49: RFPTEE16206 | E49: 7000176 | F49: TE REDUCIDA RF 16-20-16 PPSU | G49: UNIDAD | H49: 1 | I49: 8435447414660 | J49: =VLOOKUP(E49,' TARIFA 26.4'!$D$3:$I$20004,6,FALSE) -> 5.36 | N49: CAJA | O49: 20 | P49: 8435447422887 | Q49: CARTÓN | R49: 140 | S49: 28435447414664
A50: 04 | B50: RÁPIDO Y FÁCIL | D50: RFPTEE20166 | E50: 7000024 | F50: TE REDUCIDA RF 20-16-16 PPSU | G50: UNIDAD | H50: 1 | J50: =VLOOKUP(E50,' TARIFA 26.4'!$D$3:$I$20004,6,FALSE) -> 5.36 | N50: CAJA | O50: 100 | P50: 8435447407471 | Q50: CARTÓN | R50: 400 | S50: 28435447407475
A51: 04 | B51: RÁPIDO Y FÁCIL | D51: RFPTEE20160 | E51: 7000025 | F51: TE REDUCIDA RF 20-16-20 PPSU | G51: UNIDAD | H51: 1 | J51: =VLOOKUP(E51,' TARIFA 26.4'!$D$3:$I$20004,6,FALSE) -> 5.93 | N51: CAJA | O51: 75 | P51: 8435447407488 | Q51: CARTÓN | R51: 300 | S51: 28435447407482
A52: 04 | B52: RÁPIDO Y FÁCIL | D52: RFPTEE20206 | E52: 7000026 | F52: TE REDUCIDA RF 20-20-16 PPSU | G52: UNIDAD | H52: 1 | J52: =VLOOKUP(E52,' TARIFA 26.4'!$D$3:$I$20004,6,FALSE) -> 5.68 | N52: CAJA | O52: 75 | P52: 8435447407495 | Q52: CARTÓN | R52: 300 | S52: 28435447407499
A53: 04 | B53: RÁPIDO Y FÁCIL | D53: RFPTEE20250 | E53: 7000177 | F53: TE REDUCIDA RF 20-25-20 PPSU | G53: UNIDAD | H53: 1 | I53: 8435447414677 | J53: =VLOOKUP(E53,' TARIFA 26.4'!$D$3:$I$20004,6,FALSE) -> 9.31 | N53: CAJA | O53: 20 | P53: 8435447422894 | Q53: CARTÓN | R53: 80 | S53: 28435447414671
A54: 04 | B54: RÁPIDO Y FÁCIL | D54: RFPTEE25166 | E54: 7000178 | F54: TE REDUCIDA RF 25-16-16 PPSU | G54: UNIDAD | H54: 1 | I54: 8435447414684 | J54: =VLOOKUP(E54,' TARIFA 26.4'!$D$3:$I$20004,6,FALSE) -> 9.31 | N54: CAJA | O54: 20 | P54: 8435447422900 | Q54: CARTÓN | R54: 100 | S54: 28435447414688
A55: 04 | B55: RÁPIDO Y FÁCIL | D55: RFPTEE25160 | E55: 7000179 | F55: TE REDUCIDA RF 25-16-20 PPSU | G55: UNIDAD | H55: 1 | I55: 8435447414691 | J55: =VLOOKUP(E55,' TARIFA 26.4'!$D$3:$I$20004,6,FALSE) -> 9.57 | N55: CAJA | O55: 20 | P55: 8435447422917 | Q55: CARTÓN | R55: 100 | S55: 28435447414695
A56: 04 | B56: RÁPIDO Y FÁCIL | D56: RFPTEE25165 | E56: 7000027 | F56: TE REDUCIDA RF 25-16-25 PPSU | G56: UNIDAD | H56: 1 | I56: 8435447407501 | J56: =VLOOKUP(E56,' TARIFA 26.4'!$D$3:$I$20004,6,FALSE) -> 9.57 | N56: CAJA | O56: 15 | P56: 8435447422924 | Q56: CARTÓN | R56: 90 | S56: 28435447407505
A57: 04 | B57: RÁPIDO Y FÁCIL | D57: RFPTEE25206 | E57: 7000180 | F57: TE REDUCIDA RF 25-20-16 PPSU | G57: UNIDAD | H57: 1 | I57: 8435447414707 | J57: =VLOOKUP(E57,' TARIFA 26.4'!$D$3:$I$20004,6,FALSE) -> 9.31 | N57: CAJA | O57: 20 | P57: 8435447422931 | Q57: CARTÓN | R57: 100 | S57: 28435447414701
A58: 04 | B58: RÁPIDO Y FÁCIL | D58: RFPTEE25200 | E58: 7000028 | F58: TE REDUCIDA RF 25-20-20 PPSU | G58: UNIDAD | H58: 1 | J58: =VLOOKUP(E58,' TARIFA 26.4'!$D$3:$I$20004,6,FALSE) -> 9.31 | N58: CAJA | O58: 30 | P58: 8435447407518 | Q58: CARTÓN | R58: 120 | S58: 28435447407512
A59: 04 | B59: RÁPIDO Y FÁCIL | D59: RFPTEE25205 | E59: 7000029 | F59: TE REDUCIDA RF 25-20-25 PPSU | G59: UNIDAD | H59: 1 | J59: =VLOOKUP(E59,' TARIFA 26.4'!$D$3:$I$20004,6,FALSE) -> 10.66 | N59: CAJA | O59: 30 | P59: 8435447407525 | Q59: CARTÓN | R59: 120 | S59: 28435447407529
A60: 04 | B60: RÁPIDO Y FÁCIL | D60: RFPTEE25250 | E60: 7000030 | F60: TE REDUCIDA RF 25-25-20 PPSU | G60: UNIDAD | H60: 1 | J60: =VLOOKUP(E60,' TARIFA 26.4'!$D$3:$I$20004,6,FALSE) -> 10.66 | N60: CAJA | O60: 30 | P60: 8435447407532 | Q60: CARTÓN | R60: 120 | S60: 28435447407536
A61: 04 | B61: RÁPIDO Y FÁCIL | D61: RFPTEE25325 | E61: 7000181 | F61: TE REDUCIDA RF 25-32-25 PPSU | G61: UNIDAD | H61: 1 | I61: 8435447414714 | J61: =VLOOKUP(E61,' TARIFA 26.4'!$D$3:$I$20004,6,FALSE) -> 15.11 | N61: CAJA | O61: 10 | P61: 8435447422948 | Q61: CARTÓN | R61: 50 | S61: 28435447414718
A62: 04 | B62: RÁPIDO Y FÁCIL | D62: RFPTEE32200 | E62: 7000182 | F62: TE REDUCIDA RF 32-20-20 PPSU | G62: UNIDAD | H62: 1 | I62: 8435447414721 | J62: =VLOOKUP(E62,' TARIFA 26.4'!$D$3:$I$20004,6,FALSE) -> 15.11 | N62: CAJA | O62: 10 | P62: 8435447422955 | Q62: CARTÓN | R62: 70 | S62: 28435447414725
A63: 04 | B63: RÁPIDO Y FÁCIL | D63: RFPTEE32205 | E63: 7000183 | F63: TE REDUCIDA RF 32-20-25 PPSU | G63: UNIDAD | H63: 1 | I63: 8435447414738 | J63: =VLOOKUP(E63,' TARIFA 26.4'!$D$3:$I$20004,6,FALSE) -> 15.4 | N63: CAJA | O63: 10 | P63: 8435447422962 | Q63: CARTÓN | R63: 60 | S63: 28435447414732
A64: 04 | B64: RÁPIDO Y FÁCIL | D64: RFPTEE32203 | E64: 7000184 | F64: TE REDUCIDA RF 32-20-32 PPSU | G64: UNIDAD | H64: 1 | I64: 8435447414745 | J64: =VLOOKUP(E64,' TARIFA 26.4'!$D$3:$I$20004,6,FALSE) -> 15.74 | N64: CAJA | O64: 10 | P64: 8435447422979 | Q64: CARTÓN | R64: 50 | S64: 28435447414749
A65: 04 | B65: RÁPIDO Y FÁCIL | D65: RFPTEE32250 | E65: 7000185 | F65: TE REDUCIDA RF 32-25-20 PPSU | G65: UNIDAD | H65: 1 | I65: 8435447414752 | J65: =VLOOKUP(E65,' TARIFA 26.4'!$D$3:$I$20004,6,FALSE) -> 15.74 | N65: CAJA | O65: 10 | P65: 8435447422986 | Q65: CARTÓN | R65: 60 | S65: 28435447414756
A66: 04 | B66: RÁPIDO Y FÁCIL | D66: RFPTEE32255 | E66: 7000186 | F66: TE REDUCIDA RF 32-25-25 PPSU | G66: UNIDAD | H66: 1 | I66: 8435447408195 | J66: =VLOOKUP(E66,' TARIFA 26.4'!$D$3:$I$20004,6,FALSE) -> 15.74 | N66: CAJA | O66: 10 | P66: 8435447422993 | Q66: CARTÓN | R66: 50 | S66: 28435447408199
A67: 04 | B67: RÁPIDO Y FÁCIL | D67: RFPTEE32253 | E67: 7000187 | F67: TE REDUCIDA RF 32-25-32 PPSU | G67: UNIDAD | H67: 1 | I67: 8435447408201 | J67: =VLOOKUP(E67,' TARIFA 26.4'!$D$3:$I$20004,6,FALSE) -> 15.74 | N67: CAJA | O67: 10 | P67: 8435447423006 | Q67: CARTÓN | R67: 40 | S67: 28435447408205
A68: 04 | B68: RÁPIDO Y FÁCIL | D68: RFPTEE40204 | E68: 7000188 | F68: TE REDUCIDA RF 40-20-40 PPSU | G68: UNIDAD | H68: 1 | I68: 8435447414769 | J68: =VLOOKUP(E68,' TARIFA 26.4'!$D$3:$I$20004,6,FALSE) -> 27.09 | N68: CAJA | O68: 5 | P68: 8435447423013 | Q68: CARTÓN | R68: 30 | S68: 28435447414763
A69: 04 | B69: RÁPIDO Y FÁCIL | D69: RFPTEE40254 | E69: 7000189 | F69: TE REDUCIDA RF 40-25-40 PPSU | G69: UNIDAD | H69: 1 | I69: 8435447414776 | J69: =VLOOKUP(E69,' TARIFA 26.4'!$D$3:$I$20004,6,FALSE) -> 27.94 | N69: CAJA | O69: 5 | P69: 8435447423020 | Q69: CARTÓN | R69: 30 | S69: 28435447414770
A70: 04 | B70: RÁPIDO Y FÁCIL | D70: RFPTEE40323 | E70: 7000190 | F70: TE REDUCIDA RF 40-32-32 PPSU | G70: UNIDAD | H70: 1 | I70: 8435447414783 | J70: =VLOOKUP(E70,' TARIFA 26.4'!$D$3:$I$20004,6,FALSE) -> 30.23 | N70: CAJA | O70: 5 | P70: 8435447423037 | Q70: CARTÓN | R70: 25 | S70: 28435447414787
A71: 04 | B71: RÁPIDO Y FÁCIL | D71: RFPTEE40324 | E71: 7000191 | F71: TE REDUCIDA RF 40-32-40 PPSU | G71: UNIDAD | H71: 1 | I71: 8435447414790 | J71: =VLOOKUP(E71,' TARIFA 26.4'!$D$3:$I$20004,6,FALSE) -> 32.21 | N71: CAJA | O71: 5 | P71: 8435447423044 | Q71: CARTÓN | R71: 25 | S71: 28435447414794
A72: 04 | B72: RÁPIDO Y FÁCIL | C72: #VALUE! | D72: RFPTAPON16 | E72: 7000192 | F72: TAPON RF 16 PPSU | G72: UNIDAD | H72: 1 | I72: 8435447408218 | J72: =VLOOKUP(E72,' TARIFA 26.4'!$D$3:$I$20004,6,FALSE) -> 1.32 | N72: CAJA | O72: 50 | P72: 8435447423051 | Q72: CARTÓN | R72: 400 | S72: 28435447408212
A73: 04 | B73: RÁPIDO Y FÁCIL | D73: RFPTAPON20 | E73: 7000193 | F73: TAPON RF 20 PPSU | G73: UNIDAD | H73: 1 | I73: 8435447408225 | J73: =VLOOKUP(E73,' TARIFA 26.4'!$D$3:$I$20004,6,FALSE) -> 2.23 | N73: CAJA | O73: 50 | P73: 8435447423068 | Q73: CARTÓN | R73: 300 | S73: 28435447408229
A74: 04 | B74: RÁPIDO Y FÁCIL | C74: #VALUE! | D74: RFRMV1612 | E74: 7000031 | F74: RACOR MOVIL RF 16-1/2" | G74: UNIDAD | H74: 1 | I74: 8435447400106 | J74: =VLOOKUP(E74,' TARIFA 26.4'!$D$3:$I$20004,6,FALSE) -> 6.02 | N74: CAJA | O74: 25 | P74: 8435447421620 | Q74: CARTÓN | R74: 300 | S74: 28435447400100
A75: 04 | B75: RÁPIDO Y FÁCIL | D75: RFRMV2012 | E75: 7000032 | F75: RACOR MOVIL RF 20-1/2" | G75: UNIDAD | H75: 1 | I75: 8435447400113 | J75: =VLOOKUP(E75,' TARIFA 26.4'!$D$3:$I$20004,6,FALSE) -> 6.24 | N75: CAJA | O75: 25 | P75: 8435447421637 | Q75: CARTÓN | R75: 300 | S75: 28435447400117
A76: 04 | B76: RÁPIDO Y FÁCIL | D76: RFRMV2034 | E76: 7000033 | F76: RACOR MOVIL RF 20-3/4" | G76: UNIDAD | H76: 1 | I76: 8435447407174 | J76: =VLOOKUP(E76,' TARIFA 26.4'!$D$3:$I$20004,6,FALSE) -> 7.31 | N76: CAJA | O76: 25 | P76: 8435447421644 | Q76: CARTÓN | R76: 225 | S76: 28435447407178
A77: 04 | B77: RÁPIDO Y FÁCIL | D77: RFRMV2534 | E77: 7000034 | F77: RACOR MOVIL RF 25-3/4" | G77: UNIDAD | H77: 1 | I77: 8435447400120 | J77: =VLOOKUP(E77,' TARIFA 26.4'!$D$3:$I$20004,6,FALSE) -> 9.9 | N77: CAJA | O77: 25 | P77: 8435447421651 | Q77: CARTÓN | R77: 150 | S77: 28435447400124
A78: 04 | B78: RÁPIDO Y FÁCIL | D78: RFRMV321 | E78: 7000035 | F78: RACOR MOVIL RF 32-1" | G78: UNIDAD | H78: 1 | I78: 8435447408102 | J78: =VLOOKUP(E78,' TARIFA 26.4'!$D$3:$I$20004,6,FALSE) -> 21.5 | N78: CAJA | O78: 25 | P78: 8435447421668 | Q78: CARTÓN | R78: 150 | S78: 28435447408106
A79: 04 | B79: RÁPIDO Y FÁCIL | C79: #VALUE! | D79: RFRFH1612 | E79: 7000036 | F79: RACOR FIJO HEMBRA RF 16-1/2" | G79: UNIDAD | H79: 1 | I79: 8435447400137 | J79: =VLOOKUP(E79,' TARIFA 26.4'!$D$3:$I$20004,6,FALSE) -> 4.52 | N79: CAJA | O79: 25 | P79: 8435447421675 | Q79: CARTÓN | R79: 300 | S79: 28435447400131
A80: 04 | B80: RÁPIDO Y FÁCIL | D80: RFRFH2012 | E80: 7000037 | F80: RACOR FIJO HEMBRA RF 20-1/2" | G80: UNIDAD | H80: 1 | I80: 8435447400144 | J80: =VLOOKUP(E80,' TARIFA 26.4'!$D$3:$I$20004,6,FALSE) -> 4.93 | N80: CAJA | O80: 25 | P80: 8435447421682 | Q80: CARTÓN | R80: 300 | S80: 28435447400148
A81: 04 | B81: RÁPIDO Y FÁCIL | D81: RFRFH2034 | E81: 7000038 | F81: RACOR FIJO HEMBRA RF 20-3/4" | G81: UNIDAD | H81: 1 | I81: 8435447407167 | J81: =VLOOKUP(E81,' TARIFA 26.4'!$D$3:$I$20004,6,FALSE) -> 6.02 | N81: CAJA | O81: 25 | P81: 8435447421699 | Q81: CARTÓN | R81: 225 | S81: 28435447407161
A82: 04 | B82: RÁPIDO Y FÁCIL | D82: RFRFH2534 | E82: 7000039 | F82: RACOR FIJO HEMBRA RF 25-3/4" | G82: UNIDAD | H82: 1 | I82: 8435447400151 | J82: =VLOOKUP(E82,' TARIFA 26.4'!$D$3:$I$20004,6,FALSE) -> 7.06 | N82: CAJA | O82: 25 | P82: 8435447421705 | Q82: CARTÓN | R82: 225 | S82: 28435447400155
A83: 04 | B83: RÁPIDO Y FÁCIL | D83: RFRFH321 | E83: 7000040 | F83: RACOR FIJO HEMBRA RF 32-1" | G83: UNIDAD | H83: 1 | I83: 8435447400168 | J83: =VLOOKUP(E83,' TARIFA 26.4'!$D$3:$I$20004,6,FALSE) -> 17.38 | N83: CAJA | O83: 25 | P83: 8435447421712 | Q83: CARTÓN | R83: 150 | S83: 28435447400162
A84: 04 | B84: RÁPIDO Y FÁCIL | C84: #VALUE! | D84: RFRFM1612 | E84: 7000041 | F84: RACOR FIJO MACHO RF 16-1/2" | G84: UNIDAD | H84: 1 | I84: 8435447400175 | J84: =VLOOKUP(E84,' TARIFA 26.4'!$D$3:$I$20004,6,FALSE) -> 3.27 | N84: CAJA | O84: 25 | P84: 8435447421729 | Q84: CARTÓN | R84: 300 | S84: 28435447400179
A85: 04 | B85: RÁPIDO Y FÁCIL | D85: RFRFM1634 | E85: 7000161 | F85: RACOR FIJO MACHO RF 16-3/4" | G85: UNIDAD | H85: 1 | I85: 8435447414394 | J85: =VLOOKUP(E85,' TARIFA 26.4'!$D$3:$I$20004,6,FALSE) -> 5.26 | N85: CAJA | O85: 25 | P85: 8435447421736 | Q85: CARTÓN | R85: 225 | S85: 28435447414398
A86: 04 | B86: RÁPIDO Y FÁCIL | D86: RFRFM2012 | E86: 7000042 | F86: RACOR FIJO MACHO RF 20-1/2" | G86: UNIDAD | H86: 1 | I86: 8435447400182 | J86: =VLOOKUP(E86,' TARIFA 26.4'!$D$3:$I$20004,6,FALSE) -> 3.95 | N86: CAJA | O86: 25 | P86: 8435447421743 | Q86: CARTÓN | R86: 300 | S86: 28435447400186
A87: 04 | B87: RÁPIDO Y FÁCIL | D87: RFRFM2034 | E87: 7000043 | F87: RACOR FIJO MACHO RF 20-3/4" | G87: UNIDAD | H87: 1 | I87: 8435447400199 | J87: =VLOOKUP(E87,' TARIFA 26.4'!$D$3:$I$20004,6,FALSE) -> 5.26 | N87: CAJA | O87: 25 | P87: 8435447421750 | Q87: CARTÓN | R87: 225 | S87: 28435447400193
A88: 04 | B88: RÁPIDO Y FÁCIL | D88: RFRFM2534 | E88: 7000044 | F88: RACOR FIJO MACHO RF 25-3/4" | G88: UNIDAD | H88: 1 | I88: 8435447400205 | J88: =VLOOKUP(E88,' TARIFA 26.4'!$D$3:$I$20004,6,FALSE) -> 6.47 | N88: CAJA | O88: 25 | P88: 8435447421767 | Q88: CARTÓN | R88: 225 | S88: 28435447400209
A89: 04 | B89: RÁPIDO Y FÁCIL | D89: RFRFM251 | E89: 7000045 | F89: RACOR FIJO MACHO RF 25-1" | G89: UNIDAD | H89: 1 | I89: 8435447408119 | J89: =VLOOKUP(E89,' TARIFA 26.4'!$D$3:$I$20004,6,FALSE) -> 10.79 | N89: CAJA | O89: 25 | P89: 8435447421774 | Q89: CARTÓN | R89: 150 | S89: 28435447408113
A90: 04 | B90: RÁPIDO Y FÁCIL | D90: RFRFM321 | E90: 7000046 | F90: RACOR FIJO MACHO RF 32-1" | G90: UNIDAD | H90: 1 | I90: 8435447400212 | J90: =VLOOKUP(E90,' TARIFA 26.4'!$D$3:$I$20004,6,FALSE) -> 13.1 | N90: CAJA | O90: 25 | P90: 8435447421781 | Q90: CARTÓN | R90: 150 | S90: 28435447400216
A91: 04 | B91: RÁPIDO Y FÁCIL | C91: #VALUE! | D91: RFMAU16 | E91: 7000047 | F91: MANGUITO UNION RF 16 | G91: UNIDAD | H91: 1 | I91: 8435447400229 | J91: =VLOOKUP(E91,' TARIFA 26.4'!$D$3:$I$20004,6,FALSE) -> 2.97 | N91: CAJA | O91: 25 | P91: 8435447421798 | Q91: CARTÓN | R91: 300 | S91: 28435447400223
A92: 04 | B92: RÁPIDO Y FÁCIL | D92: RFMAU20 | E92: 7000048 | F92: MANGUITO UNION RF 20 | G92: UNIDAD | H92: 1 | I92: 8435447400236 | J92: =VLOOKUP(E92,' TARIFA 26.4'!$D$3:$I$20004,6,FALSE) -> 4.52 | N92: CAJA | O92: 25 | P92: 8435447421804 | Q92: CARTÓN | R92: 300 | S92: 28435447400230
A93: 04 | B93: RÁPIDO Y FÁCIL | D93: RFMAU25 | E93: 7000049 | F93: MANGUITO UNION RF 25 | G93: UNIDAD | H93: 1 | I93: 8435447400243 | J93: =VLOOKUP(E93,' TARIFA 26.4'!$D$3:$I$20004,6,FALSE) -> 7.82 | N93: CAJA | O93: 25 | P93: 8435447421811 | Q93: CARTÓN | R93: 225 | S93: 28435447400247
A94: 04 | B94: RÁPIDO Y FÁCIL | D94: RFMAU32 | E94: 7000050 | F94: MANGUITO UNION RF 32 | G94: UNIDAD | H94: 1 | I94: 8435447400250 | J94: =VLOOKUP(E94,' TARIFA 26.4'!$D$3:$I$20004,6,FALSE) -> 13.88 | N94: CAJA | O94: 25 | P94: 8435447421828 | Q94: CARTÓN | R94: 150 | S94: 28435447400254
A95: 04 | B95: RÁPIDO Y FÁCIL | C95: #VALUE! | D95: RFMGR2016 | E95: 7000051 | F95: MANGUITO REDUCIDO RF 20-16 | G95: UNIDAD | H95: 1 | I95: 8435447400267 | J95: =VLOOKUP(E95,' TARIFA 26.4'!$D$3:$I$20004,6,FALSE) -> 5.03 | N95: CAJA | O95: 25 | P95: 8435447421835 | Q95: CARTÓN | R95: 300 | S95: 28435447400261
A96: 04 | B96: RÁPIDO Y FÁCIL | D96: RFMGR2516 | E96: 7000052 | F96: MANGUITO REDUCIDO RF 25-16 | G96: UNIDAD | H96: 1 | I96: 8435447407150 | J96: =VLOOKUP(E96,' TARIFA 26.4'!$D$3:$I$20004,6,FALSE) -> 7.54 | N96: CAJA | O96: 25 | P96: 8435447421842 | Q96: CARTÓN | R96: 225 | S96: 28435447407154
A97: 04 | B97: RÁPIDO Y FÁCIL | D97: RFMGR2520 | E97: 7000053 | F97: MANGUITO REDUCIDO RF 25-20 | G97: UNIDAD | H97: 1 | I97: 8435447400274 | J97: =VLOOKUP(E97,' TARIFA 26.4'!$D$3:$I$20004,6,FALSE) -> 7.54 | N97: CAJA | O97: 25 | P97: 8435447421859 | Q97: CARTÓN | R97: 225 | S97: 28435447400278
A98: 04 | B98: RÁPIDO Y FÁCIL | D98: RFMGR3225 | E98: 7000054 | F98: MANGUITO REDUCIDO RF 32-25 | G98: UNIDAD | H98: 1 | I98: 8435447400281 | J98: =VLOOKUP(E98,' TARIFA 26.4'!$D$3:$I$20004,6,FALSE) -> 10.79 | N98: CAJA | O98: 25 | P98: 8435447421866 | Q98: CARTÓN | R98: 150 | S98: 28435447400285
A99: 04 | B99: RÁPIDO Y FÁCIL | C99: #VALUE! | D99: RFTEE16166 | E99: 7000055 | F99: TE IGUAL RF 16-16-16 | G99: UNIDAD | H99: 1 | I99: 8435447400410 | J99: =VLOOKUP(E99,' TARIFA 26.4'!$D$3:$I$20004,6,FALSE) -> 6.43 | N99: CAJA | O99: 25 | P99: 8435447421873 | Q99: CARTÓN | R99: 225 | S99: 28435447400414
A100: 04 | B100: RÁPIDO Y FÁCIL | D100: RFTEE20200 | E100: 7000056 | F100: TE IGUAL RF 20-20-20 | G100: UNIDAD | H100: 1 | I100: 8435447400427 | J100: =VLOOKUP(E100,' TARIFA 26.4'!$D$3:$I$20004,6,FALSE) -> 9.07 | N100: CAJA | O100: 25 | P100: 8435447421880 | Q100: CARTÓN | R100: 225 | S100: 28435447400421
...

Sheet 05.Eco-Press
A1: Texto en azul para artículos que estarán disponibles hasta final de existencias | E1: #VALUE!
A2: CÓDIGO FAMILIA | B2: DESCRIPCIÓN FAMILIA | C2: IMAGEN | D2: REFERENCIA ARTÍCULO | E2: CÓDIGO ARTÍCULO | F2: DESCRIPCIÓN ARTÍCULO | G2: UNIDAD MEDIDA INVENTARIO (U.M.I.) | H2: CANTIDAD U.M.I. | I2: EAN (CANTIDAD U.M.I.) | J2: PVP 26.4 (€/U.M.I.) | K2: UNIDAD VENTA 1 | L2: CANTIDAD U.V.1 | M2: EAN (U.V.1) | N2: UNIDAD VENTA 2 | O2: CANTIDAD U.V.2 | P2: EAN (U.V.2) | Q2: UNIDAD VENTA 3 | R2: CANTIDAD U.V.3 | S2: EAN (U.V.3)
A3: 05 | B3: ACCESORIOS ECO-PRESS | C3: #VALUE! | D3: ECPFRMV1612 | E3: 11000001 | F3: RACOR MOVIL 16-1/2" ECO-PRESS | G3: UNIDAD | H3: 1 | I3: 8436031827507 | J3: =VLOOKUP(E3,' TARIFA 26.4'!$D$3:$I$20004,6,FALSE) -> 6.02 | N3: CAJA | O3: 25 | P3: 8435447424744 | Q3: CARTÓN | R3: 300 | S3: 28436031827501
A4: 05 | B4: ACCESORIOS ECO-PRESS | D4: ECPFRMV1634 | E4: 11000002 | F4: RACOR MOVIL 16-3/4" ECO-PRESS | G4: UNIDAD | H4: 1 | I4: 8436031822526 | J4: =VLOOKUP(E4,' TARIFA 26.4'!$D$3:$I$20004,6,FALSE) -> 7.69 | N4: CAJA | O4: 25 | P4: 8435447424751 | Q4: CARTÓN | R4: 300 | S4: 28436031822520
A5: 05 | B5: ACCESORIOS ECO-PRESS | D5: ECPFRMV2012 | E5: 11000003 | F5: RACOR MOVIL 20-1/2" ECO-PRESS | G5: UNIDAD | H5: 1 | I5: 8436031827514 | J5: =VLOOKUP(E5,' TARIFA 26.4'!$D$3:$I$20004,6,FALSE) -> 6.23 | N5: CAJA | O5: 25 | P5: 8435447424768 | Q5: CARTÓN | R5: 300 | S5: 28436031827518
A6: 05 | B6: ACCESORIOS ECO-PRESS | D6: ECPFRMV2034 | E6: 11000004 | F6: RACOR MOVIL 20-3/4" ECO-PRESS | G6: UNIDAD | H6: 1 | I6: 8436031827521 | J6: =VLOOKUP(E6,' TARIFA 26.4'!$D$3:$I$20004,6,FALSE) -> 9.07 | N6: CAJA | O6: 25 | P6: 8435447424775 | Q6: CARTÓN | R6: 225 | S6: 28436031827525
A7: 05 | B7: ACCESORIOS ECO-PRESS | D7: ECPFRMV2534 | E7: 11000005 | F7: RACOR MOVIL 25-3/4" ECO-PRESS | G7: UNIDAD | H7: 1 | I7: 8436031827538 | J7: =VLOOKUP(E7,' TARIFA 26.4'!$D$3:$I$20004,6,FALSE) -> 10.27 | N7: CAJA | O7: 25 | P7: 8435447424782 | Q7: CARTÓN | R7: 225 | S7: 28436031827532
A8: 05 | B8: ACCESORIOS ECO-PRESS | D8: ECPFRMV321 | E8: 11000006 | F8: RACOR MOVIL 32-1" ECO-PRESS | G8: UNIDAD | H8: 1 | I8: 8436031827545 | J8: =VLOOKUP(E8,' TARIFA 26.4'!$D$3:$I$20004,6,FALSE) -> 18.44 | N8: CAJA | O8: 25 | P8: 8435447424799 | Q8: CARTÓN | R8: 150 | S8: 28436031827549
A9: 05 | B9: ACCESORIOS ECO-PRESS | C9: #VALUE! | D9: ECPFRFH1612 | E9: 11000007 | F9: RACOR FIJO HEMBRA 16-1/2" ECO-PRESS | G9: UNIDAD | H9: 1 | I9: 8436031827408 | J9: =VLOOKUP(E9,' TARIFA 26.4'!$D$3:$I$20004,6,FALSE) -> 5.39 | N9: CAJA | O9: 25 | P9: 8435447424805 | Q9: CARTÓN | R9: 300 | S9: 28436031827402
A10: 05 | B10: ACCESORIOS ECO-PRESS | D10: ECPFRFH2012 | E10: 11000008 | F10: RACOR FIJO HEMBRA 20-1/2" ECO-PRESS | G10: UNIDAD | H10: 1 | I10: 8436031827415 | J10: =VLOOKUP(E10,' TARIFA 26.4'!$D$3:$I$20004,6,FALSE) -> 6.02 | N10: CAJA | O10: 25 | P10: 8435447424812 | Q10: CARTÓN | R10: 300 | S10: 28436031827419
A11: 05 | B11: ACCESORIOS ECO-PRESS | D11: ECPFRFH2034 | E11: 11000009 | F11: RACOR FIJO HEMBRA 20-3/4" ECO-PRESS | G11: UNIDAD | H11: 1 | I11: 8436031827422 | J11: =VLOOKUP(E11,' TARIFA 26.4'!$D$3:$I$20004,6,FALSE) -> 7.46 | N11: CAJA | O11: 25 | P11: 8435447424829 | Q11: CARTÓN | R11: 300 | S11: 28436031827426
A12: 05 | B12: ACCESORIOS ECO-PRESS | D12: ECPFRFH2512 | E12: 11000010 | F12: RACOR FIJO HEMBRA 25-1/2" ECO-PRESS | G12: UNIDAD | H12: 1 | I12: 8436031828030 | J12: =VLOOKUP(E12,' TARIFA 26.4'!$D$3:$I$20004,6,FALSE) -> 8.75 | N12: CAJA | O12: 25 | P12: 8435447424836 | Q12: CARTÓN | R12: 225 | S12: 28436031828034
A13: 05 | B13: ACCESORIOS ECO-PRESS | D13: ECPFRFH2534 | E13: 11000011 | F13: RACOR FIJO HEMBRA 25-3/4" ECO-PRESS | G13: UNIDAD | H13: 1 | I13: 8436031822519 | J13: =VLOOKUP(E13,' TARIFA 26.4'!$D$3:$I$20004,6,FALSE) -> 8.84 | N13: CAJA | O13: 25 | P13: 8435447424843 | Q13: CARTÓN | R13: 225 | S13: 28436031822513
A14: 05 | B14: ACCESORIOS ECO-PRESS | D14: ECPFRFH251 | E14: 11000012 | F14: RACOR FIJO HEMBRA 25-1" ECO-PRESS | G14: UNIDAD | H14: 1 | I14: 8436031827439 | J14: =VLOOKUP(E14,' TARIFA 26.4'!$D$3:$I$20004,6,FALSE) -> 12.11 | N14: CAJA | O14: 25 | P14: 8435447424850 | Q14: CARTÓN | R14: 225 | S14: 28436031827433
A15: 05 | B15: ACCESORIOS ECO-PRESS | D15: ECPFRFH321 | E15: 11000013 | F15: RACOR FIJO HEMBRA 32-1" ECO-PRESS | G15: UNIDAD | H15: 1 | I15: 8436031827446 | J15: =VLOOKUP(E15,' TARIFA 26.4'!$D$3:$I$20004,6,FALSE) -> 16.61 | N15: CAJA | O15: 25 | P15: 8435447424867 | Q15: CARTÓN | R15: 150 | S15: 28436031827440
A16: 05 | B16: ACCESORIOS ECO-PRESS | C16: #VALUE! | D16: ECPFRFM1638 | E16: 11000014 | F16: RACOR FIJO MACHO 16-3/8" ECO-PRESS | G16: UNIDAD | H16: 1 | I16: 8436031828207 | J16: =VLOOKUP(E16,' TARIFA 26.4'!$D$3:$I$20004,6,FALSE) -> 3.82 | N16: CAJA | O16: 25 | P16: 8435447424874 | Q16: CARTÓN | R16: 300 | S16: 28436031828201
A17: 05 | B17: ACCESORIOS ECO-PRESS | D17: ECPFRFM1612 | E17: 11000015 | F17: RACOR FIJO MACHO 16-1/2" ECO-PRESS | G17: UNIDAD | H17: 1 | I17: 8436031827453 | J17: =VLOOKUP(E17,' TARIFA 26.4'!$D$3:$I$20004,6,FALSE) -> 4.93 | N17: CAJA | O17: 25 | P17: 8435447424881 | Q17: CARTÓN | R17: 300 | S17: 28436031827457
A18: 05 | B18: ACCESORIOS ECO-PRESS | D18: ECPFRFM2012 | E18: 11000016 | F18: RACOR FIJO MACHO 20-1/2" ECO-PRESS | G18: UNIDAD | H18: 1 | I18: 8436031827460 | J18: =VLOOKUP(E18,' TARIFA 26.4'!$D$3:$I$20004,6,FALSE) -> 5.26 | N18: CAJA | O18: 25 | P18: 8435447424898 | Q18: CARTÓN | R18: 300 | S18: 28436031827464
A19: 05 | B19: ACCESORIOS ECO-PRESS | D19: ECPFRFM2034 | E19: 11000017 | F19: RACOR FIJO MACHO 20-3/4" ECO-PRESS | G19: UNIDAD | H19: 1 | I19: 8436031827477 | J19: =VLOOKUP(E19,' TARIFA 26.4'!$D$3:$I$20004,6,FALSE) -> 7.06 | N19: CAJA | O19: 25 | P19: 8435447424904 | Q19: CARTÓN | R19: 225 | S19: 28436031827471
A20: 05 | B20: ACCESORIOS ECO-PRESS | D20: ECPFRFM2512 | E20: 11000018 | F20: RACOR FIJO MACHO 25-1/2" ECO-PRESS | G20: UNIDAD | H20: 1 | I20: 8436031827835 | J20: =VLOOKUP(E20,' TARIFA 26.4'!$D$3:$I$20004,6,FALSE) -> 8.15 | N20: CAJA | O20: 25 | P20: 8435447424911 | Q20: CARTÓN | R20: 225 | S20: 28436031827839
A21: 05 | B21: ACCESORIOS ECO-PRESS | D21: ECPFRFM2534 | E21: 11000019 | F21: RACOR FIJO MACHO 25-3/4" ECO-PRESS | G21: UNIDAD | H21: 1 | I21: 8436031827484 | J21: =VLOOKUP(E21,' TARIFA 26.4'!$D$3:$I$20004,6,FALSE) -> 8.75 | N21: CAJA | O21: 25 | P21: 8435447424928 | Q21: CARTÓN | R21: 225 | S21: 28436031827488
A22: 05 | B22: ACCESORIOS ECO-PRESS | D22: ECPFRFM321 | E22: 11000021 | F22: RACOR FIJO MACHO 32-1" ECO-PRESS | G22: UNIDAD | H22: 1 | I22: 8436031827491 | J22: =VLOOKUP(E22,' TARIFA 26.4'!$D$3:$I$20004,6,FALSE) -> 13.18 | N22: CAJA | O22: 25 | P22: 8435447424935 | Q22: CARTÓN | R22: 150 | S22: 28436031827495
A23: 05 | B23: ACCESORIOS ECO-PRESS | C23: #VALUE! | D23: ECPFMAU16 | E23: 11000022 | F23: MANGUITO UNION 16 ECO-PRESS | G23: UNIDAD | H23: 1 | I23: 8436031827323 | J23: =VLOOKUP(E23,' TARIFA 26.4'!$D$3:$I$20004,6,FALSE) -> 3.95 | N23: CAJA | O23: 25 | P23: 8435447424942 | Q23: CARTÓN | R23: 300 | S23: 28436031827327
A24: 05 | B24: ACCESORIOS ECO-PRESS | D24: ECPFMAU20 | E24: 11000023 | F24: MANGUITO UNION 20 ECO-PRESS | G24: UNIDAD | H24: 1 | I24: 8436031827330 | J24: =VLOOKUP(E24,' TARIFA 26.4'!$D$3:$I$20004,6,FALSE) -> 5.33 | N24: CAJA | O24: 25 | P24: 8435447424959 | Q24: CARTÓN | R24: 300 | S24: 28436031827334
A25: 05 | B25: ACCESORIOS ECO-PRESS | D25: ECPFMAU25 | E25: 11000024 | F25: MANGUITO UNION 25 ECO-PRESS | G25: UNIDAD | H25: 1 | I25: 8436031827347 | J25: =VLOOKUP(E25,' TARIFA 26.4'!$D$3:$I$20004,6,FALSE) -> 9.5 | N25: CAJA | O25: 25 | P25: 8435447424966 | Q25: CARTÓN | R25: 225 | S25: 28436031827341
A26: 05 | B26: ACCESORIOS ECO-PRESS | D26: ECPFMAU32 | E26: 11000025 | F26: MANGUITO UNION 32 ECO-PRESS | G26: UNIDAD | H26: 1 | I26: 8436031827354 | J26: =VLOOKUP(E26,' TARIFA 26.4'!$D$3:$I$20004,6,FALSE) -> 14.07 | N26: CAJA | O26: 25 | P26: 8435447424973 | Q26: CARTÓN | R26: 150 | S26: 28436031827358
A27: 05 | B27: ACCESORIOS ECO-PRESS | C27: #VALUE! | D27: ECPFMGR2016 | E27: 11000026 | F27: MANGUITO REDUCIDO 20-16 ECO-PRESS | G27: UNIDAD | H27: 1 | I27: 8436031827361 | J27: =VLOOKUP(E27,' TARIFA 26.4'!$D$3:$I$20004,6,FALSE) -> 5.78 | N27: CAJA | O27: 25 | P27: 8435447424980 | Q27: CARTÓN | R27: 300 | S27: 28436031827365
A28: 05 | B28: ACCESORIOS ECO-PRESS | D28: ECPFMGR2516 | E28: 11000027 | F28: MANGUITO REDUCIDO 25-16 ECO-PRESS | G28: UNIDAD | H28: 1 | I28: 8436031827378 | J28: =VLOOKUP(E28,' TARIFA 26.4'!$D$3:$I$20004,6,FALSE) -> 7.46 | N28: CAJA | O28: 25 | P28: 8435447424997 | Q28: CARTÓN | R28: 300 | S28: 28436031827372
A29: 05 | B29: ACCESORIOS ECO-PRESS | D29: ECPFMGR2520 | E29: 11000028 | F29: MANGUITO REDUCIDO 25-20 ECO-PRESS | G29: UNIDAD | H29: 1 | I29: 8436031827385 | J29: =VLOOKUP(E29,' TARIFA 26.4'!$D$3:$I$20004,6,FALSE) -> 9.32 | N29: CAJA | O29: 25 | P29: 8435447425000 | Q29: CARTÓN | R29: 225 | S29: 28436031827389
A30: 05 | B30: ACCESORIOS ECO-PRESS | D30: ECPFMGR3225 | E30: 11000029 | F30: MANGUITO REDUCIDO 32-25 ECO-PRESS | G30: UNIDAD | H30: 1 | I30: 8436031827392 | J30: =VLOOKUP(E30,' TARIFA 26.4'!$D$3:$I$20004,6,FALSE) -> 12.87 | N30: CAJA | O30: 25 | P30: 8435447425017 | Q30: CARTÓN | R30: 150 | S30: 28436031827396
A31: 05 | B31: ACCESORIOS ECO-PRESS | C31: #VALUE! | D31: ECPFCDO16 | E31: 11000033 | F31: CODO 16 ECO-PRESS | G31: UNIDAD | H31: 1 | I31: 8436031827071 | J31: =VLOOKUP(E31,' TARIFA 26.4'!$D$3:$I$20004,6,FALSE) -> 4.93 | N31: CAJA | O31: 25 | P31: 8435447425024 | Q31: CARTÓN | R31: 300 | S31: 28436031827075
A32: 05 | B32: ACCESORIOS ECO-PRESS | D32: ECPFCDO20 | E32: 11000034 | F32: CODO 20 ECO-PRESS | G32: UNIDAD | H32: 1 | I32: 8436031827088 | J32: =VLOOKUP(E32,' TARIFA 26.4'!$D$3:$I$20004,6,FALSE) -> 6.47 | N32: CAJA | O32: 25 | P32: 8435447425031 | Q32: CARTÓN | R32: 225 | S32: 28436031827082
A33: 05 | B33: ACCESORIOS ECO-PRESS | D33: ECPFCDO25 | E33: 11000035 | F33: CODO 25 ECO-PRESS | G33: UNIDAD | H33: 1 | I33: 8436031827095 | J33: =VLOOKUP(E33,' TARIFA 26.4'!$D$3:$I$20004,6,FALSE) -> 11.42 | N33: CAJA | O33: 25 | P33: 8435447425048 | Q33: CARTÓN | R33: 150 | S33: 28436031827099
A34: 05 | B34: ACCESORIOS ECO-PRESS | D34: ECPFCDO32 | E34: 11000036 | F34: CODO 32 ECO-PRESS | G34: UNIDAD | H34: 1 | I34: 8436031827101 | J34: =VLOOKUP(E34,' TARIFA 26.4'!$D$3:$I$20004,6,FALSE) -> 18.71 | N34: CAJA | O34: 25 | P34: 8435447425055 | Q34: CARTÓN | R34: 100 | S34: 28436031827105
A35: 05 | B35: ACCESORIOS ECO-PRESS | C35: #VALUE! | D35: ECPFCOT1612R | E35: 11000038 | F35: CODO TERMINAL 16-1/2" REFORZADO ECO-PRESS | G35: UNIDAD | H35: 1 | I35: 8436031827125 | J35: =VLOOKUP(E35,' TARIFA 26.4'!$D$3:$I$20004,6,FALSE) -> 7.06 | N35: CAJA | O35: 25 | P35: 8435447425079 | Q35: CARTÓN | R35: 300 | S35: 28436031827129
A36: 05 | B36: ACCESORIOS ECO-PRESS | D36: ECPFCOT2012R | E36: 11000040 | F36: CODO TERMINAL 20-1/2" REFORZADO ECO-PRESS | G36: UNIDAD | H36: 1 | I36: 8436031827149 | J36: =VLOOKUP(E36,' TARIFA 26.4'!$D$3:$I$20004,6,FALSE) -> 7.93 | N36: CAJA | O36: 25 | P36: 8435447425093 | Q36: CARTÓN | R36: 225 | S36: 28436031827143
A37: 05 | B37: ACCESORIOS ECO-PRESS | D37: ECPFCOT2034 | E37: 11000041 | F37: CODO TERMINAL 20-3/4" ECO-PRESS | G37: UNIDAD | H37: 1 | I37: 8436031827828 | J37: =VLOOKUP(E37,' TARIFA 26.4'!$D$3:$I$20004,6,FALSE) -> 8.61 | N37: CAJA | O37: 25 | P37: 8435447425109 | Q37: CARTÓN | R37: 225 | S37: 28436031827822
A38: 05 | B38: ACCESORIOS ECO-PRESS | D38: ECPFCOT2512R | E38: 11000042 | F38: CODO TERMINAL 25-1/2" REFORZADO ECO-PRESS | G38: UNIDAD | H38: 1 | I38: 8436031822243 | J38: =VLOOKUP(E38,' TARIFA 26.4'!$D$3:$I$20004,6,FALSE) -> 13.24 | N38: CAJA | O38: 25 | P38: 8435447425116 | Q38: CARTÓN | R38: 150 | S38: 28436031822247
A39: 05 | B39: ACCESORIOS ECO-PRESS | D39: ECPFCOT2534 | E39: 11000043 | F39: CODO TERMINAL 25-3/4" ECO-PRESS | G39: UNIDAD | H39: 1 | I39: 8436031827156 | J39: =VLOOKUP(E39,' TARIFA 26.4'!$D$3:$I$20004,6,FALSE) -> 12.11 | N39: CAJA | O39: 25 | P39: 8435447425123 | Q39: CARTÓN | R39: 150 | S39: 28436031827150
A40: 05 | B40: ACCESORIOS ECO-PRESS | D40: ECPFCOT321 | E40: 11000044 | F40: CODO TERMINAL 32-1" ECO-PRESS | G40: UNIDAD | H40: 1 | I40: 8436031827163 | J40: =VLOOKUP(E40,' TARIFA 26.4'!$D$3:$I$20004,6,FALSE) -> 18.96 | N40: CAJA | O40: 25 | P40: 8435447425130 | Q40: CARTÓN | R40: 100 | S40: 28436031827167
A41: 05 | B41: ACCESORIOS ECO-PRESS | C41: #VALUE! | D41: ECPFCCC1612R | E41: 11000049 | F41: CODO BASE FIJACION 16-1/2" REFORZADO ECO-PRESS | G41: UNIDAD | H41: 1 | I41: 8436031827033 | J41: =VLOOKUP(E41,' TARIFA 26.4'!$D$3:$I$20004,6,FALSE) -> 9.97 | N41: CAJA | O41: 25 | P41: 8435447425154 | Q41: CARTÓN | R41: 225 | S41: 28436031827037
A42: 05 | B42: ACCESORIOS ECO-PRESS | D42: ECPFCCC2012R | E42: 11000051 | F42: CODO BASE FIJACION 20-1/2" REFORZADO ECO-PRESS | G42: UNIDAD | H42: 1 | I42: 8436031827057 | J42: =VLOOKUP(E42,' TARIFA 26.4'!$D$3:$I$20004,6,FALSE) -> 10.65 | N42: CAJA | O42: 25 | P42: 8435447425178 | Q42: CARTÓN | R42: 225 | S42: 28436031827051
A43: 05 | B43: ACCESORIOS ECO-PRESS | D43: ECPFCCC2034 | E43: 11000052 | F43: CODO BASE FIJACION 20-3/4" ECO-PRESS | G43: UNIDAD | H43: 1 | I43: 8436031822212 | J43: =VLOOKUP(E43,' TARIFA 26.4'!$D$3:$I$20004,6,FALSE) -> 11.49 | N43: CAJA | O43: 25 | P43: 8435447425185 | Q43: CARTÓN | R43: 225 | S43: 28436031822216
A44: 05 | B44: ACCESORIOS ECO-PRESS | D44: ECPFCCC2534 | E44: 11000053 | F44: CODO BASE FIJACION 25-3/4" ECO-PRESS | G44: UNIDAD | H44: 1 | I44: 8436031827064 | J44: =VLOOKUP(E44,' TARIFA 26.4'!$D$3:$I$20004,6,FALSE) -> 15.62 | N44: CAJA | O44: 25 | P44: 8435447425192 | Q44: CARTÓN | R44: 150 | S44: 28436031827068
A45: 05 | B45: ACCESORIOS ECO-PRESS | C45: #VALUE! | D45: ECPFCRM1612 | E45: 11000045 | F45: CODO ROSCA MACHO 16-1/2" ECO-PRESS | G45: UNIDAD | H45: 1 | I45: 8436031827248 | J45: =VLOOKUP(E45,' TARIFA 26.4'!$D$3:$I$20004,6,FALSE) -> 7.31 | N45: CAJA | O45: 25 | P45: 8435447425208 | Q45: CARTÓN | R45: 300 | S45: 28436031827242
A46: 05 | B46: ACCESORIOS ECO-PRESS | D46: ECPFCRM2012 | E46: 11000046 | F46: CODO ROSCA MACHO 20-1/2" ECO-PRESS | G46: UNIDAD | H46: 1 | I46: 8436031827255 | J46: =VLOOKUP(E46,' TARIFA 26.4'!$D$3:$I$20004,6,FALSE) -> 8.52 | N46: CAJA | O46: 25 | P46: 8435447425215 | Q46: CARTÓN | R46: 300 | S46: 28436031827259
A47: 05 | B47: ACCESORIOS ECO-PRESS | D47: ECPFCRM2534 | E47: 11000047 | F47: CODO ROSCA MACHO 25-3/4" ECO-PRESS | G47: UNIDAD | H47: 1 | I47: 8436031827262 | J47: =VLOOKUP(E47,' TARIFA 26.4'!$D$3:$I$20004,6,FALSE) -> 13.44 | N47: CAJA | O47: 25 | P47: 8435447425222 | Q47: CARTÓN | R47: 225 | S47: 28436031827266
A48: 05 | B48: ACCESORIOS ECO-PRESS | C48: #VALUE! | D48: ECPFCTH1612 | E48: 11000134 | F48: CODO TABIQUE HUECO 16-1/2" ECO-PRESS | G48: UNIDAD | H48: 1 | I48: 8436031827996 | J48: =VLOOKUP(E48,' TARIFA 26.4'!$D$3:$I$20004,6,FALSE) -> 10.59 | N48: CAJA | O48: 25 | P48: 8435447425239 | Q48: CARTÓN | R48: 225 | S48: 28436031827990
A49: 05 | B49: ACCESORIOS ECO-PRESS | D49: ECPFCTH2012 | E49: 11000135 | F49: CODO TABIQUE HUECO 20-1/2" ECO-PRESS | G49: UNIDAD | H49: 1 | I49: 8436031828009 | J49: =VLOOKUP(E49,' TARIFA 26.4'!$D$3:$I$20004,6,FALSE) -> 10.43 | N49: CAJA | O49: 25 | P49: 8435447425246 | Q49: CARTÓN | R49: 225 | S49: 28436031828003
A50: 05 | B50: ACCESORIOS ECO-PRESS | D50: ECPFCTH2034 | E50: 11000136 | F50: CODO TABIQUE HUECO 20-3/4" ECO-PRESS | G50: UNIDAD | H50: 1 | I50: 8436031822267 | J50: =VLOOKUP(E50,' TARIFA 26.4'!$D$3:$I$20004,6,FALSE) -> 12.87 | N50: CAJA | O50: 25 | P50: 8435447425253 | Q50: CARTÓN | R50: 225 | S50: 28436031822261
A51: 05 | B51: ACCESORIOS ECO-PRESS | C51: #VALUE! | D51: PLF | E51: 17000013 | F51: PLACA DE FIJACION | G51: UNIDAD | H51: 1 | I51: 8436031822236 | J51: =VLOOKUP(E51,' TARIFA 26.4'!$D$3:$I$20004,6,FALSE) -> 4.67 | K51: UNIDAD | L51: 1 | M51: 8436031822236 | N51: CAJA | O51: 170 | P51: 28436031822230
A52: 05 | B52: ACCESORIOS ECO-PRESS | C52: #VALUE! | D52: PLF9 | E52: 17000014 | F52: PLACA DE FIJACION 9 | G52: UNIDAD | H52: 1 | I52: 8436031822229 | J52: =VLOOKUP(E52,' TARIFA 26.4'!$D$3:$I$20004,6,FALSE) -> 4.57 | K52: UNIDAD | L52: 1 | M52: 8436031822229 | N52: CAJA | O52: 250 | P52: 28436031822223
A53: 05 | B53: ACCESORIOS ECO-PRESS | C53: #VALUE! | D53: PLFCTH | E53: 7000077 | F53: PLACA DE FIJACION PARA CODO TABIQUE HUECO | G53: UNIDAD | H53: 1 | I53: 8436031830729 | J53: =VLOOKUP(E53,' TARIFA 26.4'!$D$3:$I$20004,6,FALSE) -> 4.67 | K53: UNIDAD | L53: 1 | M53: 8436031830729 | N53: CAJA | O53: 200 | P53: 28436031830723
A54: 05 | B54: ACCESORIOS ECO-PRESS | C54: #VALUE! | D54: ECPFCTM1612 | E54: 11000054 | F54: CODO TUERCA MOVIL 16-1/2" ECO-PRESS | G54: UNIDAD | H54: 1 | I54: 8436031822274 | J54: =VLOOKUP(E54,' TARIFA 26.4'!$D$3:$I$20004,6,FALSE) -> 12.78 | N54: CAJA | O54: 25 | P54: 8435447425260 | Q54: CARTÓN | R54: 225 | S54: 28436031822278
A55: 05 | B55: ACCESORIOS ECO-PRESS | D55: ECPFCTM2012 | E55: 11000055 | F55: CODO TUERCA MOVIL 20-1/2" ECO-PRESS | G55: UNIDAD | H55: 1 | I55: 8436031828016 | J55: =VLOOKUP(E55,' TARIFA 26.4'!$D$3:$I$20004,6,FALSE) -> 13.76 | N55: CAJA | O55: 25 | P55: 8435447425277 | Q55: CARTÓN | R55: 225 | S55: 28436031828010
A56: 05 | B56: ACCESORIOS ECO-PRESS | D56: ECPFCTM2034 | E56: 11000056 | F56: CODO TUERCA MOVIL 20-3/4" ECO-PRESS | G56: UNIDAD | H56: 1 | I56: 8436031822250 | J56: =VLOOKUP(E56,' TARIFA 26.4'!$D$3:$I$20004,6,FALSE) -> 18.09 | N56: CAJA | O56: 25 | P56: 8435447425284 | Q56: CARTÓN | R56: 225 | S56: 28436031822254
A57: 05 | B57: ACCESORIOS ECO-PRESS | D57: ECPFCTM2534 | E57: 11000057 | F57: CODO TUERCA MOVIL 25-3/4" ECO-PRESS | G57: UNIDAD | H57: 1 | I57: 8436031822281 | J57: =VLOOKUP(E57,' TARIFA 26.4'!$D$3:$I$20004,6,FALSE) -> 20.47 | N57: CAJA | O57: 25 | P57: 8435447425291 | Q57: CARTÓN | R57: 150 | S57: 28436031822285
A58: 05 | B58: ACCESORIOS ECO-PRESS | C58: #VALUE! | D58: ECPFCEX1612 | E58: 11000058 | F58: CODO EXTRAIBLE 16-1/2'' | G58: UNIDAD | H58: 1 | I58: 8436031827965 | J58: =VLOOKUP(E58,' TARIFA 26.4'!$D$3:$I$20004,6,FALSE) -> 14.58 | N58: CAJA | O58: 14 | P58: 8435447425307 | Q58: CARTÓN | R58: 56 | S58: 28436031827969
A59: 05 | B59: ACCESORIOS ECO-PRESS | D59: ECPFCEX2012 | E59: 11000059 | F59: CODO EXTRAIBLE 20-1/2'' | G59: UNIDAD | H59: 1 | I59: 8436031827972 | J59: =VLOOKUP(E59,' TARIFA 26.4'!$D$3:$I$20004,6,FALSE) -> 15.32 | N59: CAJA | O59: 14 | P59: 8435447425314 | Q59: CARTÓN | R59: 56 | S59: 28436031827976
A60: 05 | B60: ACCESORIOS ECO-PRESS | C60: #VALUE! | D60: ECPFTEE16166 | E60: 11000072 | F60: TE IGUAL 16-16-16 ECO-PRESS | G60: UNIDAD | H60: 1 | I60: 8436031827552 | J60: =VLOOKUP(E60,' TARIFA 26.4'!$D$3:$I$20004,6,FALSE) -> 6.85 | N60: CAJA | O60: 25 | P60: 8435447425321 | Q60: CARTÓN | R60: 225 | S60: 28436031827556
A61: 05 | B61: ACCESORIOS ECO-PRESS | D61: ECPFTEE20200 | E61: 11000073 | F61: TE IGUAL 20-20-20 ECO-PRESS | G61: UNIDAD | H61: 1 | I61: 8436031827606 | J61: =VLOOKUP(E61,' TARIFA 26.4'!$D$3:$I$20004,6,FALSE) -> 9.29 | N61: CAJA | O61: 25 | P61: 8435447425338 | Q61: CARTÓN | R61: 225 | S61: 28436031827600
A62: 05 | B62: ACCESORIOS ECO-PRESS | D62: ECPFTEE25255 | E62: 11000074 | F62: TE IGUAL 25-25-25 ECO-PRESS | G62: UNIDAD | H62: 1 | I62: 8436031827705 | J62: =VLOOKUP(E62,' TARIFA 26.4'!$D$3:$I$20004,6,FALSE) -> 17.9 | N62: CAJA | O62: 25 | P62: 8435447425345 | Q62: CARTÓN | R62: 150 | S62: 28436031827709
A63: 05 | B63: ACCESORIOS ECO-PRESS | D63: ECPFTEE32323 | E63: 11000075 | F63: TE IGUAL 32-32-32 ECO-PRESS | G63: UNIDAD | H63: 1 | I63: 8436031827750 | J63: =VLOOKUP(E63,' TARIFA 26.4'!$D$3:$I$20004,6,FALSE) -> 26.73 | N63: CAJA | O63: 25 | P63: 8435447425352 | Q63: CARTÓN | R63: 100 | S63: 28436031827754
A64: 05 | B64: ACCESORIOS ECO-PRESS | C64: #VALUE! | D64: ECPFTEE16206 | E64: 11000076 | F64: TE REDUCIDA 16-20-16 ECO-PRESS | G64: UNIDAD | H64: 1 | I64: 8436031827569 | J64: =VLOOKUP(E64,' TARIFA 26.4'!$D$3:$I$20004,6,FALSE) -> 9.47 | N64: CAJA | O64: 25 | P64: 8435447425369 | Q64: CARTÓN | R64: 225 | S64: 28436031827563
A65: 05 | B65: ACCESORIOS ECO-PRESS | D65: ECPFTEE16256 | E65: 11000077 | F65: TE REDUCIDA 16-25-16 ECO-PRESS | G65: UNIDAD | H65: 1 | I65: 8436031827576 | J65: =VLOOKUP(E65,' TARIFA 26.4'!$D$3:$I$20004,6,FALSE) -> 18.28 | N65: CAJA | O65: 25 | P65: 8435447425376 | Q65: CARTÓN | R65: 150 | S65: 28436031827570
A66: 05 | B66: ACCESORIOS ECO-PRESS | D66: ECPFTEE20166 | E66: 11000078 | F66: TE REDUCIDA 20-16-16 ECO-PRESS | G66: UNIDAD | H66: 1 | I66: 8436031827590 | J66: =VLOOKUP(E66,' TARIFA 26.4'!$D$3:$I$20004,6,FALSE) -> 9.36 | N66: CAJA | O66: 25 | P66: 8435447425383 | Q66: CARTÓN | R66: 225 | S66: 28436031827594
A67: 05 | B67: ACCESORIOS ECO-PRESS | D67: ECPFTEE20160 | E67: 11000079 | F67: TE REDUCIDA 20-16-20 ECO-PRESS | G67: UNIDAD | H67: 1 | I67: 8436031827583 | J67: =VLOOKUP(E67,' TARIFA 26.4'!$D$3:$I$20004,6,FALSE) -> 8.75 | N67: CAJA | O67: 25 | P67: 8435447425390 | Q67: CARTÓN | R67: 225 | S67: 28436031827587
A68: 05 | B68: ACCESORIOS ECO-PRESS | D68: ECPFTEE20206 | E68: 11000080 | F68: TE REDUCIDA 20-20-16 ECO-PRESS | G68: UNIDAD | H68: 1 | I68: 8436031827613 | J68: =VLOOKUP(E68,' TARIFA 26.4'!$D$3:$I$20004,6,FALSE) -> 10.59 | N68: CAJA | O68: 25 | P68: 8435447425406 | Q68: CARTÓN | R68: 225 | S68: 28436031827617
A69: 05 | B69: ACCESORIOS ECO-PRESS | D69: ECPFTEE25166 | E69: 11000082 | F69: TE REDUCIDA 25-16-16 ECO-PRESS | G69: UNIDAD | H69: 1 | I69: 8436031827651 | J69: =VLOOKUP(E69,' TARIFA 26.4'!$D$3:$I$20004,6,FALSE) -> 18.28 | N69: CAJA | O69: 25 | P69: 8435447425413 | Q69: CARTÓN | R69: 150 | S69: 28436031827655
A70: 05 | B70: ACCESORIOS ECO-PRESS | D70: ECPFTEE25160 | E70: 11000083 | F70: TE REDUCIDA 25-16-20 ECO-PRESS | G70: UNIDAD | H70: 1 | I70: 8436031827637 | J70: =VLOOKUP(E70,' TARIFA 26.4'!$D$3:$I$20004,6,FALSE) -> 16.1 | N70: CAJA | O70: 25 | P70: 8435447425420 | Q70: CARTÓN | R70: 150 | S70: 28436031827631
A71: 05 | B71: ACCESORIOS ECO-PRESS | D71: ECPFTEE25165 | E71: 11000084 | F71: TE REDUCIDA 25-16-25 ECO-PRESS | G71: UNIDAD | H71: 1 | I71: 8436031827644 | J71: =VLOOKUP(E71,' TARIFA 26.4'!$D$3:$I$20004,6,FALSE) -> 15.16 | N71: CAJA | O71: 25 | P71: 8435447425437 | Q71: CARTÓN | R71: 150 | S71: 28436031827648
A72: 05 | B72: ACCESORIOS ECO-PRESS | D72: ECPFTEE25206 | E72: 11000085 | F72: TE REDUCIDA 25-20-16 ECO-PRESS | G72: UNIDAD | H72: 1 | I72: 8436031827682 | J72: =VLOOKUP(E72,' TARIFA 26.4'!$D$3:$I$20004,6,FALSE) -> 16.15 | N72: CAJA | O72: 25 | P72: 8435447425444 | Q72: CARTÓN | R72: 150 | S72: 28436031827686
A73: 05 | B73: ACCESORIOS ECO-PRESS | D73: ECPFTEE25200 | E73: 11000086 | F73: TE REDUCIDA 25-20-20 ECO-PRESS | G73: UNIDAD | H73: 1 | I73: 8436031827668 | J73: =VLOOKUP(E73,' TARIFA 26.4'!$D$3:$I$20004,6,FALSE) -> 14.48 | N73: CAJA | O73: 25 | P73: 8435447425451 | Q73: CARTÓN | R73: 150 | S73: 28436031827662
A74: 05 | B74: ACCESORIOS ECO-PRESS | D74: ECPFTEE25205 | E74: 11000087 | F74: TE REDUCIDA 25-20-25 ECO-PRESS | G74: UNIDAD | H74: 1 | I74: 8436031827675 | J74: =VLOOKUP(E74,' TARIFA 26.4'!$D$3:$I$20004,6,FALSE) -> 14.63 | N74: CAJA | O74: 25 | P74: 8435447425468 | Q74: CARTÓN | R74: 150 | S74: 28436031827679
A75: 05 | B75: ACCESORIOS ECO-PRESS | D75: ECPFTEE25256 | E75: 11000088 | F75: TE REDUCIDA 25-25-16 ECO-PRESS | G75: UNIDAD | H75: 1 | I75: 8436031827712 | J75: =VLOOKUP(E75,' TARIFA 26.4'!$D$3:$I$20004,6,FALSE) -> 18.34 | N75: CAJA | O75: 25 | P75: 8435447425475 | Q75: CARTÓN | R75: 150 | S75: 28436031827716
A76: 05 | B76: ACCESORIOS ECO-PRESS | D76: ECPFTEE25250 | E76: 11000089 | F76: TE REDUCIDA 25-25-20 ECO-PRESS | G76: UNIDAD | H76: 1 | I76: 8436031827699 | J76: =VLOOKUP(E76,' TARIFA 26.4'!$D$3:$I$20004,6,FALSE) -> 16.52 | N76: CAJA | O76: 25 | P76: 8435447425482 | Q76: CARTÓN | R76: 150 | S76: 28436031827693
... A80: 05 | B80: ACCESORIOS ECO-PRESS | D80: ECPFTEE32325 | E80: 11000093 | F80: TE REDUCIDA 32-32-25 ECO-PRESS | G80: UNIDAD | H80: 1 | I80: 8436031827767 | J80: =VLOOKUP(E80,' TARIFA 26.4'!$D$3:$I$20004,6,FALSE) -> 26.11 | N80: CAJA | O80: 25 | P80: 8435447425529 | Q80: CARTÓN | R80: 100 | S80: 28436031827761
A81: 05 | B81: ACCESORIOS ECO-PRESS | C81: #VALUE! | D81: ECPFTSH1612 | E81: 11000094 | F81: TE SALIDA HEMBRA 16-1/2-16 ECO-PRESS | G81: UNIDAD | H81: 1 | I81: 8436031827774 | J81: =VLOOKUP(E81,' TARIFA 26.4'!$D$3:$I$20004,6,FALSE) -> 9.29 | N81: CAJA | O81: 25 | P81: 8435447425536 | Q81: CARTÓN | R81: 225 | S81: 28436031827778
A82: 05 | B82: ACCESORIOS ECO-PRESS | D82: ECPFTSH1612R | E82: 11000132 | F82: TE SALIDA HEMBRA 16-1/2-16 REFORZADA ECO-PRESS | G82: UNIDAD | H82: 1 | I82: 8436031827781 | J82: =VLOOKUP(E82,' TARIFA 26.4'!$D$3:$I$20004,6,FALSE) -> 10.27 | N82: CAJA | O82: 25 | P82: 8435447425543 | Q82: CARTÓN | R82: 225 | S82: 28436031827785
A83: 05 | B83: ACCESORIOS ECO-PRESS | D83: ECPFTSH2012 | E83: 11000095 | F83: TE SALIDA HEMBRA 20-1/2-20 ECO-PRESS | G83: UNIDAD | H83: 1 | I83: 8436031827798 | J83: =VLOOKUP(E83,' TARIFA 26.4'!$D$3:$I$20004,6,FALSE) -> 10.59 | N83: CAJA | O83: 25 | P83: 8435447425550 | Q83: CARTÓN | R83: 225 | S83: 28436031827792
A84: 05 | B84: ACCESORIOS ECO-PRESS | D84: ECPFTSH2012R | E84: 11000133 | F84: TE SALIDA HEMBRA 20-1/2-20 REFORZADA ECO-PRESS | G84: UNIDAD | H84: 1 | I84: 8436031827804 | J84: =VLOOKUP(E84,' TARIFA 26.4'!$D$3:$I$20004,6,FALSE) -> 11.42 | N84: CAJA | O84: 25 | P84: 8435447425567 | Q84: CARTÓN | R84: 225 | S84: 28436031827808
A85: 05 | B85: ACCESORIOS ECO-PRESS | D85: ECPFTSH2534 | E85: 11000097 | F85: TE SALIDA HEMBRA 25-3/4-25 ECO-PRESS | G85: UNIDAD | H85: 1 | I85: 8436031827811 | J85: =VLOOKUP(E85,' TARIFA 26.4'!$D$3:$I$20004,6,FALSE) -> 23.94 | N85: CAJA | O85: 25 | P85: 8435447425581 | Q85: CARTÓN | R85: 150 | S85: 28436031827815
A86: 05 | B86: ACCESORIOS ECO-PRESS | C86: #VALUE! | D86: ECPFDIS2020162 | E86: 11000068 | F86: DISTRIBUIDOR 20-20-16-16 ECO-PRESS | G86: UNIDAD | H86: 1 | I86: 8436031828399 | J86: =VLOOKUP(E86,' TARIFA 26.4'!$D$3:$I$20004,6,FALSE) -> 29.91 | N86: CAJA | O86: 25 | P86: 8435447425598 | Q86: CARTÓN | R86: 100 | S86: 28436031828393
A87: 05 | B87: ACCESORIOS ECO-PRESS | D87: ECPFDIS2520162 | E87: 11000069 | F87: DISTRIBUIDOR 25-20-16-16 ECO-PRESS | G87: UNIDAD | H87: 1 | I87: 8436031828108 | J87: =VLOOKUP(E87,' TARIFA 26.4'!$D$3:$I$20004,6,FALSE) -> 30.88 | N87: CAJA | O87: 25 | P87: 8435447425604 | Q87: CARTÓN | R87: 100 | S87: 28436031828102
A88: 05 | B88: ACCESORIOS ECO-PRESS | D88: ECPFDIS2020163 | E88: 11000070 | F88: DISTRIBUIDOR 20-20-16-16-16 ECO-PRESS | G88: UNIDAD | H88: 1 | I88: 8436031827279 | J88: =VLOOKUP(E88,' TARIFA 26.4'!$D$3:$I$20004,6,FALSE) -> 30.43 | N88: CAJA | O88: 20 | P88: 8435447425611 | Q88: CARTÓN | R88: 80 | S88: 28436031827273
A89: 05 | B89: ACCESORIOS ECO-PRESS | D89: ECPFDIS2520163 | E89: 11000071 | F89: DISTRIBUIDOR 25-20-16-16-16 ECO-PRESS | G89: UNIDAD | H89: 1 | I89: 8436031827286 | J89: =VLOOKUP(E89,' TARIFA 26.4'!$D$3:$I$20004,6,FALSE) -> 34.33 | N89: CAJA | O89: 20 | P89: 8435447425628 | Q89: CARTÓN | R89: 80 | S89: 28436031827280
A90: 05 | B90: ACCESORIOS ECO-PRESS | C90: #VALUE! | D90: ECPFCR20201616 | E90: 11000062 | F90: CRUZ 20-20-16-16 ECO-PRESS | G90: UNIDAD | H90: 1 | I90: 8436031827200 | J90: =VLOOKUP(E90,' TARIFA 26.4'!$D$3:$I$20004,6,FALSE) -> 17.88 | N90: CAJA | O90: 25 | P90: 8435447425635 | Q90: CARTÓN | R90: 100 | S90: 28436031827204
A91: 05 | B91: ACCESORIOS ECO-PRESS | D91: ECPFCR20202020 | E91: 11000063 | F91: CRUZ 20-20-20-20 ECO-PRESS | G91: UNIDAD | H91: 1 | I91: 8436031827989 | J91: =VLOOKUP(E91,' TARIFA 26.4'!$D$3:$I$20004,6,FALSE) -> 18.51 | N91: CAJA | O91: 25 | P91: 8435447425642 | Q91: CARTÓN | R91: 100 | S91: 28436031827983
A92: 05 | B92: ACCESORIOS ECO-PRESS | D92: ECPFCR25201616 | E92: 11000064 | F92: CRUZ 25-20-16-16 ECO-PRESS | G92: UNIDAD | H92: 1 | I92: 8436031827224 | J92: =VLOOKUP(E92,' TARIFA 26.4'!$D$3:$I$20004,6,FALSE) -> 19.44 | N92: CAJA | O92: 25 | P92: 8435447425659 | Q92: CARTÓN | R92: 100 | S92: 28436031827228
A93: 05 | B93: ACCESORIOS ECO-PRESS | D93: ECPFCR25202020 | E93: 11000065 | F93: CRUZ 25-20-20-20 ECO-PRESS | G93: UNIDAD | H93: 1 | I93: 8436031827231 | J93: =VLOOKUP(E93,' TARIFA 26.4'!$D$3:$I$20004,6,FALSE) -> 19.9 | N93: CAJA | O93: 25 | P93: 8435447425666 | Q93: CARTÓN | R93: 100 | S93: 28436031827235
A94: 05 | B94: ACCESORIOS ECO-PRESS | D94: ECPFCR20162016 | E94: 11000066 | F94: CRUZ 20-16-20-16 ECO-PRESS | G94: UNIDAD | H94: 1 | I94: 8436031827194 | J94: =VLOOKUP(E94,' TARIFA 26.4'!$D$3:$I$20004,6,FALSE) -> 17.88 | N94: CAJA | O94: 25 | P94: 8435447425673 | Q94: CARTÓN | R94: 100 | S94: 28436031827198
A95: 05 | B95: ACCESORIOS ECO-PRESS | D95: ECPFCR25162016 | E95: 11000067 | F95: CRUZ 25-16-20-16 ECO-PRESS | G95: UNIDAD | H95: 1 | I95: 8436031827217 | J95: =VLOOKUP(E95,' TARIFA 26.4'!$D$3:$I$20004,6,FALSE) -> 19.44 | N95: CAJA | O95: 25 | P95: 8435447425680 | Q95: CARTÓN | R95: 100 | S95: 28436031827211
A96: 05 | B96: ACCESORIOS ECO-PRESS | C96: #VALUE! | D96: ECPFCPC1615 | E96: 11000060 | F96: CODO PEX COBRE 16-CU 15 ECO-PRESS | G96: UNIDAD | H96: 1 | I96: 8436031827170 | J96: =VLOOKUP(E96,' TARIFA 26.4'!$D$3:$I$20004,6,FALSE) -> 5.91 | N96: CAJA | O96: 25 | P96: 8435447425697 | Q96: CARTÓN | R96: 300 | S96: 28436031827174
A97: 05 | B97: ACCESORIOS ECO-PRESS | D97: ECPFCPC2018 | E97: 11000061 | F97: CODO PEX COBRE 20-CU 18 ECO-PRESS | G97: UNIDAD | H97: 1 | I97: 8436031827187 | J97: =VLOOKUP(E97,' TARIFA 26.4'!$D$3:$I$20004,6,FALSE) -> 8.36 | N97: CAJA | O97: 25 | P97: 8435447425703 | Q97: CARTÓN | R97: 300 | S97: 28436031827181
A98: 05 | B98: ACCESORIOS ECO-PRESS | C98: #VALUE! | D98: ECPFAPE1625 | E98: 11000030 | F98: ADAP. PER CU 16-12/15 CU ECO-PRESS | G98: UNIDAD | H98: 1 | I98: 8436031827002 | J98: =VLOOKUP(E98,' TARIFA 26.4'!$D$3:$I$20004,6,FALSE) -> 3.73 | N98: CAJA | O98: 25 | P98: 8435447425710 | Q98: CARTÓN | R98: 300 | S98: 28436031827006
A99: 05 | B99: ACCESORIOS ECO-PRESS | D99: ECPFAPE1615 | E99: 11000031 | F99: ADAP. PER 16- CU 15 ECO-PRESS | G99: UNIDAD | H99: 1 | I99: 8436031822205 | J99: =VLOOKUP(E99,' TARIFA 26.4'!$D$3:$I$20004,6,FALSE) -> 3.73 | N99: CAJA | O99: 25 | P99: 8435447425727 | Q99: CARTÓN | R99: 300 | S99: 28436031822209
A100: 05 | B100: ACCESORIOS ECO-PRESS | D100: ECPFAPE2058 | E100: 11000032 | F100: ADAP. PER CU 20-15/18 CU ECO-PRESS | G100: UNIDAD | H100: 1 | I100: 8436031827019 | J100: =VLOOKUP(E100,' TARIFA 26.4'!$D$3:$I$20004,6,FALSE) -> 4.27 | N100: CAJA | O100: 25 | P100: 8435447425734 | Q100: CARTÓN | R100: 300 | S100: 28436031827013
A101: 05 | B101: ACCESORIOS ECO-PRESS | C101: #VALUE! | D101: ECPFTSH1612RBF | E101: 11000098 | F101: TE SALIDA HEMBRA 16-1/2-16 BASE FIJACION REFORZADA | G101: UNIDAD | H101: 1 | I101: 8436031828214 | J101: =VLOOKUP(E101,' TARIFA 26.4'!$D$3:$I$20004,6,FALSE) -> 9.67 | N101: CAJA | O101: 25 | P101: 8435447425741 | Q101: CARTÓN | R101: 150 | S101: 28436031828218
A102: 05 | B102: ACCESORIOS ECO-PRESS | D102: ECPFTSH2012RBF | E102: 11000099 | F102: TE SALIDA HEMBRA 20-1/2-20 BASE FIJACION REFORZADA | G102: UNIDAD | H102: 1 | I102: 8436031828221 | J102: =VLOOKUP(E102,' TARIFA 26.4'!$D$3:$I$20004,6,FALSE) -> 10.61 | N102: CAJA | O102: 25 | P102: 8435447425758 | Q102: CARTÓN | R102: 150 | S102: 28436031828225
A103: 05 | B103: ACCESORIOS ECO-PRESS | D103: ECPFTSH2016RBF | E103: 11000100 | F103: TE SALIDA HEMBRA 20-1/2-16 BASE FIJACION REFORZADA | G103: UNIDAD | H103: 1 | I103: 8436031828238 | J103: =VLOOKUP(E103,' TARIFA 26.4'!$D$3:$I$20004,6,FALSE) -> 10.41 | N103: CAJA | O103: 25 | P103: 8435447425765 | Q103: CARTÓN | R103: 150 | S103: 28436031828232
...

Sheet 06.Casquillo Deslizante
A1: Texto en azul para artículos que estarán disponibles hasta final de existencias | E1: #VALUE!
A2: CÓDIGO FAMILIA | B2: DESCRIPCIÓN FAMILIA | C2: IMAGEN | D2: REFERENCIA ARTÍCULO | E2: CÓDIGO ARTÍCULO | F2: DESCRIPCIÓN ARTÍCULO | G2: UNIDAD MEDIDA INVENTARIO (U.M.I.) | H2: CANTIDAD U.M.I. | I2: EAN (CANTIDAD U.M.I.) | J2: PVP 26.4 (€/U.M.I.) | K2: UNIDAD VENTA 1 | L2: CANTIDAD U.V.1 | M2: EAN (U.V.1) | N2: UNIDAD VENTA 2 | O2: CANTIDAD U.V.2 | P2: EAN (U.V.2) | Q2: UNIDAD VENTA 3 | R2: CANTIDAD U.V.3 | S2: EAN (U.V.3)
A3: 06 | B3: CASQUILLO DESLIZANTE PEX | C3: #VALUE! | D3: RMV1612L | E3: 8000001 | F3: RACOR MOVIL 16-1/2" LARGO | G3: UNIDAD | H3: 1 | I3: 8436031822687 | J3: =VLOOKUP(E3,' TARIFA 26.4'!$D$3:$I$20004,6,FALSE) -> 5.55 | N3: CAJA | O3: 25 | P3: 8435447426182 | Q3: CARTÓN | R3: 225 | S3: 28436031822681
A4: 06 | B4: CASQUILLO DESLIZANTE PEX | D4: RMV2012L | E4: 8000002 | F4: RACOR MOVIL 20-1/2" LARGO | G4: UNIDAD | H4: 1 | I4: 8436031822694 | J4: =VLOOKUP(E4,' TARIFA 26.4'!$D$3:$I$20004,6,FALSE) -> 6.47 | N4: CAJA | O4: 25 | P4: 8435447426199 | Q4: CARTÓN | R4: 225 | S4: 28436031822698
A5: 06 | B5: CASQUILLO DESLIZANTE PEX | D5: RMV1638 | E5: 8000003 | F5: RACOR MOVIL 16-3/8" | G5: UNIDAD | H5: 1 | I5: 8436031820034 | J5: =VLOOKUP(E5,' TARIFA 26.4'!$D$3:$I$20004,6,FALSE) -> 4.18 | N5: CAJA | O5: 25 | P5: 8435447426205 | Q5: CARTÓN | R5: 300 | S5: 28436031820038
A6: 06 | B6: CASQUILLO DESLIZANTE PEX | D6: RMV1612 | E6: 8000004 | F6: RACOR MOVIL 16-1/2" | G6: UNIDAD | H6: 1 | I6: 8436031820041 | J6: =VLOOKUP(E6,' TARIFA 26.4'!$D$3:$I$20004,6,FALSE) -> 4.78 | N6: CAJA | O6: 25 | P6: 8435447426212 | Q6: CARTÓN | R6: 300 | S6: 28436031820045
A7: 06 | B7: CASQUILLO DESLIZANTE PEX | D7: RMV1634 | E7: 8000005 | F7: RACOR MOVIL 16-3/4" | G7: UNIDAD | H7: 1 | I7: 8436031820058 | J7: =VLOOKUP(E7,' TARIFA 26.4'!$D$3:$I$20004,6,FALSE) -> 6.85 | N7: CAJA | O7: 25 | P7: 8435447426229 | Q7: CARTÓN | R7: 300 | S7: 28436031820052
A8: 06 | B8: CASQUILLO DESLIZANTE PEX | D8: RMV2034 | E8: 8000007 | F8: RACOR MOVIL 20-3/4" | G8: UNIDAD | H8: 1 | I8: 8436031820072 | J8: =VLOOKUP(E8,' TARIFA 26.4'!$D$3:$I$20004,6,FALSE) -> 9.36 | N8: CAJA | O8: 25 | P8: 8435447426243 | Q8: CARTÓN | R8: 225 | S8: 28436031820076
A9: 06 | B9: CASQUILLO DESLIZANTE PEX | D9: RMV2534 | E9: 8000008 | F9: RACOR MOVIL 25-3/4" | G9: UNIDAD | H9: 1 | I9: 8436031820089 | J9: =VLOOKUP(E9,' TARIFA 26.4'!$D$3:$I$20004,6,FALSE) -> 10.65 | N9: CAJA | O9: 25 | P9: 8435447426250 | Q9: CARTÓN | R9: 225 | S9: 28436031820083
A10: 06 | B10: CASQUILLO DESLIZANTE PEX | D10: RMV251 | E10: 8000009 | F10: RACOR MOVIL 25-1" | G10: UNIDAD | H10: 1 | I10: 8436031822557 | J10: =VLOOKUP(E10,' TARIFA 26.4'!$D$3:$I$20004,6,FALSE) -> 12.55 | N10: CAJA | O10: 25 | P10: 8435447426267 | Q10: CARTÓN | R10: 225 | S10: 28436031822551
A11: 06 | B11: CASQUILLO DESLIZANTE PEX | D11: RMV321 | E11: 8000010 | F11: RACOR MOVIL 32-1" | G11: UNIDAD | H11: 1 | I11: 8436031820096 | J11: =VLOOKUP(E11,' TARIFA 26.4'!$D$3:$I$20004,6,FALSE) -> 17.51 | N11: CAJA | O11: 25 | P11: 8435447426274 | Q11: CARTÓN | R11: 150 | S11: 28436031820090
A12: 06 | B12: CASQUILLO DESLIZANTE PEX | C12: #VALUE! | D12: RFH1638 | E12: 8000012 | F12: RACOR FIJO HEMBRA 16-3/8" PER | G12: UNIDAD | H12: 1 | I12: 8436031820188 | J12: =VLOOKUP(E12,' TARIFA 26.4'!$D$3:$I$20004,6,FALSE) -> 4.93 | N12: CAJA | O12: 25 | P12: 8435447426281 | Q12: CARTÓN | R12: 300 | S12: 28436031820182
A13: 06 | B13: CASQUILLO DESLIZANTE PEX | D13: RFH1612 | E13: 8000013 | F13: RACOR FIJO HEMBRA 16-1/2" | G13: UNIDAD | H13: 1 | I13: 8436031820195 | J13: =VLOOKUP(E13,' TARIFA 26.4'!$D$3:$I$20004,6,FALSE) -> 4.88 | N13: CAJA | O13: 25 | P13: 8435447426298 | Q13: CARTÓN | R13: 300 | S13: 28436031820199
A14: 06 | B14: CASQUILLO DESLIZANTE PEX | D14: RFH2012 | E14: 8000014 | F14: RACOR FIJO HEMBRA 20-1/2" | G14: UNIDAD | H14: 1 | I14: 8436031820201 | J14: =VLOOKUP(E14,' TARIFA 26.4'!$D$3:$I$20004,6,FALSE) -> 5.7 | N14: CAJA | O14: 25 | P14: 8435447426304 | Q14: CARTÓN | R14: 300 | S14: 28436031820205
A15: 06 | B15: CASQUILLO DESLIZANTE PEX | D15: RFH2034 | E15: 8000015 | F15: RACOR FIJO HEMBRA 20-3/4" | G15: UNIDAD | H15: 1 | I15: 8436031820218 | J15: =VLOOKUP(E15,' TARIFA 26.4'!$D$3:$I$20004,6,FALSE) -> 7.22 | N15: CAJA | O15: 25 | P15: 8435447426311 | Q15: CARTÓN | R15: 225 | S15: 28436031820212
A16: 06 | B16: CASQUILLO DESLIZANTE PEX | D16: RFH2534 | E16: 8000016 | F16: RACOR FIJO HEMBRA 25-3/4" | G16: UNIDAD | H16: 1 | I16: 8436031820225 | J16: =VLOOKUP(E16,' TARIFA 26.4'!$D$3:$I$20004,6,FALSE) -> 9.07 | N16: CAJA | O16: 25 | P16: 8435447426328 | Q16: CARTÓN | R16: 225 | S16: 28436031820229
A17: 06 | B17: CASQUILLO DESLIZANTE PEX | D17: RFH251 | E17: 8000017 | F17: RACOR FIJO HEMBRA 25-1" | G17: UNIDAD | H17: 1 | I17: 8436031820232 | J17: =VLOOKUP(E17,' TARIFA 26.4'!$D$3:$I$20004,6,FALSE) -> 15.08 | N17: CAJA | O17: 25 | P17: 8435447426335 | Q17: CARTÓN | R17: 225 | S17: 28436031820236
A18: 06 | B18: CASQUILLO DESLIZANTE PEX | D18: RFH321 | E18: 8000018 | F18: RACOR FIJO HEMBRA 32-1" | G18: UNIDAD | H18: 1 | I18: 8436031820249 | J18: =VLOOKUP(E18,' TARIFA 26.4'!$D$3:$I$20004,6,FALSE) -> 18.5 | N18: CAJA | O18: 25 | P18: 8435447426342 | Q18: CARTÓN | R18: 150 | S18: 28436031820243
A19: 06 | B19: CASQUILLO DESLIZANTE PEX | C19: #VALUE! | D19: RFM1612 | E19: 8000020 | F19: RACOR FIJO MACHO 16-1/2" | G19: UNIDAD | H19: 1 | I19: 8436031820317 | J19: =VLOOKUP(E19,' TARIFA 26.4'!$D$3:$I$20004,6,FALSE) -> 5.1 | N19: CAJA | O19: 25 | P19: 8435447426359 | Q19: CARTÓN | R19: 300 | S19: 28436031820311
A20: 06 | B20: CASQUILLO DESLIZANTE PEX | D20: RFM1634 | E20: 8000021 | F20: RACOR FIJO MACHO 16-3/4" | G20: UNIDAD | H20: 1 | I20: 8436031820324 | J20: =VLOOKUP(E20,' TARIFA 26.4'!$D$3:$I$20004,6,FALSE) -> 6.7 | N20: CAJA | O20: 25 | P20: 8435447426366 | Q20: CARTÓN | R20: 300 | S20: 28436031820328
A21: 06 | B21: CASQUILLO DESLIZANTE PEX | D21: RFM2012 | E21: 8000022 | F21: RACOR FIJO MACHO 20-1/2" | G21: UNIDAD | H21: 1 | I21: 8436031820331 | J21: =VLOOKUP(E21,' TARIFA 26.4'!$D$3:$I$20004,6,FALSE) -> 5.17 | N21: CAJA | O21: 25 | P21: 8435447426373 | Q21: CARTÓN | R21: 300 | S21: 28436031820335
A22: 06 | B22: CASQUILLO DESLIZANTE PEX | D22: RFM2034 | E22: 8000023 | F22: RACOR FIJO MACHO 20-3/4" | G22: UNIDAD | H22: 1 | I22: 8436031820348 | J22: =VLOOKUP(E22,' TARIFA 26.4'!$D$3:$I$20004,6,FALSE) -> 6.85 | N22: CAJA | O22: 25 | P22: 8435447426380 | Q22: CARTÓN | R22: 225 | S22: 28436031820342
A23: 06 | B23: CASQUILLO DESLIZANTE PEX | D23: RFM2512 | E23: 8000024 | F23: RACOR FIJO MACHO 25-1/2" | G23: UNIDAD | H23: 1 | I23: 8436031820355 | J23: =VLOOKUP(E23,' TARIFA 26.4'!$D$3:$I$20004,6,FALSE) -> 8.75 | N23: CAJA | O23: 25 | P23: 8435447426397 | Q23: CARTÓN | R23: 225 | S23: 28436031820359
A24: 06 | B24: CASQUILLO DESLIZANTE PEX | D24: RFM2534 | E24: 8000025 | F24: RACOR FIJO MACHO 25-3/4" | G24: UNIDAD | H24: 1 | I24: 8436031820362 | J24: =VLOOKUP(E24,' TARIFA 26.4'!$D$3:$I$20004,6,FALSE) -> 9.5 | N24: CAJA | O24: 25 | P24: 8435447426403 | Q24: CARTÓN | R24: 225 | S24: 28436031820366
A25: 06 | B25: CASQUILLO DESLIZANTE PEX | D25: RFM321 | E25: 8000027 | F25: RACOR FIJO MACHO 32-1" | G25: UNIDAD | H25: 1 | I25: 8436031820386 | J25: =VLOOKUP(E25,' TARIFA 26.4'!$D$3:$I$20004,6,FALSE) -> 16 | N25: CAJA | O25: 25 | P25: 8435447426410 | Q25: CARTÓN | R25: 150 | S25: 28436031820380
A26: 06 | B26: CASQUILLO DESLIZANTE PEX | D26: RFM32114 | E26: 8000028 | F26: RACOR FIJO MACHO 32-1 1/4 | G26: UNIDAD | H26: 1 | I26: 8436031820393 | J26: =VLOOKUP(E26,' TARIFA 26.4'!$D$3:$I$20004,6,FALSE) -> 20.24 | N26: CAJA | O26: 25 | P26: 8435447426427 | Q26: CARTÓN | R26: 100 | S26: 28436031820397
A27: 06 | B27: CASQUILLO DESLIZANTE PEX | C27: #VALUE! | D27: MAU16 | E27: 8000029 | F27: MANGUITO UNION 16 | G27: UNIDAD | H27: 1 | I27: 8436031820447 | J27: =VLOOKUP(E27,' TARIFA 26.4'!$D$3:$I$20004,6,FALSE) -> 4.62 | N27: CAJA | O27: 25 | P27: 8435447426434 | Q27: CARTÓN | R27: 300 | S27: 28436031820441
A28: 06 | B28: CASQUILLO DESLIZANTE PEX | D28: MAU20 | E28: 8000030 | F28: MANGUITO UNION 20 | G28: UNIDAD | H28: 1 | I28: 8436031820454 | J28: =VLOOKUP(E28,' TARIFA 26.4'!$D$3:$I$20004,6,FALSE) -> 6.24 | N28: CAJA | O28: 25 | P28: 8435447426441 | Q28: CARTÓN | R28: 300 | S28: 28436031820458
A29: 06 | B29: CASQUILLO DESLIZANTE PEX | D29: MAU25 | E29: 8000031 | F29: MANGUITO UNION 25 | G29: UNIDAD | H29: 1 | I29: 8436031820461 | J29: =VLOOKUP(E29,' TARIFA 26.4'!$D$3:$I$20004,6,FALSE) -> 11.79 | N29: CAJA | O29: 25 | P29: 8435447426458 | Q29: CARTÓN | R29: 225 | S29: 28436031820465
A30: 06 | B30: CASQUILLO DESLIZANTE PEX | D30: MAU32 | E30: 8000032 | F30: MANGUITO UNION 32 | G30: UNIDAD | H30: 1 | I30: 8436031820478 | J30: =VLOOKUP(E30,' TARIFA 26.4'!$D$3:$I$20004,6,FALSE) -> 17.66 | N30: CAJA | O30: 25 | P30: 8435447426465 | Q30: CARTÓN | R30: 150 | S30: 28436031820472
A31: 06 | B31: CASQUILLO DESLIZANTE PEX | C31: #VALUE! | D31: MGR2016 | E31: 8000033 | F31: MANGUITO UNION REDUCIDO 20-16 | G31: UNIDAD | H31: 1 | I31: 8436031820539 | J31: =VLOOKUP(E31,' TARIFA 26.4'!$D$3:$I$20004,6,FALSE) -> 6.31 | N31: CAJA | O31: 25 | P31: 8435447426472 | Q31: CARTÓN | R31: 300 | S31: 28436031820533
A32: 06 | B32: CASQUILLO DESLIZANTE PEX | D32: MGR2516 | E32: 8000034 | F32: MANGUITO UNION REDUCIDO 25-16 | G32: UNIDAD | H32: 1 | I32: 8436031820546 | J32: =VLOOKUP(E32,' TARIFA 26.4'!$D$3:$I$20004,6,FALSE) -> 10.27 | N32: CAJA | O32: 25 | P32: 8435447426489 | Q32: CARTÓN | R32: 225 | S32: 28436031820540
A33: 06 | B33: CASQUILLO DESLIZANTE PEX | D33: MGR2520 | E33: 8000035 | F33: MANGUITO UNION REDUCIDO 25-20 | G33: UNIDAD | H33: 1 | I33: 8436031820553 | J33: =VLOOKUP(E33,' TARIFA 26.4'!$D$3:$I$20004,6,FALSE) -> 10.06 | N33: CAJA | O33: 25 | P33: 8435447426496 | Q33: CARTÓN | R33: 225 | S33: 28436031820557
A34: 06 | B34: CASQUILLO DESLIZANTE PEX | D34: MGR3225 | E34: 8000036 | F34: MANGUITO UNION REDUCIDO 32-25 | G34: UNIDAD | H34: 1 | I34: 8436031820560 | J34: =VLOOKUP(E34,' TARIFA 26.4'!$D$3:$I$20004,6,FALSE) -> 16.37 | N34: CAJA | O34: 25 | P34: 8435447426502 | Q34: CARTÓN | R34: 225 | S34: 28436031820564
A35: 06 | B35: CASQUILLO DESLIZANTE PEX | C35: #VALUE! | D35: APE162 | E35: 8000037 | F35: ADAPTADOR PER 16 CU 12 | G35: UNIDAD | H35: 1 | I35: 8436031820591 | J35: =VLOOKUP(E35,' TARIFA 26.4'!$D$3:$I$20004,6,FALSE) -> 4.62 | N35: CAJA | O35: 25 | P35: 8435447426519 | Q35: CARTÓN | R35: 300 | S35: 28436031820595
A36: 06 | B36: CASQUILLO DESLIZANTE PEX | D36: APE165 | E36: 8000038 | F36: ADAPTADOR PER 16 CU 15 | G36: UNIDAD | H36: 1 | I36: 8436031820614 | J36: =VLOOKUP(E36,' TARIFA 26.4'!$D$3:$I$20004,6,FALSE) -> 5.17 | N36: CAJA | O36: 25 | P36: 8435447426526 | Q36: CARTÓN | R36: 300 | S36: 28436031820618
A37: 06 | B37: CASQUILLO DESLIZANTE PEX | D37: APE1612 | E37: 8000039 | F37: ADAPTADOR PER 16 CU 12/15 | G37: UNIDAD | H37: 1 | I37: 8436031820638 | J37: =VLOOKUP(E37,' TARIFA 26.4'!$D$3:$I$20004,6,FALSE) -> 5.26 | N37: CAJA | O37: 25 | P37: 8435447426533 | Q37: CARTÓN | R37: 300 | S37: 28436031820632
A38: 06 | B38: CASQUILLO DESLIZANTE PEX | D38: APE205 | E38: 8000040 | F38: ADAPTADOR PER 20 CU 15 | G38: UNIDAD | H38: 1 | I38: 8436031820645 | J38: =VLOOKUP(E38,' TARIFA 26.4'!$D$3:$I$20004,6,FALSE) -> 5.94 | N38: CAJA | O38: 25 | P38: 8435447426540 | Q38: CARTÓN | R38: 300 | S38: 28436031820649
A39: 06 | B39: CASQUILLO DESLIZANTE PEX | D39: APE208 | E39: 8000041 | F39: ADAPTADOR PER 20 CU 18 | G39: UNIDAD | H39: 1 | I39: 8436031820669 | J39: =VLOOKUP(E39,' TARIFA 26.4'!$D$3:$I$20004,6,FALSE) -> 6.02 | N39: CAJA | O39: 25 | P39: 8435447426557 | Q39: CARTÓN | R39: 300 | S39: 28436031820663
A40: 06 | B40: CASQUILLO DESLIZANTE PEX | D40: APE2058 | E40: 8000042 | F40: ADAPTADOR PER 20 CU 15/18 | G40: UNIDAD | H40: 1 | I40: 8436031820676 | J40: =VLOOKUP(E40,' TARIFA 26.4'!$D$3:$I$20004,6,FALSE) -> 5.94 | N40: CAJA | O40: 25 | P40: 8435447426564 | Q40: CARTÓN | R40: 300 | S40: 28436031820670
A41: 06 | B41: CASQUILLO DESLIZANTE PEX | D41: APE2522 | E41: 8000044 | F41: ADAPTADOR PER 25 CU 22 | G41: UNIDAD | H41: 1 | I41: 8436031820690 | J41: =VLOOKUP(E41,' TARIFA 26.4'!$D$3:$I$20004,6,FALSE) -> 10.59 | N41: CAJA | O41: 25 | P41: 8435447426571 | Q41: CARTÓN | R41: 225 | S41: 28436031820694
A42: 06 | B42: CASQUILLO DESLIZANTE PEX | C42: #VALUE! | D42: CSA16 | E42: 8000161 | F42: CASQUILLO 16 MM. | G42: UNIDAD | H42: 1 | I42: 8436031820713 | J42: =VLOOKUP(E42,' TARIFA 26.4'!$D$3:$I$20004,6,FALSE) -> 1.37 | N42: CAJA | O42: 25 | P42: 8435447426588 | Q42: CARTÓN | R42: 300 | S42: 28436031820717
A43: 06 | B43: CASQUILLO DESLIZANTE PEX | D43: CSA20 | E43: 8000160 | F43: CASQUILLO 20 MM. | G43: UNIDAD | H43: 1 | I43: 8436031820720 | J43: =VLOOKUP(E43,' TARIFA 26.4'!$D$3:$I$20004,6,FALSE) -> 1.9 | N43: CAJA | O43: 25 | P43: 8435447426595 | Q43: CARTÓN | R43: 300 | S43: 28436031820724
A44: 06 | B44: CASQUILLO DESLIZANTE PEX | D44: CSA25 | E44: 8000159 | F44: CASQUILLO 25 MM. | G44: UNIDAD | H44: 1 | I44: 8436031820737 | J44: =VLOOKUP(E44,' TARIFA 26.4'!$D$3:$I$20004,6,FALSE) -> 2.97 | N44: CAJA | O44: 25 | P44: 8435447426601 | Q44: CARTÓN | R44: 300 | S44: 28436031820731
A45: 06 | B45: CASQUILLO DESLIZANTE PEX | D45: CSA32 | E45: 8000158 | F45: CASQUILLO 32 MM. | G45: UNIDAD | H45: 1 | I45: 8436031820744 | J45: =VLOOKUP(E45,' TARIFA 26.4'!$D$3:$I$20004,6,FALSE) -> 5.17 | N45: CAJA | O45: 25 | P45: 8435447426618 | Q45: CARTÓN | R45: 225 | S45: 28436031820748
A46: 06 | B46: CASQUILLO DESLIZANTE PEX | C46: #VALUE! | D46: CDO16 | E46: 8000045 | F46: CODO IGUAL 16 | G46: UNIDAD | H46: 1 | I46: 8436031820799 | J46: =VLOOKUP(E46,' TARIFA 26.4'!$D$3:$I$20004,6,FALSE) -> 6.21 | N46: CAJA | O46: 25 | P46: 8435447426625 | Q46: CARTÓN | R46: 300 | S46: 28436031820793
A47: 06 | B47: CASQUILLO DESLIZANTE PEX | D47: CDO20 | E47: 8000046 | F47: CODO IGUAL 20 | G47: UNIDAD | H47: 1 | I47: 8436031820805 | J47: =VLOOKUP(E47,' TARIFA 26.4'!$D$3:$I$20004,6,FALSE) -> 8.45 | N47: CAJA | O47: 25 | P47: 8435447426632 | Q47: CARTÓN | R47: 225 | S47: 28436031820809
A48: 06 | B48: CASQUILLO DESLIZANTE PEX | D48: CDO25 | E48: 8000047 | F48: CODO IGUAL 25 | G48: UNIDAD | H48: 1 | I48: 8436031820812 | J48: =VLOOKUP(E48,' TARIFA 26.4'!$D$3:$I$20004,6,FALSE) -> 14.78 | N48: CAJA | O48: 25 | P48: 8435447426649 | Q48: CARTÓN | R48: 150 | S48: 28436031820816
A49: 06 | B49: CASQUILLO DESLIZANTE PEX | D49: CDO32 | E49: 8000048 | F49: CODO IGUAL 32 | G49: UNIDAD | H49: 1 | I49: 8436031820829 | J49: =VLOOKUP(E49,' TARIFA 26.4'!$D$3:$I$20004,6,FALSE) -> 25.51 | N49: CAJA | O49: 25 | P49: 8435447426656 | Q49: CARTÓN | R49: 100 | S49: 28436031820823
A50: 06 | B50: CASQUILLO DESLIZANTE PEX | C50: #VALUE! | D50: COT1638 | E50: 8000049 | F50: CODO TERMINAL 16-3/8" PER | G50: UNIDAD | H50: 1 | I50: 8436031820867 | J50: =VLOOKUP(E50,' TARIFA 26.4'!$D$3:$I$20004,6,FALSE) -> 7.22 | N50: CAJA | O50: 25 | P50: 8435447426663 | Q50: CARTÓN | R50: 300 | S50: 28436031820861
A51: 06 | B51: CASQUILLO DESLIZANTE PEX | D51: COT1612 | E51: 8000050 | F51: CODO TERMINAL 16-1/2" PER | G51: UNIDAD | H51: 1 | I51: 8436031820874 | J51: =VLOOKUP(E51,' TARIFA 26.4'!$D$3:$I$20004,6,FALSE) -> 6.02 | N51: CAJA | O51: 25 | P51: 8435447426670 | Q51: CARTÓN | R51: 300 | S51: 28436031820878
A52: 06 | B52: CASQUILLO DESLIZANTE PEX | D52: COT1612R | E52: 8000152 | F52: CODO TERMINAL 16-1/2" REFORZADO PER | G52: UNIDAD | H52: 1 | I52: 8436031820928 | J52: =VLOOKUP(E52,' TARIFA 26.4'!$D$3:$I$20004,6,FALSE) -> 7.01 | N52: CAJA | O52: 25 | P52: 8435447426687 | Q52: CARTÓN | R52: 300 | S52: 28436031820922
A53: 06 | B53: CASQUILLO DESLIZANTE PEX | D53: COT2012 | E53: 8000052 | F53: CODO TERMINAL 20-1/2" PER | G53: UNIDAD | H53: 1 | I53: 8436031820881 | J53: =VLOOKUP(E53,' TARIFA 26.4'!$D$3:$I$20004,6,FALSE) -> 7.39 | N53: CAJA | O53: 25 | P53: 8435447426694 | Q53: CARTÓN | R53: 225 | S53: 28436031820885
A54: 06 | B54: CASQUILLO DESLIZANTE PEX | D54: COT2012R | E54: 8000153 | F54: CODO TERMINAL 20-1/2" REFORZADO PER | G54: UNIDAD | H54: 1 | I54: 8436031820935 | J54: =VLOOKUP(E54,' TARIFA 26.4'!$D$3:$I$20004,6,FALSE) -> 7.82 | N54: CAJA | O54: 25 | P54: 8435447426700 | Q54: CARTÓN | R54: 225 | S54: 28436031820939
A55: 06 | B55: CASQUILLO DESLIZANTE PEX | D55: COT2034 | E55: 8000054 | F55: CODO TERMINAL 20-3/4" PER | G55: UNIDAD | H55: 1 | I55: 8436031820898 | J55: =VLOOKUP(E55,' TARIFA 26.4'!$D$3:$I$20004,6,FALSE) -> 10.43 | N55: CAJA | O55: 25 | P55: 8435447426717 | Q55: CARTÓN | R55: 225 | S55: 28436031820892
A56: 06 | B56: CASQUILLO DESLIZANTE PEX | D56: COT2534 | E56: 8000055 | F56: CODO TERMINAL 25-3/4" PER | G56: UNIDAD | H56: 1 | I56: 8436031820904 | J56: =VLOOKUP(E56,' TARIFA 26.4'!$D$3:$I$20004,6,FALSE) -> 14.32 | N56: CAJA | O56: 25 | P56: 8435447426724 | Q56: CARTÓN | R56: 150 | S56: 28436031820908
A57: 06 | B57: CASQUILLO DESLIZANTE PEX | D57: COT321 | E57: 8000056 | F57: CODO TERMINAL 32-1" PER | G57: UNIDAD | H57: 1 | I57: 8436031820911 | J57: =VLOOKUP(E57,' TARIFA 26.4'!$D$3:$I$20004,6,FALSE) -> 22.38 | N57: CAJA | O57: 25 | P57: 8435447426731 | Q57: CARTÓN | R57: 100 | S57: 28436031820915
A58: 06 | B58: CASQUILLO DESLIZANTE PEX | C58: #VALUE! | D58: COT1612RL | E58: 8000051 | F58: CODO TERMINAL 16-1/2" REFORZADO LARGO PER | G58: UNIDAD | H58: 1 | I58: 8436031820942 | J58: =VLOOKUP(E58,' TARIFA 26.4'!$D$3:$I$20004,6,FALSE) -> 9.07 | N58: CAJA | O58: 25 | P58: 8435447426748 | Q58: CARTÓN | R58: 225 | S58: 28436031820946
A59: 06 | B59: CASQUILLO DESLIZANTE PEX | D59: COT2012RL | E59: 8000053 | F59: CODO TERMINAL 20-1/2" REFORZADO LARGO PER | G59: UNIDAD | H59: 1 | I59: 8436031820959 | J59: =VLOOKUP(E59,' TARIFA 26.4'!$D$3:$I$20004,6,FALSE) -> 9.36 | N59: CAJA | O59: 25 | P59: 8435447426755 | Q59: CARTÓN | R59: 225 | S59: 28436031820953
A60: 06 | B60: CASQUILLO DESLIZANTE PEX | C60: #VALUE! | D60: CRM1612 | E60: 8000058 | F60: CODO ROSCA MACHO 16-1/2" | G60: UNIDAD | H60: 1 | I60: 8436031821123 | J60: =VLOOKUP(E60,' TARIFA 26.4'!$D$3:$I$20004,6,FALSE) -> 7.31 | N60: CAJA | O60: 25 | P60: 8435447426762 | Q60: CARTÓN | R60: 300 | S60: 28436031821127
A61: 06 | B61: CASQUILLO DESLIZANTE PEX | D61: CRM2012 | E61: 8000059 | F61: CODO ROSCA MACHO 20-1/2" | G61: UNIDAD | H61: 1 | I61: 8436031821130 | J61: =VLOOKUP(E61,' TARIFA 26.4'!$D$3:$I$20004,6,FALSE) -> 7.93 | N61: CAJA | O61: 25 | P61: 8435447426779 | Q61: CARTÓN | R61: 300 | S61: 28436031821134
A62: 06 | B62: CASQUILLO DESLIZANTE PEX | D62: CRM2534 | E62: 8000060 | F62: CODO ROSCA MACHO 25-3/4" | G62: UNIDAD | H62: 1 | I62: 8436031821147 | J62: =VLOOKUP(E62,' TARIFA 26.4'!$D$3:$I$20004,6,FALSE) -> 14.32 | N62: CAJA | O62: 25 | P62: 8435447426786 | Q62: CARTÓN | R62: 225 | S62: 28436031821141
A63: 06 | B63: CASQUILLO DESLIZANTE PEX | D63: CRM321 | E63: 8000061 | F63: CODO ROSCA MACHO 32-1" PER | G63: UNIDAD | H63: 1 | I63: 8436031821154 | J63: =VLOOKUP(E63,' TARIFA 26.4'!$D$3:$I$20004,6,FALSE) -> 22.38 | N63: CAJA | O63: 25 | P63: 8435447426793 | Q63: CARTÓN | R63: 100 | S63: 28436031821158
A64: 06 | B64: CASQUILLO DESLIZANTE PEX | C64: #VALUE! | D64: CCC1612 | E64: 8000062 | F64: CODO BASE FIJACION 16-1/2" | G64: UNIDAD | H64: 1 | I64: 8436031820973 | J64: =VLOOKUP(E64,' TARIFA 26.4'!$D$3:$I$20004,6,FALSE) -> 8.75 | N64: CAJA | O64: 25 | P64: 8435447426809 | Q64: CARTÓN | R64: 225 | S64: 28436031820977
A65: 06 | B65: CASQUILLO DESLIZANTE PEX | D65: CCC1612R | E65: 8000154 | F65: CODO B/F 16-1/2" REFORZADO PER | G65: UNIDAD | H65: 1 | I65: 8436031821000 | J65: =VLOOKUP(E65,' TARIFA 26.4'!$D$3:$I$20004,6,FALSE) -> 9.29 | N65: CAJA | O65: 25 | P65: 8435447426816 | Q65: CARTÓN | R65: 225 | S65: 28436031821004
A66: 06 | B66: CASQUILLO DESLIZANTE PEX | D66: CCC2012 | E66: 8000063 | F66: CODO BASE FIJACION 20-1/2" | G66: UNIDAD | H66: 1 | I66: 8436031820980 | J66: =VLOOKUP(E66,' TARIFA 26.4'!$D$3:$I$20004,6,FALSE) -> 9.36 | N66: CAJA | O66: 25 | P66: 8435447426823 | Q66: CARTÓN | R66: 225 | S66: 28436031820984
A67: 06 | B67: CASQUILLO DESLIZANTE PEX | D67: CCC2012R | E67: 8000155 | F67: CODO B/F 20-1/2" REFORZADO PER | G67: UNIDAD | H67: 1 | I67: 8436031821017 | J67: =VLOOKUP(E67,' TARIFA 26.4'!$D$3:$I$20004,6,FALSE) -> 10.35 | N67: CAJA | O67: 25 | P67: 8435447426830 | Q67: CARTÓN | R67: 225 | S67: 28436031821011
A68: 06 | B68: CASQUILLO DESLIZANTE PEX | D68: CCC2534 | E68: 8000064 | F68: CODO B/F 25-3/4" PER | G68: UNIDAD | H68: 1 | I68: 8436031820997 | J68: =VLOOKUP(E68,' TARIFA 26.4'!$D$3:$I$20004,6,FALSE) -> 17.82 | N68: CAJA | O68: 25 | P68: 8435447426847 | Q68: CARTÓN | R68: 150 | S68: 28436031820991
A69: 06 | B69: CASQUILLO DESLIZANTE PEX | C69: #VALUE! | D69: CCC1612RL | E69: 8000065 | F69: CODO B/F 16-1/2" REFORZADO LARGO PER | G69: UNIDAD | H69: 1 | I69: 8436031821024 | J69: =VLOOKUP(E69,' TARIFA 26.4'!$D$3:$I$20004,6,FALSE) -> 11.2 | N69: CAJA | O69: 25 | P69: 8435447426854 | Q69: CARTÓN | R69: 225 | S69: 28436031821028
A70: 06 | B70: CASQUILLO DESLIZANTE PEX | D70: CCC2012RL | E70: 8000066 | F70: CODO B/F 20-1/2" REFORZADO LARGO PER | G70: UNIDAD | H70: 1 | I70: 8436031821031 | J70: =VLOOKUP(E70,' TARIFA 26.4'!$D$3:$I$20004,6,FALSE) -> 11.58 | N70: CAJA | O70: 25 | P70: 8435447426861 | Q70: CARTÓN | R70: 225 | S70: 28436031821035
A71: 06 | B71: CASQUILLO DESLIZANTE PEX | C71: #VALUE! | D71: CTR1615 | E71: 8000067 | F71: CODO TRANSICION A RADIADOR 16-CU15 L=250mm. | G71: UNIDAD | H71: 1 | I71: 8436031821284 | J71: =VLOOKUP(E71,' TARIFA 26.4'!$D$3:$I$20004,6,FALSE) -> 25.13 | N71: BOLSA | O71: 10 | P71: 8435447426878 | Q71: CARTÓN | R71: 120 | S71: 28436031821288
A72: 06 | B72: CASQUILLO DESLIZANTE PEX | C72: #VALUE! | D72: CEX1612 | E72: 8000068 | F72: CODO EXTRAIBLE 16-1/2 | G72: UNIDAD | H72: 1 | I72: 8436031821307 | J72: =VLOOKUP(E72,' TARIFA 26.4'!$D$3:$I$20004,6,FALSE) -> 13.72 | N72: CAJA | O72: 14 | P72: 8435447426885 | Q72: CARTÓN | R72: 56 | S72: 28436031821301
A73: 06 | B73: CASQUILLO DESLIZANTE PEX | D73: CEX2012 | E73: 8000069 | F73: CODO EXTRAIBLE 20-1/2 | G73: UNIDAD | H73: 1 | I73: 8436031821314 | J73: =VLOOKUP(E73,' TARIFA 26.4'!$D$3:$I$20004,6,FALSE) -> 17.51 | N73: CAJA | O73: 14 | P73: 8435447426892 | Q73: CARTÓN | R73: 56 | S73: 28436031821318
A74: 06 | B74: CASQUILLO DESLIZANTE PEX | C74: #VALUE! | D74: DIS2520163 | E74: 8000089 | F74: DISTRIBUIDOR 25-20-16-16-16 | G74: UNIDAD | H74: 1 | I74: 8436031821956 | J74: =VLOOKUP(E74,' TARIFA 26.4'!$D$3:$I$20004,6,FALSE) -> 28.18 | N74: CAJA | O74: 20 | P74: 8435447426908 | Q74: CARTÓN | R74: 80 | S74: 28436031821950
A75: 06 | B75: CASQUILLO DESLIZANTE PEX | D75: DIS2020163 | E75: 8000088 | F75: DISTRIBUIDOR 20-20-16-16-16 | G75: UNIDAD | H75: 1 | I75: 8436031821963 | J75: =VLOOKUP(E75,' TARIFA 26.4'!$D$3:$I$20004,6,FALSE) -> 25.13 | N75: CAJA | O75: 20 | P75: 8435447426915 | Q75: CARTÓN | R75: 80 | S75: 28436031821967
A76: 06 | B76: CASQUILLO DESLIZANTE PEX | D76: DIS2520162 | E76: 8000087 | F76: DISTRIBUIDOR 25-20-16-16 | G76: UNIDAD | H76: 1 | I76: 8436031821970 | J76: =VLOOKUP(E76,' TARIFA 26.4'!$D$3:$I$20004,6,FALSE) -> 24.97 | N76: CAJA | O76: 25 | P76: 8435447426922 | Q76: CARTÓN | R76: 100 | S76: 28436031821974
A77: 06 | B77: CASQUILLO DESLIZANTE PEX | D77: DIS2020162 | E77: 8000086 | F77: DISTRIBUIDOR 20-20-16-16 | G77: UNIDAD | H77: 1 | I77: 8436031821987 | J77: =VLOOKUP(E77,' TARIFA 26.4'!$D$3:$I$20004,6,FALSE) -> 24.03 | N77: CAJA | O77: 25 | P77: 8435447426939 | Q77: CARTÓN | R77: 100 | S77: 28436031821981
A78: 06 | B78: CASQUILLO DESLIZANTE PEX | C78: #VALUE! | D78: CR20201616 | E78: 8000081 | F78: CRUZ 20-20-16-16 | G78: UNIDAD | H78: 1 | I78: 8436031822014 | J78: =VLOOKUP(E78,' TARIFA 26.4'!$D$3:$I$20004,6,FALSE) -> 19.05 | N78: CAJA | O78: 25 | P78: 8435447426946 | Q78: CARTÓN | R78: 100 | S78: 28436031822018
A79: 06 | B79: CASQUILLO DESLIZANTE PEX | D79: CR25201616 | E79: 8000082 | F79: CRUZ 25-20-16-16 | G79: UNIDAD | H79: 1 | I79: 8436031822021 | J79: =VLOOKUP(E79,' TARIFA 26.4'!$D$3:$I$20004,6,FALSE) -> 20.17 | N79: CAJA | O79: 25 | P79: 8435447426953 | Q79: CARTÓN | R79: 100 | S79: 28436031822025
A80: 06 | B80: CASQUILLO DESLIZANTE PEX | D80: CR25202020 | E80: 8000083 | F80: CRUZ 25-20-20-20 | G80: UNIDAD | H80: 1 | I80: 8436031822038 | J80: =VLOOKUP(E80,' TARIFA 26.4'!$D$3:$I$20004,6,FALSE) -> 20.49 | N80: CAJA | O80: 25 | P80: 8435447426960 | Q80: CARTÓN | R80: 100 | S80: 28436031822032
A81: 06 | B81: CASQUILLO DESLIZANTE PEX | D81: CR20162016 | E81: 8000084 | F81: CRUZ 20-16-20-16 | G81: UNIDAD | H81: 1 | I81: 8436031822045 | J81: =VLOOKUP(E81,' TARIFA 26.4'!$D$3:$I$20004,6,FALSE) -> 19.05 | N81: CAJA | O81: 25 | P81: 8435447426977 | Q81: CARTÓN | R81: 100 | S81: 28436031822049
A82: 06 | B82: CASQUILLO DESLIZANTE PEX | D82: CR25162016 | E82: 8000085 | F82: CRUZ 25-16-20-16 | G82: UNIDAD | H82: 1 | I82: 8436031822052 | J82: =VLOOKUP(E82,' TARIFA 26.4'!$D$3:$I$20004,6,FALSE) -> 20.17 | N82: CAJA | O82: 25 | P82: 8435447426984 | Q82: CARTÓN | R82: 100 | S82: 28436031822056
A83: 06 | B83: CASQUILLO DESLIZANTE PEX | C83: #VALUE! | D83: CPC1612 | E83: 8000076 | F83: CODO PEX-COBRE 16-12 | G83: UNIDAD | H83: 1 | I83: 8436031821208 | J83: =VLOOKUP(E83,' TARIFA 26.4'!$D$3:$I$20004,6,FALSE) -> 6.78 | N83: CAJA | O83: 25 | P83: 8435447426991 | Q83: CARTÓN | R83: 300 | S83: 28436031821202
